Workbook

Sheet Prediction
J1: Version 1.00 | K1: Stoaty Marmot
E2: Fractional Year / Total Miles Prediction
Q3: =VLOOKUP(F13,'End of Life'!H8:I257,2,1) -> #N/A
I4: Corrected | J4: Solar Loading | K4: Calendar Plus | L4: Predicted | M4: Remaining | N4: Full Charge | O4: 80% Charge | P4: 80% Charge
G5: Calendar Loss | H5: Cycling Loss | I5: Cycling Loss | J5: Loss | K5: Cycling Loss | L5: Total Loss | M5: % Capacity | N5: Gids | O5: % Gids | P5: Gids
A6: City | B6: Van Nuys, CA
E7: Battery Age (years) | F7: =(B16-B12)/365 -> 2.5123288 | G7: =($O$9*Calibration!$B$49*SQRT(F7))-((0.32989795*F7)-1.302) -> 11.255568 | H7: =Calibration!$B$50*$O$9*($F$11/12500)*('Degradation Model'!$B$26/$B$8) -> 2.8377685 | I7: =IF(F9<1,H7,(VLOOKUP(INT(F9)+1,$A$42:$L$56,4,1)-VLOOKUP(INT(F9),$A$42:$L$56,4,1))*(F9-INT(F9))+VLOOKUP(INT(F9),$A$42:$L$56,4,1)) -> 3.0509219 | J7: =(($O$10-1)*K7*$B$10/7) -> 1.5159573 | K7: =G7+I7 -> 14.30649 | L7: =K7+J7 -> 15.822448 | M7: =100-L7 -> 84.177552 | N7: =281*M7/100 -> 236.53892 | O7: =P7/281*100 -> 69.498904 | P7: =M7*232/100 -> 195.29192
A8: Miles/kwh | B8: 5.6
E9: Years in Service | F9: =(B16-B14)/365 -> 2.3534247 | N9: Prediction Tab Aging Factor | O9: =VLOOKUP(Prediction!B6,'Aging Factor'!A145:G242,5,1) -> 0.98588743
A10: Days/week in Sun | B10: 4 | H10: Note: fractional years will be less | K10: Actual Loss | L10: =(B22-B20)/B22*100 -> 15.230189 | N10: Prediction Tab Solar Loading | O10: =VLOOKUP(Prediction!B6,'Aging Factor'!A145:H242,8,1) -> 1.1854351
E11: Total Mileage | F11: 21540 | H11: Accurate due to seasonal effects
A12: Manufacture Date | B12: 40648 | H12: on aging factors | K12: Actual Minus | L12: =L10-L7 -> -0.59225899 | O12: Fractional Year
K13: Predicted
A14: Date of Delivery | B14: 40706
F15: End of Life | G15: Service Years | H15: Miles at | I15: Qualify for | K15: Actual Percent | L15: =L10/L7*100 -> 96.256843 | O15: Calendar Loss | P15: Corrected Cycling Loss | Q15: Solar Loading Loss
A16: Date of Reading | B16: 41565 | E16: End of Life Percent | F16: Years | G16: Remaining | H16: End of Life | I16: Warranty? | K16: of Predicted | N16: Relative Loss | O16: =O17/(SUM($O$17:$Q$17)) -> 0.71136708 | P16: =P17/(SUM($O$17:$Q$17)) -> 0.19282237 | Q16: =Q17/(SUM($O$17:$Q$17)) -> 0.095810544
N17: Absolute Loss | O17: =G7/100 -> 0.11255568 | P17: =I7/100 -> 0.030509219 | Q17: =J7/100 -> 0.015159573
A18: Annual Mileage | B18: =F11/((B16-B14)/365) -> 9152.6193 | E18: 90 | F18: =IF($L$7>100-E18,$F$9,VLOOKUP(E18,'End of Life'!$H$8:$I$257,2,1)) -> 2.3534247 | G18: =F18-$F$9 -> 0 | H18: =F18*$B$18 -> 21540
E19: 85 | F19: =IF($L$7>100-E19,$F$9,VLOOKUP(E19,'End of Life'!$H$8:$I$257,2,1)) -> 2.3534247 | G19: =F19-$F$9 -> 0 | H19: =F19*$B$18 -> 21540
A20: Actual Capacity (AH) | B20: 56.16 | E20: 80 | F20: =IF($L$7>100-E20,$F$9,VLOOKUP(E20,'End of Life'!$H$8:$I$257,2,1)) -> 3.6 | G20: =F20-$F$9 -> 1.2465753 | H20: =F20*$B$18 -> 32949.43
E21: 75 | F21: =IF($L$7>100-E21,$F$9,VLOOKUP(E21,'End of Life'!$H$8:$I$257,2,1)) -> 5.2 | G21: =F21-$F$9 -> 2.8465753 | H21: =F21*$B$18 -> 47593.62
A22: Capacity When New | B22: 66.25 | E22: 70 | F22: =IF($L$7>100-E22,$F$9,VLOOKUP(E22,'End of Life'!$H$8:$I$257,2,1)) -> 6.9 | G22: =F22-$F$9 -> 4.5465753 | H22: =F22*$B$18 -> 63153.073 | I22: =IF(AND(F22<=5,H22<60000),"Yes","No") -> No
E23: 65 | F23: =IF($L$7>100-E23,$F$9,VLOOKUP(E23,'End of Life'!$H$8:$I$257,2,1)) -> 8.5 | G23: =F23-$F$9 -> 6.1465753 | H23: =F23*$B$18 -> 77797.264 | I23: =IF(AND(F23<=5,H23<60000),"Yes","No") -> No
E24: 60 | F24: =IF($L$7>100-E24,$F$9,VLOOKUP(E24,'End of Life'!$H$8:$I$257,2,1)) -> 10.2 | G24: =F24-$F$9 -> 7.8465753 | H24: =F24*$B$18 -> 93356.717
E25: 55 | F25: =IF($L$7>100-E25,$F$9,VLOOKUP(E25,'End of Life'!$H$8:$I$257,2,1)) -> 11.8 | G25: =F25-$F$9 -> 9.4465753 | H25: =F25*$B$18 -> 108000.91
E26: 50 | F26: =IF($L$7>100-E26,$F$9,VLOOKUP(E26,'End of Life'!$H$8:$I$257,2,1)) -> 13.4 | G26: =F26-$F$9 -> 11.046575 | H26: =F26*$B$18 -> 122645.1
E29: Remaining | F29: Actual | G29: Predicted | H29: Actual – Predicted
E30: Capacity | F30: % Gids | G30: % Gids | H30: % Gids
E32: Full Charge | F32: =237/281*100 -> 84.341637 | G32: =M7 -> 84.177552 | H32: =+F32-M7 -> 0.16408468
E34: 80% Charge | F34: =197/281*100 -> 70.106762 | G34: =O7 -> 69.498904 | H34: =+F34-O7 -> 0.60785715
A37: Yearly Prediction
B39: Percent | C39: Percent | D39: Corrected | E39: Solar Loading | F39: Calendar Plus | G39: Percent | H39: Year to Year | I39: Remaining | J39: Full Charge | K39: 80% Charge | L39: 80% Charge
A40: Year | B40: Calendar Loss | C40: Cycling Loss | D40: Cycling Loss | E40: Loss | F40: Cycling Loss | G40: Total Loss | H40: Increment Loss | I40: Capacity | J40: Gids | K40: % Gids | L40: Gids
A42: 1 | B42: =($O$9*SQRT(A42+$F$7-$F$9)*Calibration!$B$49)-((0.32989795*(A42+$F$7-$F$9))-1.302) -> 8.2428677 | C42: =A42*Calibration!$B$50*$O$9*($B$18/12500)*('Degradation Model'!$B$26/$B$8) -> 1.2058039 | D42: =C42 -> 1.2058039 | E42: =(($O$10-1)*F42*$B$10/7) -> 1.0012087 | F42: =B42+D42 -> 9.4486716 | G42: =F42+E42 -> 10.44988 | H42: =G42 -> 10.44988 | I42: =IF(100-G42<5,5,100-G42) -> 89.55012 | J42: =IF(281*I42/100>0,281*I42/100,0) -> 251.63584 | K42: =IF(L42/281*100>0,L42/281*100,0) -> 73.934618 | L42: =IF(I42*232/100>0,I42*232/100,0) -> 207.75628
A43: =A42+1 -> 2 | B43: =($O$9*SQRT(A43+$F$7-$F$9)*Calibration!$B$49)-((0.32989795*(A43+$F$7-$F$9))-1.302) -> 10.585019 | C43: =A43*Calibration!$B$50*$O$9*($B$18/12500)*('Degradation Model'!$B$26/$B$8) -> 2.4116077 | D43: =D42+($C$42*100/I42) -> 2.5523167 | E43: =(($O$10-1)*F43*$B$10/7) -> 1.3920703 | F43: =B43+D43 -> 13.137336 | G43: =F43+E43 -> 14.529406 | H43: =G43-G42 -> 4.0795257 | I43: =IF(100-G43<5,5,100-G43) -> 85.470594 | J43: =IF(281*I43/100>0,281*I43/100,0) -> 240.17237 | K43: =IF(L43/281*100>0,L43/281*100,0) -> 70.566469 | L43: =IF(I43*232/100>0,I43*232/100,0) -> 198.29178 | O43: End of Life 70%
A44: =A43+1 -> 3 | B44: =($O$9*SQRT(A44+$F$7-$F$9)*Calibration!$B$49)-((0.32989795*(A44+$F$7-$F$9))-1.302) -> 12.350395 | C44: =A44*Calibration!$B$50*$O$9*($B$18/12500)*('Degradation Model'!$B$26/$B$8) -> 3.6174116 | D44: =D43+($C$42*100/I43) -> 3.9630988 | E44: =(($O$10-1)*F44*$B$10/7) -> 1.7286252 | F44: =B44+D44 -> 16.313493 | G44: =F44+E44 -> 18.042119 | H44: =G44-G43 -> 3.5127127 | I44: =IF(100-G44<5,5,100-G44) -> 81.957881 | J44: =IF(281*I44/100>0,281*I44/100,0) -> 230.30165 | K44: =IF(L44/281*100>0,L44/281*100,0) -> 67.666294 | L44: =IF(I44*232/100>0,I44*232/100,0) -> 190.14228
A45: =A44+1 -> 4 | B45: =($O$9*SQRT(A45+$F$7-$F$9)*Calibration!$B$49)-((0.32989795*(A45+$F$7-$F$9))-1.302) -> 13.802842 | C45: =A45*Calibration!$B$50*$O$9*($B$18/12500)*('Degradation Model'!$B$26/$B$8) -> 4.8232155 | D45: =D44+($C$42*100/I44) -> 5.4343471 | E45: =(($O$10-1)*F45*$B$10/7) -> 2.0384285 | F45: =B45+D45 -> 19.237189 | G45: =F45+E45 -> 21.275617 | H45: =G45-G44 -> 3.2334988 | I45: =IF(100-G45<5,5,100-G45) -> 78.724383 | J45: =IF(281*I45/100>0,281*I45/100,0) -> 221.21551 | K45: =IF(L45/281*100>0,L45/281*100,0) -> 64.996643 | L45: =IF(I45*232/100>0,I45*232/100,0) -> 182.64057 | O45: Calendar Loss | P45: Corrected Cycling Loss | Q45: Solar Loading Loss
A46: =A45+1 -> 5 | B46: =($O$9*SQRT(A46+$F$7-$F$9)*Calibration!$B$49)-((0.32989795*(A46+$F$7-$F$9))-1.302) -> 15.051037 | C46: =A46*Calibration!$B$50*$O$9*($B$18/12500)*('Degradation Model'!$B$26/$B$8) -> 6.0290193 | D46: =D45+($C$42*100/I45) -> 6.9660248 | E46: =(($O$10-1)*F46*$B$10/7) -> 2.3329919 | F46: =B46+D46 -> 22.017062 | G46: =F46+E46 -> 24.350053 | H46: =G46-G45 -> 3.074436 | I46: =IF(100-G46<5,5,100-G46) -> 75.649947 | J46: =IF(281*I46/100>0,281*I46/100,0) -> 212.57635 | K46: =IF(L46/281*100>0,L46/281*100,0) -> 62.458319 | L46: =IF(I46*232/100>0,I46*232/100,0) -> 175.50788 | N46: Relative Loss | O46: =O47/(SUM($O$47:$Q$47)) -> 0.5628823 | P46: =P47/(SUM($O$47:$Q$47)) -> 0.34130716 | Q46: =Q47/(SUM($O$47:$Q$47)) -> 0.095810544
A47: =A46+1 -> 6 | B47: =($O$9*SQRT(A47+$F$7-$F$9)*Calibration!$B$49)-((0.32989795*(A47+$F$7-$F$9))-1.302) -> 16.152355 | C47: =A47*Calibration!$B$50*$O$9*($B$18/12500)*('Degradation Model'!$B$26/$B$8) -> 7.2348232 | D47: =D46+($C$42*100/I46) -> 8.5599504 | E47: =(($O$10-1)*F47*$B$10/7) -> 2.6185878 | F47: =B47+D47 -> 24.712306 | G47: =F47+E47 -> 27.330893 | H47: =G47-G46 -> 2.98084 | I47: =IF(100-G47<5,5,100-G47) -> 72.669107 | J47: =IF(281*I47/100>0,281*I47/100,0) -> 204.20019 | K47: =IF(L47/281*100>0,L47/281*100,0) -> 59.99727 | L47: =IF(I47*232/100>0,I47*232/100,0) -> 168.59233 | N47: Absolute Loss | O47: =VLOOKUP($F$22,'End of Life'!$A$8:$I$257,2,0)/100 -> 0.17046898 | P47: =VLOOKUP($F$22,'End of Life'!$A$8:$I$257,4,0)/100 -> 0.10336492 | Q47: =VLOOKUP($F$22,'End of Life'!$A$8:$I$257,5,0)/100 -> 0.029016237
A48: =A47+1 -> 7 | B48: =($O$9*SQRT(A48+$F$7-$F$9)*Calibration!$B$49)-((0.32989795*(A48+$F$7-$F$9))-1.302) -> 17.141478 | C48: =A48*Calibration!$B$50*$O$9*($B$18/12500)*('Degradation Model'!$B$26/$B$8) -> 8.4406271 | D48: =D47+($C$42*100/I47) -> 10.219258 | E48: =(($O$10-1)*F48*$B$10/7) -> 2.8992232 | F48: =B48+D48 -> 27.360736 | G48: =F48+E48 -> 30.259959 | H48: =G48-G47 -> 2.929066 | I48: =IF(100-G48<5,5,100-G48) -> 69.740041 | J48: =IF(281*I48/100>0,281*I48/100,0) -> 195.96951 | K48: =IF(L48/281*100>0,L48/281*100,0) -> 57.578966 | L48: =IF(I48*232/100>0,I48*232/100,0) -> 161.79689
A49: =A48+1 -> 8 | B49: =($O$9*SQRT(A49+$F$7-$F$9)*Calibration!$B$49)-((0.32989795*(A49+$F$7-$F$9))-1.302) -> 18.041268 | C49: =A49*Calibration!$B$50*$O$9*($B$18/12500)*('Degradation Model'!$B$26/$B$8) -> 9.6464309 | D49: =D48+($C$42*100/I48) -> 11.948256 | E49: =(($O$10-1)*F49*$B$10/7) -> 3.1777772 | F49: =B49+D49 -> 29.989524 | G49: =F49+E49 -> 33.167301 | H49: =G49-G48 -> 2.9073417 | I49: =IF(100-G49<5,5,100-G49) -> 66.832699 | J49: =IF(281*I49/100>0,281*I49/100,0) -> 187.79988 | K49: =IF(L49/281*100>0,L49/281*100,0) -> 55.178598 | L49: =IF(I49*232/100>0,I49*232/100,0) -> 155.05186
A50: =A49+1 -> 9 | B50: =($O$9*SQRT(A50+$F$7-$F$9)*Calibration!$B$49)-((0.32989795*(A50+$F$7-$F$9))-1.302) -> 18.867739 | C50: =A50*Calibration!$B$50*$O$9*($B$18/12500)*('Degradation Model'!$B$26/$B$8) -> 10.852235 | D50: =D49+($C$42*100/I49) -> 13.752468 | E50: =(($O$10-1)*F50*$B$10/7) -> 3.456532 | F50: =B50+D50 -> 32.620207 | G50: =F50+E50 -> 36.076739 | H50: =G50-G49 -> 2.9094376 | I50: =IF(100-G50<5,5,100-G50) -> 63.923261 | J50: =IF(281*I50/100>0,281*I50/100,0) -> 179.62436 | K50: =IF(L50/281*100>0,L50/281*100,0) -> 52.7765 | L50: =IF(I50*232/100>0,I50*232/100,0) -> 148.30197
A51: =A50+1 -> 10 | B51: =($O$9*SQRT(A51+$F$7-$F$9)*Calibration!$B$49)-((0.32989795*(A51+$F$7-$F$9))-1.302) -> 19.632624 | C51: =A51*Calibration!$B$50*$O$9*($B$18/12500)*('Degradation Model'!$B$26/$B$8) -> 12.058039 | D51: =D50+($C$42*100/I50) -> 15.638799 | E51: =(($O$10-1)*F51*$B$10/7) -> 3.7374625 | F51: =B51+D51 -> 35.271422 | G51: =F51+E51 -> 39.008885 | H51: =G51-G50 -> 2.9321461 | I51: =IF(100-G51<5,5,100-G51) -> 60.991115 | J51: =IF(281*I51/100>0,281*I51/100,0) -> 171.38503 | K51: =IF(L51/281*100>0,L51/281*100,0) -> 50.355654 | L51: =IF(I51*232/100>0,I51*232/100,0) -> 141.49939
A52: =A51+1 -> 11 | B52: =($O$9*SQRT(A52+$F$7-$F$9)*Calibration!$B$49)-((0.32989795*(A52+$F$7-$F$9))-1.302) -> 20.344827 | C52: =A52*Calibration!$B$50*$O$9*($B$18/12500)*('Degradation Model'!$B$26/$B$8) -> 13.263843 | D52: =D51+($C$42*100/I51) -> 17.615814 | E52: =(($O$10-1)*F52*$B$10/7) -> 4.0224199 | F52: =B52+D52 -> 37.960641 | G52: =F52+E52 -> 41.983061 | H52: =G52-G51 -> 2.9741758 | I52: =IF(100-G52<5,5,100-G52) -> 58.016939 | J52: =IF(281*I52/100>0,281*I52/100,0) -> 163.0276 | K52: =IF(L52/281*100>0,L52/281*100,0) -> 47.900106 | L52: =IF(I52*232/100>0,I52*232/100,0) -> 134.5993
A53: =A52+1 -> 12 | B53: =($O$9*SQRT(A53+$F$7-$F$9)*Calibration!$B$49)-((0.32989795*(A53+$F$7-$F$9))-1.302) -> 21.011291 | C53: =A53*Calibration!$B$50*$O$9*($B$18/12500)*('Degradation Model'!$B$26/$B$8) -> 14.469646 | D53: =D52+($C$42*100/I52) -> 19.694179 | E53: =(($O$10-1)*F53*$B$10/7) -> 4.31327 | F53: =B53+D53 -> 40.705471 | G53: =F53+E53 -> 45.018741 | H53: =G53-G52 -> 3.0356801 | I53: =IF(100-G53<5,5,100-G53) -> 54.981259 | J53: =IF(281*I53/100>0,281*I53/100,0) -> 154.49734 | K53: =IF(L53/281*100>0,L53/281*100,0) -> 45.39378 | L53: =IF(I53*232/100>0,I53*232/100,0) -> 127.55652
A54: =A53+1 -> 13 | B54: =($O$9*SQRT(A54+$F$7-$F$9)*Calibration!$B$49)-((0.32989795*(A54+$F$7-$F$9))-1.302) -> 21.637559 | C54: =A54*Calibration!$B$50*$O$9*($B$18/12500)*('Degradation Model'!$B$26/$B$8) -> 15.67545 | D54: =D53+($C$42*100/I53) -> 21.887297 | E54: =(($O$10-1)*F54*$B$10/7) -> 4.6120203 | F54: =B54+D54 -> 43.524856 | G54: =F54+E54 -> 48.136877 | H54: =G54-G53 -> 3.1181359 | I54: =IF(100-G54<5,5,100-G54) -> 51.863123 | J54: =IF(281*I54/100>0,281*I54/100,0) -> 145.73538 | K54: =IF(L54/281*100>0,L54/281*100,0) -> 42.819376 | L54: =IF(I54*232/100>0,I54*232/100,0) -> 120.32245
A55: =A54+1 -> 14 | B55: =($O$9*SQRT(A55+$F$7-$F$9)*Calibration!$B$49)-((0.32989795*(A55+$F$7-$F$9))-1.302) -> 22.228135 | C55: =A55*Calibration!$B$50*$O$9*($B$18/12500)*('Degradation Model'!$B$26/$B$8) -> 16.881254 | D55: =D54+($C$42*100/I54) -> 24.212271 | E55: =(($O$10-1)*F55*$B$10/7) -> 4.9209604 | F55: =B55+D55 -> 46.440405 | G55: =F55+E55 -> 51.361366 | H55: =G55-G54 -> 3.2244891 | I55: =IF(100-G55<5,5,100-G55) -> 48.638634 | J55: =IF(281*I55/100>0,281*I55/100,0) -> 136.67456 | K55: =IF(L55/281*100>0,L55/281*100,0) -> 40.157164 | L55: =IF(I55*232/100>0,I55*232/100,0) -> 112.84163
A56: =A55+1 -> 15 | B56: =($O$9*SQRT(A56+$F$7-$F$9)*Calibration!$B$49)-((0.32989795*(A56+$F$7-$F$9))-1.302) -> 22.78674 | C56: =A56*Calibration!$B$50*$O$9*($B$18/12500)*('Degradation Model'!$B$26/$B$8) -> 18.087058 | D56: =D55+($C$42*100/I55) -> 26.691378 | E56: =(($O$10-1)*F56*$B$10/7) -> 5.2428452 | F56: =B56+D56 -> 49.478117 | G56: =F56+E56 -> 54.720963 | H56: =G56-G55 -> 3.3595969 | I56: =IF(100-G56<5,5,100-G56) -> 45.279037 | J56: =IF(281*I56/100>0,281*I56/100,0) -> 127.23409 | K56: =IF(L56/281*100>0,L56/281*100,0) -> 37.383404 | L56: =IF(I56*232/100>0,I56*232/100,0) -> 105.04737

Sheet Calibration
T1: Corrected | AC1: Corrected | AE1: Actual Loss
H2: Capacity | I2: Date of | J2: Days/week | K2: Battery Age | L2: Years in | N2: Solar Loading | Q2: Corrected | R2: Solar Loading | S2: Calendar Plus | T2: Remaining | U2: Full Charge | V2: 80% Charge | W2: 80% Charge | X2: End of Life | Y2: Miles at | Z2: Service Years | AA2: Qualify for | AB2: Predicted | AC2: Predicted | AD2: Actual | AE2: Minus Corrected | AF2: Actual Loss | AG2: Correction | AH2: Actual Loss % of
A3: Row Number | B3: Owner | C3: Manufacture Date | D3: Delivery Date | E3: City | F3: Miles/kwh | G3: Total Mileage | H3: AH | I3: Reading | J3: in Sun | K3: Years | L3: Service | M3: Aging Factor | N3: Factor | O3: Calendar Loss | P3: Cycling Loss | Q3: Cycling Loss | R3: Loss | S3: Cycling Loss | T3: % Capacity | U3: Gids | V3: % Gids | W3: Gids | X3: Years | Y3: End of Life | Z3: Remaining | AA3: Warranty? | AB3: Total Loss | AC3: Total Loss | AD3: Loss | AE3: Predicted Loss | AF3: Minus Predicted | AG3: Difference | AH3: Corrected Loss | AI3: Comments
A5: 1 | B5: Weatherman | C5: 41014 | D5: 41098 | E5: Fort Lauderdale, FL | F5: 4 | G5: 10300 | H5: 55.46 | I5: 41526 | J5: 5 | K5: =(I5-C5)/365 -> 1.4027397 | L5: =(I5-D5)/365 -> 1.1726027 | M5: =VLOOKUP(E5,'Aging Factor'!$A$145:$H$242,5,1) -> 1.5128339 | N5: =VLOOKUP(E5,'Aging Factor'!$A$145:$H$242,8,1) -> 1.1588505 | O5: =(M5*$B$49*SQRT(K5))-((0.32989795*K5)-1.302) -> 13.202382 | P5: =$B$50*M5*(G5/12500)*('Degradation Model'!$B$26/F5) -> 2.9151469 | Q5: =IF(L5<1,P5,(VLOOKUP(INT(L5)+1,A$167:L$181,4,1)-VLOOKUP(INT(L5),A$167:L$181,4,1))*(L5-INT(L5))+VLOOKUP(INT(L5),A$167:L$181,4,1)) -> 3.0009081 | R5: =((N5-1)*(O5+Q5)*J5/7) -> 1.8385003 | S5: =O5+P5 -> 16.117529 | T5: =(1-AC5)*100 -> 81.95821 | U5: =281*T5/100 -> 230.30257 | V5: =W5/281*100 -> 67.666565 | W5: =T5*232/100 -> 190.14305 | X5: 2.9 | Y5: =G5/((I5-D5)/365)*X5 -> 25473.248 | Z5: =X5-L5 -> 1.7273973 | AA5: =IF(AND(X5<=5,Y5<60000),"Yes","No") -> Yes | AB5: =(S5+R5)/100 -> 0.17956029 | AC5: =(O5+Q5+R5)/100 -> 0.1804179 | AD5: =($B$75-H5)/$B$75 -> 0.16286792 | AE5: =AD5-AC5 -> -0.017549976 | AF5: =AD5-AB5 -> -0.016692364 | AG5: =AE5-AF5 -> -0.00085761233 | AH5: =AD5/AC5 -> 0.90272597
A6: =1+A5 -> 2 | B6: TomT | C6: 40558 | D6: 40603 | E6: Van Nuys, CA | F6: 4.4 | G6: 37512 | H6: 52.47 | I6: 41527 | J6: 5 | K6: =(I6-C6)/365 -> 2.6547945 | L6: =(I6-D6)/365 -> 2.5315068 | M6: =VLOOKUP(E6,'Aging Factor'!$A$145:$H$242,5,1) -> 0.98588743 | N6: =VLOOKUP(E6,'Aging Factor'!$A$145:$H$242,8,1) -> 1.1854351 | O6: =(M6*$B$49*SQRT(K6))-((0.32989795*K6)-1.302) -> 11.51007 | P6: =$B$50*M6*(G6/12500)*('Degradation Model'!$B$26/F6) -> 6.2898001 | Q6: =IF(L6<1,P6,(VLOOKUP(INT(L6)+1,A$189:L$203,4,1)-VLOOKUP(INT(L6),A$189:L$203,4,1))*(L6-INT(L6))+VLOOKUP(INT(L6),A$189:L$203,4,1)) -> 6.9179704 | R6: =((N6-1)*(O6+Q6)*J6/7) -> 2.440861 | S6: =O6+P6 -> 17.79987 | T6: =(1-AC6)*100 -> 79.131098 | U6: =281*T6/100 -> 222.35839 | V6: =W6/281*100 -> 65.332437 | W6: =T6*232/100 -> 183.58415 | X6: 4.2 | Y6: =G6/((I6-D6)/365)*X6 -> 62235.818 | Z6: =X6-L6 -> 1.6684932 | AA6: =IF(AND(X6<=5,Y6<60000),"Yes","No") -> No | AB6: =(S6+R6)/100 -> 0.20240731 | AC6: =(O6+Q6+R6)/100 -> 0.20868902 | AD6: =($B$75-H6)/$B$75 -> 0.208 | AE6: =AD6-AC6 -> -0.00068901724 | AF6: =AD6-AB6 -> 0.0055926863 | AG6: =AE6-AF6 -> -0.0062817036 | AH6: =AD6/AC6 -> 0.99669835
A7: =1+A6 -> 3 | B7: Drees | C7: 40648 | D7: 40701 | E7: San Diego, CA | F7: 4.5 | G7: 21926 | H7: 55.53 | I7: 41527 | J7: 5 | K7: =(I7-C7)/365 -> 2.4082192 | L7: =(I7-D7)/365 -> 2.2630137 | M7: =VLOOKUP(E7,'Aging Factor'!$A$145:$H$242,5,1) -> 0.8820189 | N7: =VLOOKUP(E7,'Aging Factor'!$A$145:$H$242,8,1) -> 1.1854351 | O7: =(M7*$B$49*SQRT(K7))-((0.32989795*K7)-1.302) -> 9.9519468 | P7: =$B$50*M7*(G7/12500)*('Degradation Model'!$B$26/F7) -> 3.2160053 | Q7: =IF(L7<1,P7,(VLOOKUP(INT(L7)+1,A$211:L$225,4,1)-VLOOKUP(INT(L7),A$211:L$225,4,1))*(L7-INT(L7))+VLOOKUP(INT(L7),A$211:L$225,4,1)) -> 3.4361438 | R7: =((N7-1)*(O7+Q7)*J7/7) -> 1.7733013 | S7: =O7+P7 -> 13.167952 | T7: =(1-AC7)*100 -> 84.838608 | U7: =281*T7/100 -> 238.39649 | V7: =W7/281*100 -> 70.044687 | W7: =T7*232/100 -> 196.82557 | X7: 6.7 | Y7: =G7/((I7-D7)/365)*X7 -> 64915.294 | Z7: =X7-L7 -> 4.4369863 | AA7: =IF(AND(X7<=5,Y7<60000),"Yes","No") -> No | AB7: =(S7+R7)/100 -> 0.14941253 | AC7: =(O7+Q7+R7)/100 -> 0.15161392 | AD7: =($B$75-H7)/$B$75 -> 0.16181132 | AE7: =AD7-AC7 -> 0.010197403 | AF7: =AD7-AB7 -> 0.012398788 | AG7: =AE7-AF7 -> -0.0022013847 | AH7: =AD7/AC7 -> 1.067259
A8: =1+A7 -> 4 | B8: DaveinOlyWA | C8: 40497 | D8: 40561 | E8: Olympia, WA | F8: 4.6 | G8: 39849 | H8: 57.75 | I8: 41527 | J8: 5 | K8: =(I8-C8)/365 -> 2.8219178 | L8: =(I8-D8)/365 -> 2.6465753 | M8: =VLOOKUP(E8,'Aging Factor'!$A$145:$H$242,5,1) -> 0.68116641 | N8: =VLOOKUP(E8,'Aging Factor'!$A$145:$H$242,8,1) -> 1.1074565 | O8: =(M8*$B$49*SQRT(K8))-((0.32989795*K8)-1.302) -> 8.2664616 | P8: =$B$50*M8*(G8/12500)*('Degradation Model'!$B$26/F8) -> 4.4157531 | Q8: =IF(L8<1,P8,(VLOOKUP(INT(L8)+1,A$233:L$247,4,1)-VLOOKUP(INT(L8),A$233:L$247,4,1))*(L8-INT(L8))+VLOOKUP(INT(L8),A$233:L$247,4,1)) -> 4.7111281 | R8: =((N8-1)*(O8+Q8)*J8/7) -> 0.99609003 | S8: =O8+P8 -> 12.682215 | T8: =(1-AC8)*100 -> 86.02632 | U8: =281*T8/100 -> 241.73396 | V8: =W8/281*100 -> 71.025289 | W8: =T8*232/100 -> 199.58106 | X8: 7.9 | Y8: =G8/((I8-D8)/365)*X8 -> 118948.85 | Z8: =X8-L8 -> 5.2534247 | AA8: =IF(AND(X8<=5,Y8<60000),"Yes","No") -> No | AB8: =(S8+R8)/100 -> 0.13678305 | AC8: =(O8+Q8+R8)/100 -> 0.1397368 | AD8: =($B$75-H8)/$B$75 -> 0.12830189 | AE8: =AD8-AC8 -> -0.01143491 | AF8: =AD8-AB8 -> -0.0084811604 | AG8: =AE8-AF8 -> -0.0029537493 | AH8: =AD8/AC8 -> 0.91816823
A9: =1+A8 -> 5 | B9: jhm614 | C9: 40589 | D9: 40632 | E9: Dallas, TX | F9: 4.1 | G9: 46600 | H9: 45.65 | I9: 41526 | J9: 5.75 | K9: =(I9-C9)/365 -> 2.5671233 | L9: =(I9-D9)/365 -> 2.4493151 | M9: =VLOOKUP(E9,'Aging Factor'!$A$145:$H$242,5,1) -> 1.1886265 | N9: =VLOOKUP(E9,'Aging Factor'!$A$145:$H$242,8,1) -> 1.1720674 | O9: =(M9*$B$49*SQRT(K9))-((0.32989795*K9)-1.302) -> 13.595792 | P9: =$B$50*M9*(G9/12500)*('Degradation Model'!$B$26/F9) -> 10.109727 | Q9: =IF(L9<1,P9,(VLOOKUP(INT(L9)+1,A$255:L$269,4,1)-VLOOKUP(INT(L9),A$255:L$269,4,1))*(L9-INT(L9))+VLOOKUP(INT(L9),A$255:L$269,4,1)) -> 11.482224 | R9: =((N9-1)*(O9+Q9)*J9/7) -> 3.5445542 | S9: =O9+P9 -> 23.70552 | T9: =(1-AC9)*100 -> 71.37743 | U9: =281*T9/100 -> 200.57058 | V9: =W9/281*100 -> 58.930832 | W9: =T9*232/100 -> 165.59564 | X9: 2.5 | Y9: =G9/((I9-D9)/365)*X9 -> 47564.318 | Z9: =X9-L9 -> 0.050684932 | AA9: =IF(AND(X9<=5,Y9<60000),"Yes","No") -> Yes | AB9: =(S9+R9)/100 -> 0.27250074 | AC9: =(O9+Q9+R9)/100 -> 0.2862257 | AD9: =($B$75-H9)/$B$75 -> 0.3109434 | AE9: =AD9-AC9 -> 0.024717694 | AF9: =AD9-AB9 -> 0.038442659 | AG9: =AE9-AF9 -> -0.013724965 | AH9: =AD9/AC9 -> 1.0863574
A10: =1+A9 -> 6 | B10: Vegastar | C10: 40678 | D10: 40739 | E10: Lisbon, Portugal | F10: 4 | G10: 35000 | H10: 55.69 | I10: 41528 | J10: 1 | K10: =(I10-C10)/365 -> 2.3287671 | L10: =(I10-D10)/365 -> 2.1616438 | M10: =VLOOKUP(E10,'Aging Factor'!$A$145:$H$242,5,1) -> 0.87169677 | N10: =VLOOKUP(E10,'Aging Factor'!$A$145:$H$242,8,1) -> 1 | O10: =(M10*$B$49*SQRT(K10))-((0.32989795*K10)-1.302) -> 9.7123681 | P10: =$B$50*M10*(G10/12500)*('Degradation Model'!$B$26/F10) -> 5.7077568 | Q10: =IF(L10<1,P10,(VLOOKUP(INT(L10)+1,A$277:L$291,4,1)-VLOOKUP(INT(L10),A$277:L$291,4,1))*(L10-INT(L10))+VLOOKUP(INT(L10),A$277:L$291,4,1)) -> 6.0783715 | R10: =((N10-1)*(O10+Q10)*J10/7) -> 0 | S10: =O10+P10 -> 15.420125 | T10: =(1-AC10)*100 -> 84.20926 | U10: =281*T10/100 -> 236.62802 | V10: =W10/281*100 -> 69.525083 | W10: =T10*232/100 -> 195.36548 | X10: 5.2 | Y10: =G10/((I10-D10)/365)*X10 -> 84195.184 | Z10: =X10-L10 -> 3.0383562 | AA10: =IF(AND(X10<=5,Y10<60000),"Yes","No") -> No | AB10: =(S10+R10)/100 -> 0.15420125 | AC10: =(O10+Q10+R10)/100 -> 0.1579074 | AD10: =($B$75-H10)/$B$75 -> 0.15939623 | AE10: =AD10-AC10 -> 0.0014888301 | AF10: =AD10-AB10 -> 0.0051949773 | AG10: =AE10-AF10 -> -0.0037061472 | AH10: =AD10/AC10 -> 1.0094285
A11: =1+A10 -> 7 | B11: UkrainianKozak | C11: 40589 | D11: 40672 | E11: Seattle, WA | F11: 4 | G11: 32034 | H11: 57.36 | I11: 41528 | J11: 0 | K11: =(I11-C11)/365 -> 2.5726027 | L11: =(I11-D11)/365 -> 2.3452055 | M11: =VLOOKUP(E11,'Aging Factor'!$A$145:$H$242,5,1) -> 0.71790831 | N11: =VLOOKUP(E11,'Aging Factor'!$A$145:$H$242,8,1) -> 1.1074565 | O11: =(M11*$B$49*SQRT(K11))-((0.32989795*K11)-1.302) -> 8.3984964 | P11: =$B$50*M11*(G11/12500)*('Degradation Model'!$B$26/F11) -> 4.3024133 | Q11: =IF(L11<1,P11,(VLOOKUP(INT(L11)+1,A$299:L$313,4,1)-VLOOKUP(INT(L11),A$299:L$313,4,1))*(L11-INT(L11))+VLOOKUP(INT(L11),A$299:L$313,4,1)) -> 4.5513856 | R11: =((N11-1)*(O11+Q11)*J11/7) -> 0 | S11: =O11+P11 -> 12.70091 | T11: =(1-AC11)*100 -> 87.050118 | U11: =281*T11/100 -> 244.61083 | V11: =W11/281*100 -> 71.87056 | W11: =T11*232/100 -> 201.95627 | X11: 7.8 | Y11: =G11/((I11-D11)/365)*X11 -> 106542.99 | Z11: =X11-L11 -> 5.4547945 | AA11: =IF(AND(X11<=5,Y11<60000),"Yes","No") -> No | AB11: =(S11+R11)/100 -> 0.1270091 | AC11: =(O11+Q11+R11)/100 -> 0.12949882 | AD11: =($B$75-H11)/$B$75 -> 0.13418868 | AE11: =AD11-AC11 -> 0.0046898592 | AF11: =AD11-AB11 -> 0.0071795821 | AG11: =AE11-AF11 -> -0.0024897229 | AH11: =AD11/AC11 -> 1.0362155
A12: =1+A11 -> 8 | B12: rickbecker | C12: 40589 | D12: 40653 | E12: San Diego, CA | F12: 4.2 | G12: 7117 | H12: 57.12 | I12: 41527 | J12: 0 | K12: =(I12-C12)/365 -> 2.569863 | L12: =(I12-D12)/365 -> 2.3945205 | M12: =VLOOKUP(E12,'Aging Factor'!$A$145:$H$242,5,1) -> 0.8820189 | N12: =VLOOKUP(E12,'Aging Factor'!$A$145:$H$242,8,1) -> 1.1854351 | O12: =(M12*$B$49*SQRT(K12))-((0.32989795*K12)-1.302) -> 10.210436 | P12: =$B$50*M12*(G12/12500)*('Degradation Model'!$B$26/F12) -> 1.1184525 | Q12: =IF(L12<1,P12,(VLOOKUP(INT(L12)+1,A$321:L$335,4,1)-VLOOKUP(INT(L12),A$321:L$335,4,1))*(L12-INT(L12))+VLOOKUP(INT(L12),A$321:L$335,4,1)) -> 1.1806546 | R12: =((N12-1)*(O12+Q12)*J12/7) -> 0 | S12: =O12+P12 -> 11.328889 | T12: =(1-AC12)*100 -> 88.608909 | U12: =281*T12/100 -> 248.99104 | V12: =W12/281*100 -> 73.157534 | W12: =T12*232/100 -> 205.57267 | X12: 16.2 | Y12: =G12/((I12-D12)/365)*X12 -> 48149.681 | Z12: =X12-L12 -> 13.805479 | AA12: =IF(AND(X12<=5,Y12<60000),"Yes","No") -> No | AB12: =(S12+R12)/100 -> 0.11328889 | AC12: =(O12+Q12+R12)/100 -> 0.11391091 | AD12: =($B$75-H12)/$B$75 -> 0.13781132 | AE12: =AD12-AC12 -> 0.023900414 | AF12: =AD12-AB12 -> 0.024522435 | AG12: =AE12-AF12 -> -0.00062202129 | AH12: =AD12/AC12 -> 1.2098167
A13: =1+A12 -> 9 | B13: FairwoodRed | C13: 40617 | D13: 40721 | E13: Seattle, WA | F13: 3.9 | G13: 49758 | H13: 54.49 | I13: 41529 | J13: 4.5 | K13: =(I13-C13)/365 -> 2.4986301 | L13: =(I13-D13)/365 -> 2.2136986 | M13: =VLOOKUP(E13,'Aging Factor'!$A$145:$H$242,5,1) -> 0.71790831 | N13: =VLOOKUP(E13,'Aging Factor'!$A$145:$H$242,8,1) -> 1.1074565 | O13: =(M13*$B$49*SQRT(K13))-((0.32989795*K13)-1.302) -> 8.3078386 | P13: =$B$50*M13*(G13/12500)*('Degradation Model'!$B$26/F13) -> 6.8542393 | Q13: =IF(L13<1,P13,(VLOOKUP(INT(L13)+1,A$343:L$357,4,1)-VLOOKUP(INT(L13),A$343:L$357,4,1))*(L13-INT(L13))+VLOOKUP(INT(L13),A$343:L$357,4,1)) -> 7.3301309 | R13: =((N13-1)*(O13+Q13)*J13/7) -> 1.0802578 | S13: =O13+P13 -> 15.162078 | T13: =(1-AC13)*100 -> 83.281773 | U13: =281*T13/100 -> 234.02178 | V13: =W13/281*100 -> 68.759328 | W13: =T13*232/100 -> 193.21371 | X13: 4.7 | Y13: =G13/((I13-D13)/365)*X13 -> 105643.38 | Z13: =X13-L13 -> 2.4863014 | AA13: =IF(AND(X13<=5,Y13<60000),"Yes","No") -> No | AB13: =(S13+R13)/100 -> 0.16242336 | AC13: =(O13+Q13+R13)/100 -> 0.16718227 | AD13: =($B$75-H13)/$B$75 -> 0.17750943 | AE13: =AD13-AC13 -> 0.01032716 | AF13: =AD13-AB13 -> 0.015086077 | AG13: =AE13-AF13 -> -0.0047589165 | AH13: =AD13/AC13 -> 1.0617719
A14: =1+A13 -> 10 | B14: Stoaty | C14: 40648 | D14: 40706 | E14: Van Nuys, CA | F14: 5.6 | G14: 20900 | H14: 56.78 | I14: 41534 | J14: 4 | K14: =(I14-C14)/365 -> 2.4273973 | L14: =(I14-D14)/365 -> 2.2684932 | M14: =VLOOKUP(E14,'Aging Factor'!$A$145:$H$242,5,1) -> 0.98588743 | N14: =VLOOKUP(E14,'Aging Factor'!$A$145:$H$242,8,1) -> 1.1854351 | O14: =(M14*$B$49*SQRT(K14))-((0.32989795*K14)-1.302) -> 11.099766 | P14: =$B$50*M14*(G14/12500)*('Degradation Model'!$B$26/F14) -> 2.7534523 | Q14: =IF(L14<1,P14,(VLOOKUP(INT(L14)+1,A$365:L$379,4,1)-VLOOKUP(INT(L14),A$365:L$379,4,1))*(L14-INT(L14))+VLOOKUP(INT(L14),A$365:L$379,4,1)) -> 2.9507089 | R14: =((N14-1)*(O14+Q14)*J14/7) -> 1.4888292 | S14: =O14+P14 -> 13.853219 | T14: =(1-AC14)*100 -> 84.460696 | U14: =281*T14/100 -> 237.33455 | V14: =W14/281*100 -> 69.732674 | W14: =T14*232/100 -> 195.94881 | X14: 6.8 | Y14: =G14/((I14-D14)/365)*X14 -> 62649.517 | Z14: =X14-L14 -> 4.5315068 | AA14: =IF(AND(X14<=5,Y14<60000),"Yes","No") -> No | AB14: =(S14+R14)/100 -> 0.15342048 | AC14: =(O14+Q14+R14)/100 -> 0.15539304 | AD14: =($B$75-H14)/$B$75 -> 0.1429434 | AE14: =AD14-AC14 -> -0.012449648 | AF14: =AD14-AB14 -> -0.010477082 | AG14: =AE14-AF14 -> -0.0019725661 | AH14: =AD14/AC14 -> 0.91988285
A15: =1+A14 -> 11 | B15: ColumbianRiverGorge | C15: 40678 | D15: 40730 | E15: Pittsburgh, PA | F15: 3.9 | G15: 40402 | H15: 54.6 | I15: 41527 | J15: 5 | K15: =(I15-C15)/365 -> 2.3260274 | L15: =(I15-D15)/365 -> 2.1835616 | M15: =VLOOKUP(E15,'Aging Factor'!$A$145:$H$242,5,1) -> 0.76954202 | N15: =VLOOKUP(E15,'Aging Factor'!$A$145:$H$242,8,1) -> 1.1328621 | O15: =(M15*$B$49*SQRT(K15))-((0.32989795*K15)-1.302) -> 8.6328547 | P15: =$B$50*M15*(G15/12500)*('Degradation Model'!$B$26/F15) -> 5.9657159 | Q15: =IF(L15<1,P15,(VLOOKUP(INT(L15)+1,A$387:L$401,4,1)-VLOOKUP(INT(L15),A$387:L$401,4,1))*(L15-INT(L15))+VLOOKUP(INT(L15),A$387:L$401,4,1)) -> 6.3685513 | R15: =((N15-1)*(O15+Q15)*J15/7) -> 1.4236556 | S15: =O15+P15 -> 14.598571 | T15: =(1-AC15)*100 -> 83.574938 | U15: =281*T15/100 -> 234.84558 | V15: =W15/281*100 -> 69.001373 | W15: =T15*232/100 -> 193.89386 | X15: 4.8 | Y15: =G15/((I15-D15)/365)*X15 -> 88813.43 | Z15: =X15-L15 -> 2.6164384 | AA15: =IF(AND(X15<=5,Y15<60000),"Yes","No") -> No | AB15: =(S15+R15)/100 -> 0.16022226 | AC15: =(O15+Q15+R15)/100 -> 0.16425062 | AD15: =($B$75-H15)/$B$75 -> 0.17584906 | AE15: =AD15-AC15 -> 0.01159844 | AF15: =AD15-AB15 -> 0.015626794 | AG15: =AE15-AF15 -> -0.0040283547 | AH15: =AD15/AC15 -> 1.0706143
A16: =1+A15 -> 12 | B16: 91040 | C16: 40617 | D16: 40669 | E16: Van Nuys, CA | F16: 4.8 | G16: 54725 | H16: 52.13 | I16: 41520 | J16: 2.5 | K16: =(I16-C16)/365 -> 2.4739726 | L16: =(I16-D16)/365 -> 2.3315068 | M16: =VLOOKUP(E16,'Aging Factor'!$A$145:$H$242,5,1) -> 0.98588743 | N16: =VLOOKUP(E16,'Aging Factor'!$A$145:$H$242,8,1) -> 1.1854351 | O16: =(M16*$B$49*SQRT(K16))-((0.32989795*K16)-1.302) -> 11.185597 | P16: =$B$50*M16*(G16/12500)*('Degradation Model'!$B$26/F16) -> 8.4113137 | Q16: =IF(L16<1,P16,(VLOOKUP(INT(L16)+1,A$409:L$423,4,1)-VLOOKUP(INT(L16),A$409:L$423,4,1))*(L16-INT(L16))+VLOOKUP(INT(L16),A$409:L$423,4,1)) -> 9.2204046 | R16: =((N16-1)*(O16+Q16)*J16/7) -> 1.3514246 | S16: =O16+P16 -> 19.596911 | T16: =(1-AC16)*100 -> 78.242574 | U16: =281*T16/100 -> 219.86163 | V16: =W16/281*100 -> 64.598851 | W16: =T16*232/100 -> 181.52277 | X16: 3.5 | Y16: =G16/((I16-D16)/365)*X16 -> 82151.807 | Z16: =X16-L16 -> 1.1684932 | AA16: =IF(AND(X16<=5,Y16<60000),"Yes","No") -> No | AB16: =(S16+R16)/100 -> 0.20948336 | AC16: =(O16+Q16+R16)/100 -> 0.21757426 | AD16: =($B$75-H16)/$B$75 -> 0.21313208 | AE16: =AD16-AC16 -> -0.0044421883 | AF16: =AD16-AB16 -> 0.0036487201 | AG16: =AE16-AF16 -> -0.0080909084 | AH16: =AD16/AC16 -> 0.97958312
A17: =1+A16 -> 13 | B17: JeremyW | C17: 40954 | D17: 41083 | E17: Van Nuys, CA | F17: 3.9 | G17: 18119 | H17: 57.51 | I17: 41532 | J17: 3 | K17: =(I17-C17)/365 -> 1.5835616 | L17: =(I17-D17)/365 -> 1.230137 | M17: =VLOOKUP(E17,'Aging Factor'!$A$145:$H$242,5,1) -> 0.98588743 | N17: =VLOOKUP(E17,'Aging Factor'!$A$145:$H$242,8,1) -> 1.1854351 | O17: =(M17*$B$49*SQRT(K17))-((0.32989795*K17)-1.302) -> 9.3399833 | P17: =$B$50*M17*(G17/12500)*('Degradation Model'!$B$26/F17) -> 3.4275904 | Q17: =IF(L17<1,P17,(VLOOKUP(INT(L17)+1,A$431:L$445,4,1)-VLOOKUP(INT(L17),A$431:L$445,4,1))*(L17-INT(L17))+VLOOKUP(INT(L17),A$431:L$445,4,1)) -> 3.5189801 | R17: =((N17-1)*(O17+Q17)*J17/7) -> 1.0219299 | S17: =O17+P17 -> 12.767574 | T17: =(1-AC17)*100 -> 86.119107 | U17: =281*T17/100 -> 241.99469 | V17: =W17/281*100 -> 71.101896 | W17: =T17*232/100 -> 199.79633 | X17: 4.1 | Y17: =G17/((I17-D17)/365)*X17 -> 60389.941 | Z17: =X17-L17 -> 2.869863 | AA17: =IF(AND(X17<=5,Y17<60000),"Yes","No") -> No | AB17: =(S17+R17)/100 -> 0.13789504 | AC17: =(O17+Q17+R17)/100 -> 0.13880893 | AD17: =($B$75-H17)/$B$75 -> 0.13192453 | AE17: =AD17-AC17 -> -0.0068844046 | AF17: =AD17-AB17 -> -0.0059705072 | AG17: =AE17-AF17 -> -0.00091389747 | AH17: =AD17/AC17 -> 0.95040373
A18: =1+A17 -> 14 | B18: madbrain | C18: 41075 | D18: 41202 | E18: San Jose, CA | F18: 3.5 | G18: 9304 | H18: 61.49 | I18: 41536 | J18: 4 | K18: =(I18-C18)/365 -> 1.2630137 | L18: =(I18-D18)/365 -> 0.91506849 | M18: =VLOOKUP(E18,'Aging Factor'!$A$145:$H$242,5,1) -> 0.84223088 | N18: =VLOOKUP(E18,'Aging Factor'!$A$145:$H$242,8,1) -> 1.1854351 | O18: =(M18*$B$49*SQRT(K18))-((0.32989795*K18)-1.302) -> 7.4164035 | P18: =$B$50*M18*(G18/12500)*('Degradation Model'!$B$26/F18) -> 1.6754242 | Q18: =IF(L18<1,P18,(VLOOKUP(INT(L18)+1,A$453:L$467,4,1)-VLOOKUP(INT(L18),A$453:L$467,4,1))*(L18-INT(L18))+VLOOKUP(INT(L18),A$453:L$467,4,1)) -> 1.6754242 | R18: =((N18-1)*(O18+Q18)*J18/7) -> 0.9633965 | S18: =O18+P18 -> 9.0918277 | T18: =(1-AC18)*100 -> 89.944776 | U18: =281*T18/100 -> 252.74482 | V18: =W18/281*100 -> 74.260455 | W18: =T18*232/100 -> 208.67188 | X18: 6 | Y18: =G18/((I18-D18)/365)*X18 -> 61005.269 | Z18: =X18-L18 -> 5.0849315 | AA18: =IF(AND(X18<=5,Y18<60000),"Yes","No") -> No | AB18: =(S18+R18)/100 -> 0.10055224 | AC18: =(O18+Q18+R18)/100 -> 0.10055224 | AD18: =($B$75-H18)/$B$75 -> 0.071849057 | AE18: =AD18-AC18 -> -0.028703185 | AF18: =AD18-AB18 -> -0.028703185 | AG18: =AE18-AF18 -> 0 | AH18: =AD18/AC18 -> 0.71454455
A19: =1+A18 -> 15 | B19: garygTx | C19: 40678 | D19: 40859 | E19: Dallas, TX | F19: 5.4 | G19: 20004 | H19: 52.22 | I19: 41536 | J19: 7 | K19: =(I19-C19)/365 -> 2.3506849 | L19: =(I19-D19)/365 -> 1.8547945 | M19: =VLOOKUP(E19,'Aging Factor'!$A$145:$H$242,5,1) -> 1.1886265 | N19: =VLOOKUP(E19,'Aging Factor'!$A$145:$H$242,8,1) -> 1.1720674 | O19: =(M19*$B$49*SQRT(K19))-((0.32989795*K19)-1.302) -> 13.101043 | P19: =$B$50*M19*(G19/12500)*('Degradation Model'!$B$26/F19) -> 3.2950383 | Q19: =IF(L19<1,P19,(VLOOKUP(INT(L19)+1,A$475:L$489,4,1)-VLOOKUP(INT(L19),A$475:L$489,4,1))*(L19-INT(L19))+VLOOKUP(INT(L19),A$475:L$489,4,1)) -> 3.5585466 | R19: =((N19-1)*(O19+Q19)*J19/7) -> 2.8665725 | S19: =O19+P19 -> 16.396081 | T19: =(1-AC19)*100 -> 80.473838 | U19: =281*T19/100 -> 226.13149 | V19: =W19/281*100 -> 66.441034 | W19: =T19*232/100 -> 186.69931 | X19: 3.9 | Y19: =G19/((I19-D19)/365)*X19 -> 42061.586 | Z19: =X19-L19 -> 2.0452055 | AA19: =IF(AND(X19<=5,Y19<60000),"Yes","No") -> Yes | AB19: =(S19+R19)/100 -> 0.19262653 | AC19: =(O19+Q19+R19)/100 -> 0.19526162 | AD19: =($B$75-H19)/$B$75 -> 0.21177358 | AE19: =AD19-AC19 -> 0.016511969 | AF19: =AD19-AB19 -> 0.019147051 | AG19: =AE19-AF19 -> -0.0026350826 | AH19: =AD19/AC19 -> 1.0845633
A20: =1+A19 -> 16 | B20: Armand | C20: 40678 | D20: 40782 | E20: San Francisco, CA | F20: 4.2 | G20: 31723 | H20: 56.52 | I20: 41533 | J20: 7 | K20: =(I20-C20)/365 -> 2.3424658 | L20: =(I20-D20)/365 -> 2.0575342 | M20: =VLOOKUP(E20,'Aging Factor'!$A$145:$H$242,5,1) -> 0.76206059 | N20: =VLOOKUP(E20,'Aging Factor'!$A$145:$H$242,8,1) -> 1.1854351 | O20: =(M20*$B$49*SQRT(K20))-((0.32989795*K20)-1.302) -> 8.576989 | P20: =$B$50*M20*(G20/12500)*('Degradation Model'!$B$26/F20) -> 4.307313 | Q20: =IF(L20<1,P20,(VLOOKUP(INT(L20)+1,A$497:L$511,4,1)-VLOOKUP(INT(L20),A$497:L$511,4,1))*(L20-INT(L20))+VLOOKUP(INT(L20),A$497:L$511,4,1)) -> 4.5770268 | R20: =((N20-1)*(O20+Q20)*J20/7) -> 2.4392161 | S20: =O20+P20 -> 12.884302 | T20: =(1-AC20)*100 -> 84.406768 | U20: =281*T20/100 -> 237.18302 | V20: =W20/281*100 -> 69.68815 | W20: =T20*232/100 -> 195.8237 | X20: 5.3 | Y20: =G20/((I20-D20)/365)*X20 -> 81715.238 | Z20: =X20-L20 -> 3.2424658 | AA20: =IF(AND(X20<=5,Y20<60000),"Yes","No") -> No | AB20: =(S20+R20)/100 -> 0.15323518 | AC20: =(O20+Q20+R20)/100 -> 0.15593232 | AD20: =($B$75-H20)/$B$75 -> 0.14686792 | AE20: =AD20-AC20 -> -0.0090643947 | AF20: =AD20-AB20 -> -0.0063672567 | AG20: =AE20-AF20 -> -0.002697138 | AH20: =AD20/AC20 -> 0.94186969
A21: =1+A20 -> 17 | B21: TickTock | C21: 40648 | D21: 40694 | E21: Phoenix, AZ | F21: 4.4 | G21: 31056 | H21: 46.69 | I21: 41533 | J21: 0 | K21: =(I21-C21)/365 -> 2.4246575 | L21: =(I21-D21)/365 -> 2.2986301 | M21: =VLOOKUP(E21,'Aging Factor'!$A$145:$H$242,5,1) -> 1.6292355 | N21: =VLOOKUP(E21,'Aging Factor'!$A$145:$H$242,8,1) -> 1.2264598 | O21: =(M21*$B$49*SQRT(K21))-((0.32989795*K21)-1.302) -> 18.006951 | P21: =$B$50*M21*(G21/12500)*('Degradation Model'!$B$26/F21) -> 8.6053529 | Q21: =IF(L21<1,P21,(VLOOKUP(INT(L21)+1,A$519:L$533,4,1)-VLOOKUP(INT(L21),A$519:L$533,4,1))*(L21-INT(L21))+VLOOKUP(INT(L21),A$519:L$533,4,1)) -> 9.7278176 | R21: =((N21-1)*(O21+Q21)*J21/7) -> 0 | S21: =O21+P21 -> 26.612304 | T21: =(1-AC21)*100 -> 72.265231 | U21: =281*T21/100 -> 203.0653 | V21: =W21/281*100 -> 59.663821 | W21: =T21*232/100 -> 167.65534 | X21: 2.5 | Y21: =G21/((I21-D21)/365)*X21 -> 33776.639 | Z21: =X21-L21 -> 0.20136986 | AA21: =IF(AND(X21<=5,Y21<60000),"Yes","No") -> Yes | AB21: =(S21+R21)/100 -> 0.26612304 | AC21: =(O21+Q21+R21)/100 -> 0.27734769 | AD21: =($B$75-H21)/$B$75 -> 0.29524528 | AE21: =AD21-AC21 -> 0.017897593 | AF21: =AD21-AB21 -> 0.02912224 | AG21: =AE21-AF21 -> -0.011224647 | AH21: =AD21/AC21 -> 1.0645313
A22: =1+A21 -> 18 | B22: KJD | C22: 40862 | D22: 40885 | E22: Salt Lake City, UT | F22: 4.8 | G22: 16092 | H22: 59.37 | I22: 41537 | J22: 0 | K22: =(I22-C22)/365 -> 1.8493151 | L22: =(I22-D22)/365 -> 1.7863014 | M22: =VLOOKUP(E22,'Aging Factor'!$A$145:$H$242,5,1) -> 0.8157616 | N22: =VLOOKUP(E22,'Aging Factor'!$A$145:$H$242,8,1) -> 1.1854351 | O22: =(M22*$B$49*SQRT(K22))-((0.32989795*K22)-1.302) -> 8.3464319 | P22: =$B$50*M22*(G22/12500)*('Degradation Model'!$B$26/F22) -> 2.0465578 | Q22: =IF(L22<1,P22,(VLOOKUP(INT(L22)+1,A$541:L$555,4,1)-VLOOKUP(INT(L22),A$541:L$555,4,1))*(L22-INT(L22))+VLOOKUP(INT(L22),A$541:L$555,4,1)) -> 2.1238347 | R22: =((N22-1)*(O22+Q22)*J22/7) -> 0 | S22: =O22+P22 -> 10.39299 | T22: =(1-AC22)*100 -> 89.529733 | U22: =281*T22/100 -> 251.57855 | V22: =W22/281*100 -> 73.917787 | W22: =T22*232/100 -> 207.70898 | X22: 10.1 | Y22: =G22/((I22-D22)/365)*X22 -> 90986.439 | Z22: =X22-L22 -> 8.3136986 | AA22: =IF(AND(X22<=5,Y22<60000),"Yes","No") -> No | AB22: =(S22+R22)/100 -> 0.1039299 | AC22: =(O22+Q22+R22)/100 -> 0.10470267 | AD22: =($B$75-H22)/$B$75 -> 0.10384906 | AE22: =AD22-AC22 -> -0.00085360925 | AF22: =AD22-AB22 -> -8.0840338e-05 | AG22: =AE22-AF22 -> -0.00077276892 | AH22: =AD22/AC22 -> 0.9918473
A23: =1+A22 -> 19 | B23: uwskier20 | C23: 40617 | D23: 40681 | E23: Seattle, WA | F23: 4.1 | G23: 42300 | H23: 55.96 | I23: 41537 | J23: 1 | K23: =(I23-C23)/365 -> 2.5205479 | L23: =(I23-D23)/365 -> 2.3452055 | M23: =VLOOKUP(E23,'Aging Factor'!$A$145:$H$242,5,1) -> 0.71790831 | N23: =VLOOKUP(E23,'Aging Factor'!$A$145:$H$242,8,1) -> 1.1074565 | O23: =(M23*$B$49*SQRT(K23))-((0.32989795*K23)-1.302) -> 8.3348757 | P23: =$B$50*M23*(G23/12500)*('Degradation Model'!$B$26/F23) -> 5.5426501 | Q23: =IF(L23<1,P23,(VLOOKUP(INT(L23)+1,A$563:L$577,4,1)-VLOOKUP(INT(L23),A$563:L$577,4,1))*(L23-INT(L23))+VLOOKUP(INT(L23),A$563:L$577,4,1)) -> 5.8925109 | R23: =((N23-1)*(O23+Q23)*J23/7) -> 0.21840354 | S23: =O23+P23 -> 13.877526 | T23: =(1-AC23)*100 -> 85.55421 | U23: =281*T23/100 -> 240.40733 | V23: =W23/281*100 -> 70.635504 | W23: =T23*232/100 -> 198.48577 | X23: 6.2 | Y23: =G23/((I23-D23)/365)*X23 -> 111828.15 | Z23: =X23-L23 -> 3.8547945 | AA23: =IF(AND(X23<=5,Y23<60000),"Yes","No") -> No | AB23: =(S23+R23)/100 -> 0.14095929 | AC23: =(O23+Q23+R23)/100 -> 0.1444579 | AD23: =($B$75-H23)/$B$75 -> 0.15532075 | AE23: =AD23-AC23 -> 0.010862854 | AF23: =AD23-AB23 -> 0.014361462 | AG23: =AE23-AF23 -> -0.0034986077 | AH23: =AD23/AC23 -> 1.0751974
A24: =1+A23 -> 20 | B24: ttweed | C24: 40617 | D24: 40634 | E24: San Diego, CA | F24: 4.3 | G24: 35499 | H24: 52.99 | I24: 41529 | J24: 7 | K24: =(I24-C24)/365 -> 2.4986301 | L24: =(I24-D24)/365 -> 2.4520548 | M24: =VLOOKUP(E24,'Aging Factor'!$A$145:$H$242,5,1) -> 0.8820189 | N24: =VLOOKUP(E24,'Aging Factor'!$A$145:$H$242,8,1) -> 1.1854351 | O24: =(M24*$B$49*SQRT(K24))-((0.32989795*K24)-1.302) -> 10.097771 | P24: =$B$50*M24*(G24/12500)*('Degradation Model'!$B$26/F24) -> 5.449009 | Q24: =IF(L24<1,P24,(VLOOKUP(INT(L24)+1,A$585:L$599,4,1)-VLOOKUP(INT(L24),A$585:L$599,4,1))*(L24-INT(L24))+VLOOKUP(INT(L24),A$585:L$599,4,1)) -> 5.9287157 | R24: =((N24-1)*(O24+Q24)*J24/7) -> 2.971873 | S24: =O24+P24 -> 15.54678 | T24: =(1-AC24)*100 -> 81.00164 | U24: =281*T24/100 -> 227.61461 | V24: =W24/281*100 -> 66.876799 | W24: =T24*232/100 -> 187.92381 | X24: 4.6 | Y24: =G24/((I24-D24)/365)*X24 -> 66595.331 | Z24: =X24-L24 -> 2.1479452 | AA24: =IF(AND(X24<=5,Y24<60000),"Yes","No") -> No | AB24: =(S24+R24)/100 -> 0.18518653 | AC24: =(O24+Q24+R24)/100 -> 0.1899836 | AD24: =($B$75-H24)/$B$75 -> 0.20015094 | AE24: =AD24-AC24 -> 0.010167345 | AF24: =AD24-AB24 -> 0.014964412 | AG24: =AE24-AF24 -> -0.004797067 | AH24: =AD24/AC24 -> 1.053517
A25: =1+A24 -> 21 | B25: Devin | C25: 40678 | D25: 40710 | E25: Van Nuys, CA | F25: 4.4 | G25: 26328 | H25: 56.09 | I25: 41534 | J25: 5 | K25: =(I25-C25)/365 -> 2.3452055 | L25: =(I25-D25)/365 -> 2.2575342 | M25: =VLOOKUP(E25,'Aging Factor'!$A$145:$H$242,5,1) -> 0.98588743 | N25: =VLOOKUP(E25,'Aging Factor'!$A$145:$H$242,8,1) -> 1.1854351 | O25: =(M25*$B$49*SQRT(K25))-((0.32989795*K25)-1.302) -> 10.945902 | P25: =$B$50*M25*(G25/12500)*('Degradation Model'!$B$26/F25) -> 4.4145302 | Q25: =IF(L25<1,P25,(VLOOKUP(INT(L25)+1,A$607:L$621,4,1)-VLOOKUP(INT(L25),A$607:L$621,4,1))*(L25-INT(L25))+VLOOKUP(INT(L25),A$607:L$621,4,1)) -> 4.7638469 | R25: =((N25-1)*(O25+Q25)*J25/7) -> 2.0808134 | S25: =O25+P25 -> 15.360432 | T25: =(1-AC25)*100 -> 82.209438 | U25: =281*T25/100 -> 231.00852 | V25: =W25/281*100 -> 67.873984 | W25: =T25*232/100 -> 190.7259 | X25: 4.9 | Y25: =G25/((I25-D25)/365)*X25 -> 57145.18 | Z25: =X25-L25 -> 2.6424658 | AA25: =IF(AND(X25<=5,Y25<60000),"Yes","No") -> Yes | AB25: =(S25+R25)/100 -> 0.17441246 | AC25: =(O25+Q25+R25)/100 -> 0.17790562 | AD25: =($B$75-H25)/$B$75 -> 0.15335849 | AE25: =AD25-AC25 -> -0.024547133 | AF25: =AD25-AB25 -> -0.021053967 | AG25: =AE25-AF25 -> -0.0034931667 | AH25: =AD25/AC25 -> 0.8620216
A26: =1+A25 -> 22 | B26: vrwl | C26: 40770 | D26: 41075 | E26: Dallas, TX | F26: 4.5 | G26: 7772 | H26: 56.36 | I26: 41536 | J26: 2 | K26: =(I26-C26)/365 -> 2.0986301 | L26: =(I26-D26)/365 -> 1.2630137 | M26: =VLOOKUP(E26,'Aging Factor'!$A$145:$H$242,5,1) -> 1.1886265 | N26: =VLOOKUP(E26,'Aging Factor'!$A$145:$H$242,8,1) -> 1.1720674 | O26: =(M26*$B$49*SQRT(K26))-((0.32989795*K26)-1.302) -> 12.490925 | P26: =$B$50*M26*(G26/12500)*('Degradation Model'!$B$26/F26) -> 1.536235 | Q26: =IF(L26<1,P26,(VLOOKUP(INT(L26)+1,A$629:L$643,4,1)-VLOOKUP(INT(L26),A$629:L$643,4,1))*(L26-INT(L26))+VLOOKUP(INT(L26),A$629:L$649,4,1)) -> 1.5868696 | R26: =((N26-1)*(O26+Q26)*J26/7) -> 0.69209422 | S26: =O26+P26 -> 14.02716 | T26: =(1-AC26)*100 -> 85.230111 | U26: =281*T26/100 -> 239.49661 | V26: =W26/281*100 -> 70.367921 | W26: =T26*232/100 -> 197.73386 | X26: 5.7 | Y26: =G26/((I26-D26)/365)*X26 -> 35075.154 | Z26: =X26-L26 -> 4.4369863 | AA26: =IF(AND(X26<=5,Y26<60000),"Yes","No") -> No | AB26: =(S26+R26)/100 -> 0.14719254 | AC26: =(O26+Q26+R26)/100 -> 0.14769889 | AD26: =($B$75-H26)/$B$75 -> 0.14928302 | AE26: =AD26-AC26 -> 0.00158413 | AF26: =AD26-AB26 -> 0.0020904757 | AG26: =AE26-AF26 -> -0.00050634568 | AH26: =AD26/AC26 -> 1.0107254
A27: =1+A26 -> 23
A28: =1+A27 -> 24 | W28: Mean | X28: =AVERAGE(X5:X25) -> 5.752381 | Y28: =AVERAGE(Y5:Y25) -> 71561.3 | AD28: Mean | AE28: =AVERAGE(AE5:AE26) -> 0.0012420557 | AF28: =AVERAGE(AF5:AF26) -> 0.0049796362 | AG28: =AVERAGE(AG5:AG26) -> -0.0037375806 | AH28: =AVERAGE(AH5:AH26) -> 1.0003519
A29: =1+A28 -> 25 | W29: Standard Dev | X29: =_xlfn.STDEV.S(X5:X26) -> #NAME? | Y29: =_xlfn.STDEV.S(Y5:Y26) -> #NAME? | AD29: Standard Dev | AE29: =_xlfn.STDEV.S(AE5:AE26) -> #NAME? | AF29: =_xlfn.STDEV.S(AF5:AF26) -> #NAME? | AG29: =_xlfn.STDEV.S(AG5:AG26) -> #NAME? | AH29: =_xlfn.STDEV.S(AH5:AH26) -> #NAME?
A30: =1+A29 -> 26 | B30: No P3227 update | W30: Median | X30: =MEDIAN(X5:X26) -> 5.05 | Y30: =MEDIAN(Y5:Y26) -> 63782.406 | AD30: Median | AE30: =MEDIAN(AE5:AE26) -> 0.00153648 | AF30: =MEDIAN(AF5:AF26) -> 0.0053938318 | AG30: =MEDIAN(AG5:AG26) -> -0.0028254437 | AH30: =MEDIAN(AH5:AH26) -> 1.010077
A31: =1+A30 -> 27
A32: =1+A31 -> 28 | B32: mwalsh | C32: 40497 | D32: 40548 | E32: Van Nuys, CA | F32: 4.9 | G32: 33700 | H32: 52.54 | I32: 41512 | J32: 7 | K32: =(I32-C32)/365 -> 2.7808219 | L32: =(I32-D32)/365 -> 2.6410959 | M32: =VLOOKUP(E32,'Aging Factor'!$A$145:$H$242,5,1) -> 0.98588743 | N32: =VLOOKUP(E32,'Aging Factor'!$A$145:$H$242,8,1) -> 1.1854351 | O32: =(M32*$B$49*SQRT(K32))-((0.32989795*K32)-1.302) -> 11.728529 | P32: =K32*$B$50*M32*(G32/K32)/12500*'Degradation Model'!$B$26/F32 -> 5.074031 | Q32: =P32-(100*AG32) -> 5.6956871 | R32: =((N32-1)*S32*J32/7) -> 3.1157842 | S32: =O32+P32 -> 16.80256 | T32: =(1-AC32)*100 -> 79.46 | U32: =281*T32/100 -> 223.2826 | V32: =W32/281*100 -> 65.603986 | W32: =T32*232/100 -> 184.3472 | X32: 4.6 | Y32: =G32/((I32-D32)/365)*X32 -> 58695.332 | Z32: =X32-L32 -> 1.9589041 | AA32: =IF(AND(X32<=5,Y32<60000),"Yes","No") -> Yes | AB32: =(S32+R32)/100 -> 0.19918344 | AC32: 0.2054 | AD32: =($B$75-H32)/$B$75 -> 0.2069434 | AE32: =AD32-AC32 -> 0.0015433962 | AF32: =AD32-AB32 -> 0.0077599567 | AG32: =AE32-AF32 -> -0.0062165605 | AH32: =AD32/AC32 -> 1.0075141
A33: =1+A32 -> 29 | B33: kolmstead | C33: 40497 | D33: 40558 | E33: Ridgecrest, CA | F33: 5.2 | G33: 23660 | H33: 49 | I33: 41527 | J33: 4.5 | K33: =(I33-C33)/365 -> 2.8219178 | L33: =(I33-D33)/365 -> 2.6547945 | M33: =VLOOKUP(E33,'Aging Factor'!$A$145:$H$242,5,1) -> 1.2332203 | N33: =VLOOKUP(E33,'Aging Factor'!$A$145:$H$242,8,1) -> 1.2264598 | O33: =(M33*$B$49*SQRT(K33))-((0.32989795*K33)-1.302) -> 14.665324 | P33: =K33*$B$50*M33*(G33/K33)/12500*'Degradation Model'!$B$26/F33 -> 4.1989821 | Q33: =P33-(100*AG33) -> 4.7583858 | R33: =((N33-1)*S33*J33/7) -> 2.7462907 | S33: =O33+P33 -> 18.864306 | T33: =(1-AC33)*100 -> 77.83 | U33: =281*T33/100 -> 218.7023 | V33: =W33/281*100 -> 64.258221 | W33: =T33*232/100 -> 180.5656 | X33: 4.3 | Y33: =G33/((I33-D33)/365)*X33 -> 38322.363 | Z33: =X33-L33 -> 1.6452055 | AA33: =IF(AND(X33<=5,Y33<60000),"Yes","No") -> Yes | AB33: =(S33+R33)/100 -> 0.21610596 | AC33: 0.2217 | AD33: =($B$75-H33)/$B$75 -> 0.26037736 | AE33: =AD33-AC33 -> 0.038677358 | AF33: =AD33-AB33 -> 0.044271395 | AG33: =AE33-AF33 -> -0.0055940364 | AH33: =AD33/AC33 -> 1.1744581
A34: =1+A33 -> 30 | B34: SJFlyer | C34: 40617 | D34: 40663 | E34: San Jose, CA | F34: 4.2 | G34: 36563 | H34: 54.22 | I34: 41536 | J34: 5 | K34: =(I34-C34)/365 -> 2.5178082 | L34: =(I34-D34)/365 -> 2.3917808 | M34: =VLOOKUP(E34,'Aging Factor'!$A$145:$H$242,5,1) -> 0.84223088 | N34: =VLOOKUP(E34,'Aging Factor'!$A$145:$H$242,8,1) -> 1.1854351 | O34: =(M34*$B$49*SQRT(K34))-((0.32989795*K34)-1.302) -> 9.6926679 | P34: =K34*$B$50*M34*(G34/K34)/12500*'Degradation Model'!$B$26/F34 -> 5.4867562 | Q34: =P34-(100*AG34) -> 5.9867622 | R34: =((N34-1)*S34*J34/7) -> 2.0105699 | S34: =O34+P34 -> 15.179424 | T34: =(1-AC34)*100 -> 82.31 | U34: =281*T34/100 -> 231.2911 | V34: =W34/281*100 -> 67.957011 | W34: =T34*232/100 -> 190.9592 | X34: 5 | Y34: =G34/((I34-D34)/365)*X34 -> 76434.679 | Z34: =X34-L34 -> 2.6082192 | AA34: =IF(AND(X34<=5,Y34<60000),"Yes","No") -> No | AB34: =(S34+R34)/100 -> 0.17189994 | AC34: 0.1769 | AD34: =($B$75-H34)/$B$75 -> 0.18158491 | AE34: =AD34-AC34 -> 0.0046849057 | AF34: =AD34-AB34 -> 0.0096849656 | AG34: =AE34-AF34 -> -0.0050000599 | AH34: =AD34/AC34 -> 1.0264834
A35: =1+A34 -> 31 | B35: ecoobsessive | C35: 40617 | D35: 40683 | E35: San Antonio, TX | F35: 4.7 | G35: 24543 | H35: 49.35 | I35: 41537 | J35: 5 | K35: =(I35-C35)/365 -> 2.5205479 | L35: =(I35-D35)/365 -> 2.339726 | M35: =VLOOKUP(E35,'Aging Factor'!$A$145:$H$242,5,1) -> 1.2315134 | N35: =VLOOKUP(E35,'Aging Factor'!$A$145:$H$242,8,1) -> 1.1588505 | O35: =(M35*$B$49*SQRT(K35))-((0.32989795*K35)-1.302) -> 13.961214 | P35: =K35*$B$50*M35*(G35/K35)/12500*'Degradation Model'!$B$26/F35 -> 4.8123909 | Q35: =P35-(100*AG35) -> 5.3586454 | R35: =((N35-1)*S35*J35/7) -> 2.1301402 | S35: =O35+P35 -> 18.773605 | T35: =(1-AC35)*100 -> 78.55 | U35: =281*T35/100 -> 220.7255 | V35: =W35/281*100 -> 64.852669 | W35: =T35*232/100 -> 182.236 | X35: 3.9 | Y35: =G35/((I35-D35)/365)*X35 -> 40909.79 | Z35: =X35-L35 -> 1.560274 | AA35: =IF(AND(X35<=5,Y35<60000),"Yes","No") -> Yes | AB35: =(S35+R35)/100 -> 0.20903745 | AC35: 0.2145 | AD35: =($B$75-H35)/$B$75 -> 0.25509434 | AE35: =AD35-AC35 -> 0.04059434 | AF35: =AD35-AB35 -> 0.046056885 | AG35: =AE35-AF35 -> -0.0054625456 | AH35: =AD35/AC35 -> 1.189251
A36: =1+A35 -> 32 | B36: palmermd | C36: 40589 | D36: 40632 | E36: Sacramento, CA | F36: 4.2 | G36: 18770 | H36: 57.45 | I36: 41537 | J36: 1 | K36: =(I36-C36)/365 -> 2.5972603 | L36: =(I36-D36)/365 -> 2.4794521 | M36: =VLOOKUP(E36,'Aging Factor'!$A$145:$H$242,5,1) -> 0.87881642 | N36: =VLOOKUP(E36,'Aging Factor'!$A$145:$H$242,8,1) -> 1.1854351 | O36: =(M36*$B$49*SQRT(K36))-((0.32989795*K36)-1.302) -> 10.217654 | P36: =K36*$B$50*M36*(G36/K36)/12500*'Degradation Model'!$B$26/F36 -> 2.9390374 | Q36: =P36-(100*AG36) -> 3.133816 | R36: =((N36-1)*S36*J36/7) -> 0.34853031 | S36: =O36+P36 -> 13.156691 | T36: =(1-AC36)*100 -> 86.3 | U36: =281*T36/100 -> 242.503 | V36: =W36/281*100 -> 71.251246 | W36: =T36*232/100 -> 200.216 | X36: 8.8 | Y36: =G36/((I36-D36)/365)*X36 -> 66617.945 | Z36: =X36-L36 -> 6.3205479 | AA36: =IF(AND(X36<=5,Y36<60000),"Yes","No") -> No | AB36: =(S36+R36)/100 -> 0.13505221 | AC36: 0.137 | AD36: =($B$75-H36)/$B$75 -> 0.13283019 | AE36: =AD36-AC36 -> -0.0041698113 | AF36: =AD36-AB36 -> -0.0022220255 | AG36: =AE36-AF36 -> -0.0019477858 | AH36: =AD36/AC36 -> 0.96956342
A37: =1+A36 -> 33 | B37: WetEV | C37: 40983 | D37: 41034 | E37: Seattle, WA | F37: 4.3 | G37: 15600 | H37: 62.78 | I37: 41531 | J37: 0.5 | K37: =(I37-C37)/365 -> 1.5013699 | L37: =(I37-D37)/365 -> 1.3616438 | M37: =VLOOKUP(E37,'Aging Factor'!$A$145:$H$242,5,1) -> 0.71790831 | N37: =VLOOKUP(E37,'Aging Factor'!$A$145:$H$242,8,1) -> 1.1074565 | O37: =(M37*$B$49*SQRT(K37))-((0.32989795*K37)-1.302) -> 6.876327 | P37: =K37*$B$50*M37*(G37/K37)/12500*'Degradation Model'!$B$26/F37 -> 1.9490236 | Q37: =P37-(100*AG37) -> 1.9959343 | R37: =((N37-1)*S37*J37/7) -> 0.067738648 | S37: =O37+P37 -> 8.8253506 | T37: =(1-AC37)*100 -> 91.06 | U37: =281*T37/100 -> 255.8786 | V37: =W37/281*100 -> 75.18121 | W37: =T37*232/100 -> 211.2592 | X37: 9.4 | Y37: =G37/((I37-D37)/365)*X37 -> 107693.36 | Z37: =X37-L37 -> 8.0383562 | AA37: =IF(AND(X37<=5,Y37<60000),"Yes","No") -> No | AB37: =(S37+R37)/100 -> 0.088930892 | AC37: 0.0894 | AD37: =($B$75-H37)/$B$75 -> 0.052377358 | AE37: =AD37-AC37 -> -0.037022642 | AF37: =AD37-AB37 -> -0.036553534 | AG37: =AE37-AF37 -> -0.00046910764 | AH37: =AD37/AC37 -> 0.58587649
A38: =1+A37 -> 34 | B38: tivollix | C38: 40709 | D38: 41136 | E38: Montreal, Canada | F38: 4.5 | G38: 8761 | H38: 58 | I38: 41528 | J38: 3.5 | K38: =(I38-C38)/365 -> 2.2438356 | L38: =(I38-D38)/365 -> 1.0739726 | M38: =VLOOKUP(E38,'Aging Factor'!$A$145:$H$242,5,1) -> 0.6806271 | N38: =VLOOKUP(E38,'Aging Factor'!$A$145:$H$242,8,1) -> 1 | O38: =(M38*$B$49*SQRT(K38))-((0.32989795*K38)-1.302) -> 7.5965971 | P38: =$B$50*M38*(G38/12500)*('Degradation Model'!$B$26/F38) -> 0.99161336 | Q38: =P38-(100*AG38) -> 1.7534029 | R38: =((N38-1)*S38*J38/7) -> 0 | S38: =O38+P38 -> 8.5882105 | T38: =(1-AC38)*100 -> 90.65 | U38: =281*T38/100 -> 254.7265 | V38: =W38/281*100 -> 74.842705 | W38: =T38*232/100 -> 210.308 | X38: 13.6 | Y38: =G38/((I38-D38)/365)*X38 -> 110942.87 | Z38: =X38-L38 -> 12.526027 | AA38: =IF(AND(X38<=5,Y38<60000),"Yes","No") -> No | AB38: =(S38+R38)/100 -> 0.085882105 | AC38: 0.0935 | AD38: =($B$75-H38)/$B$75 -> 0.1245283 | AE38: =AD38-AC38 -> 0.031028302 | AF38: =AD38-AB38 -> 0.038646197 | AG38: =AE38-AF38 -> -0.0076178955 | AH38: =AD38/AC38 -> 1.3318535 | AI38: Spent 14 months in California
A39: =1+A38 -> 35
A40: =1+A39 -> 36 | B40: 2013 Model
A41: =1+A40 -> 37
A42: =1+A41 -> 38 | B42: dm33 | C42: 41334 | D42: 41424 | E42: Raleigh, NC | F42: 4.4 | G42: 3597 | H42: 60.42 | I42: 41521 | J42: 1 | K42: =(I42-C42)/365 -> 0.51232877 | L42: =(I42-D42)/365 -> 0.26575342 | M42: =VLOOKUP(E42,'Aging Factor'!$A$145:$H$242,5,1) -> 0.90048163 | N42: =VLOOKUP(E42,'Aging Factor'!$A$145:$H$242,8,1) -> 1.1588505 | O42: =(M42*$B$49*SQRT(K42))-((0.32989795*K42)-1.302) -> 5.5803032 | P42: =K42*$B$50*M42*(G42/K42)/12500*'Degradation Model'!$B$26/F42 -> 0.55087693 | Q42: =P42-(100*AG42) -> 0.55056241 | R42: =((N42-1)*S42*J42/7) -> 0.13913442 | S42: =O42+P42 -> 6.1311801 | T42: =(1-AC42)*100 -> 93.73 | U42: =281*T42/100 -> 263.3813 | V42: =W42/281*100 -> 77.385623 | W42: =T42*232/100 -> 217.4536 | X42: 5.8 | Y42: =G42/((I42-D42)/365)*X42 -> 78503.598 | Z42: =X42-L42 -> 5.5342466 | AA42: =IF(AND(X42<=5,Y42<60000),"Yes","No") -> No | AB42: =(S42+R42)/100 -> 0.062703145 | AC42: 0.0627 | AD42: =($B$75-H42)/$B$75 -> 0.088 | AE42: =AD42-AC42 -> 0.0253 | AF42: =AD42-AB42 -> 0.025296855 | AG42: =AE42-AF42 -> 3.1452818e-06 | AH42: =AD42/AC42 -> 1.4035088 | AI42: 2013 model
A43: =1+A42 -> 39 | B43: bradbissel | C43: 41348 | D43: 41364 | E43: Boston, MA | F43: 4.3 | G43: 6415 | H43: 65.37 | I43: 41523 | J43: 2 | K43: =(I43-C43)/365 -> 0.47945205 | L43: =(I43-D43)/365 -> 0.43561644 | M43: =VLOOKUP(E43,'Aging Factor'!$A$145:$H$242,5,1) -> 0.75 | N43: =VLOOKUP(E43,'Aging Factor'!$A$145:$H$242,8,1) -> 1.1328621 | O43: =(M43*$B$49*SQRT(K43))-((0.32989795*K43)-1.302) -> 4.7271279 | P43: =K43*$B$50*M43*(G43/K43)/12500*'Degradation Model'!$B$26/F43 -> 0.83730067 | Q43: =P43-(100*AG43) -> 0.84164309 | R43: =((N43-1)*S43*J43/7) -> 0.211229 | S43: =O43+P43 -> 5.5644286 | T43: =(1-AC43)*100 -> 94.22 | U43: =281*T43/100 -> 264.7582 | V43: =W43/281*100 -> 77.790178 | W43: =T43*232/100 -> 218.5904 | X43: 7 | Y43: =G43/((I43-D43)/365)*X43 -> 103083.81 | Z43: =X43-L43 -> 6.5643836 | AA43: =IF(AND(X43<=5,Y43<60000),"Yes","No") -> No | AB43: =(S43+R43)/100 -> 0.057756576 | AC43: 0.0578 | AD43: =($B$75-H43)/$B$75 -> 0.013283019 | AE43: =AD43-AC43 -> -0.044516981 | AF43: =AD43-AB43 -> -0.044473557 | AG43: =AE43-AF43 -> -4.3424204e-05 | AH43: =AD43/AC43 -> 0.22981002 | AI43: 2013 model
A44: =1+A43 -> 40 | T44: =(1-AC44)*100 -> 100
A45: =1+A44 -> 41 | T45: =(1-AC45)*100 -> 100
A46: =1+A45 -> 42
W47: Mean | X47: =AVERAGE(X32,X33,X34,X36,X37,X38,X42,X43) -> 7.3125 | AD47: P3227 Max | AE47: =MAX(AE5:AE25) -> 0.024717694
AD48: P3227 Min | AE48: =MIN(AE5:AE25) -> -0.028703185
A49: Calendar Loss % | B49: 6.9
A50: Cycling Loss % | B50: 2 | AD50: Range | AE50: =AE47-AE48 -> 0.053420879
A53: Row Number to Calc | B53: 10 | C53: =VLOOKUP(B53,A5:J46,2,1) -> Stoaty
E56: Fractional Year / Total Miles Prediction
Q57: =VLOOKUP(F67,'End of Life'!H269:I518,2,1) -> 6.8
I58: Corrected | J58: Solar Loading | K58: Calendar Plus | L58: Predicted | M58: Remaining | N58: Full Charge | O58: 80% Charge | P58: 80% Charge
A59: City | B59: =VLOOKUP(B53,A5:L46,5,1) -> Van Nuys, CA | G59: Calendar Loss | H59: Cycling Loss | I59: Cycling Loss | J59: Loss | K59: Cycling Loss | L59: Total Loss | M59: % Capacity | N59: Gids | O59: % Gids | P59: Gids
A61: Miles/kwh | B61: =VLOOKUP(B53,A5:L46,6,1) -> 5.6 | E61: Battery Age (years) | F61: =(B69-B65)/365 -> 2.4273973 | G61: =($O$63*$B$49*SQRT(F61))-((0.32989795*F61)-1.302) -> 11.099766 | H61: =$B$50*$O$63*($F$65/12500)*('Degradation Model'!$B$26/$B$61) -> 2.7534523 | I61: =IF(F63<1,H61,(VLOOKUP(INT(F63)+1,$A$89:$L$103,4,1)-VLOOKUP(INT(F63),$A$89:$L$103,4,1))*(F63-INT(F63))+VLOOKUP(INT(F63),$A$89:$L$103,4,1)) -> 2.9507089 | J61: =(($O$64-1)*K61*$B$63/7) -> 1.4888292 | K61: =G61+I61 -> 14.050475 | L61: =K61+J61 -> 15.539304 | M61: =100-L61 -> 84.460696 | N61: =281*M61/100 -> 237.33455 | O61: =P61/281*100 -> 69.732674 | P61: =M61*232/100 -> 195.94881
A63: Days/week in Sun | B63: =VLOOKUP(B53,A5:L46,10,1) -> 4 | E63: Years in Service | F63: =(B69-B67)/365 -> 2.2684932 | N63: Calibration Tab Aging Factor | O63: =VLOOKUP(Calibration!B59,'Aging Factor'!A145:G242,5,1) -> 0.98588743
K64: Actual Loss | L64: =(B75-B73)/B75*100 -> 14.29434 | N64: Calibration Tab Solar Loading | O64: =VLOOKUP(Calibration!B59,'Aging Factor'!A145:H242,8,1) -> 1.1854351
A65: Manufacture Date | B65: =VLOOKUP(B53,A5:L46,3,1) -> 40648 | E65: Total Mileage | F65: =VLOOKUP(B53,A5:L46,7,1) -> 20900 | H65: Note: fractional years will be less
H66: Accurate due to seasonal effects | K66: Actual Minus | L66: =L64-L61 -> -1.2449648 | O66: Fractional Year
A67: Date of Delivery | B67: =VLOOKUP(B53,A5:L46,4,1) -> 40706 | E67: End of Life Percent | F67: 70 | H67: on aging factors | K67: Predicted
O68: Calendar Loss | P68: Corrected Cycling Loss | Q68: Solar Loading Loss
A69: Date of Reading | B69: =VLOOKUP(B53,A5:L46,9,1) -> 41534 | N69: Relative Loss | O69: =O70/(SUM($O$70:$Q$70)) -> 0.71430265 | P69: =P70/(SUM($O$70:$Q$70)) -> 0.18988681 | Q69: =Q70/(SUM($O$70:$Q$70)) -> 0.095810544
F70: End of Life | G70: Service Years | H70: Miles at | I70: Qualify for | N70: Absolute Loss | O70: =G61/100 -> 0.11099766 | P70: =I61/100 -> 0.029507089 | Q70: =J61/100 -> 0.014888292
A71: Annual Mileage | B71: =F65/F63 -> 9213.1643 | E71: End of Life Percent | F71: Years | G71: Remaining | H71: End of Life | I71: Warranty?
A73: Actual Capacity (AH) | B73: 56.78 | E73: 90 | F73: =IF($L$61>100-E73,$F$63,VLOOKUP(E73,'End of Life'!$H$269:$I$518,2,1)) -> 2.2684932 | G73: =F73-$F$63 -> 0 | H73: =F73*$B$71 -> 20900
E74: 85 | F74: =IF($L$61>100-E74,$F$63,VLOOKUP(E74,'End of Life'!$H$269:$I$518,2,1)) -> 2.2684932 | G74: =F74-$F$63 -> 0 | H74: =F74*$B$71 -> 20900
A75: Capacity When New | B75: 66.25 | E75: 80 | F75: =IF($L$61>100-E75,$F$63,VLOOKUP(E75,'End of Life'!$H$269:$I$518,2,1)) -> 3.6 | G75: =F75-$F$63 -> 1.3315068 | H75: =F75*$B$71 -> 33167.391
E76: 75 | F76: =IF($L$61>100-E76,$F$63,VLOOKUP(E76,'End of Life'!$H$269:$I$518,2,1)) -> 5.2 | G76: =F76-$F$63 -> 2.9315068 | H76: =F76*$B$71 -> 47908.454
E77: 70 | F77: =IF($L$61>100-E77,$F$63,VLOOKUP(E77,'End of Life'!$H$269:$I$518,2,1)) -> 6.8 | G77: =F77-$F$63 -> 4.5315068 | H77: =F77*$B$71 -> 62649.517 | I77: =IF(AND(F77<=5,H77<60000),"Yes","No") -> No
E78: 65 | F78: =IF($L$61>100-E78,$F$63,VLOOKUP(E78,'End of Life'!$H$269:$I$518,2,1)) -> 8.5 | G78: =F78-$F$63 -> 6.2315068 | H78: =F78*$B$71 -> 78311.896 | I78: =IF(AND(F78<=5,H78<60000),"Yes","No") -> No
E79: 60 | F79: =IF($L$61>100-E79,$F$63,VLOOKUP(E79,'End of Life'!$H$269:$I$518,2,1)) -> 10.2 | G79: =F79-$F$63 -> 7.9315068 | H79: =F79*$B$71 -> 93974.275
E80: 55 | F80: =IF($L$61>100-E80,$F$63,VLOOKUP(E80,'End of Life'!$H$269:$I$518,2,1)) -> 11.8 | G80: =F80-$F$63 -> 9.5315068 | H80: =F80*$B$71 -> 108715.34
E81: 50 | F81: =IF($L$61>100-E81,$F$63,VLOOKUP(E81,'End of Life'!$H$269:$I$518,2,1)) -> 13.3 | G81: =F81-$F$63 -> 11.031507 | H81: =F81*$B$71 -> 122535.08
A84: Yearly Prediction
B86: Percent | C86: Percent | D86: Corrected | E86: Solar Loading | F86: Calendar Plus | G86: Percent | H86: Year to Year | I86: Remaining | J86: Full Charge | K86: 80% Charge | L86: 80% Charge
A87: Year | B87: Calendar Loss | C87: Cycling Loss | D87: Cycling Loss | E87: Loss | F87: Cycling Loss | G87: Total Loss | H87: Increment Loss | I87: Capacity | J87: Gids | K87: % Gids | L87: Gids
A89: 1 | B89: =(VLOOKUP($B$59,'Aging Factor'!$A$145:$G$242,5,1)*SQRT(A89+$F$61-$F$63)*Calibration!$B$49)-((0.32989795*(A89+$F$61-$F$63))-1.302) -> 8.2428677 | C89: =A89*$B$50*(VLOOKUP($B$59,'Aging Factor'!$A$145:$G$242,5,1)*($B$71/12500)*('Degradation Model'!$B$26/$B$61)) -> 1.2137803 | D89: =C89 -> 1.2137803 | E89: =((VLOOKUP($B$59,'Aging Factor'!$A$145:$H$242,8,1)-1)*F89*$B$63/7) -> 1.0020539 | F89: =B89+D89 -> 9.456648 | G89: =F89+E89 -> 10.458702 | H89: =G89 -> 10.458702 | I89: =IF(100-G89<=5,5,100-G89) -> 89.541298 | J89: =IF(281*I89/100>0,281*I89/100,0) -> 251.61105 | K89: =IF(L89/281*100>0,L89/281*100,0) -> 73.927335 | L89: =IF(I89*232/100>0,I89*232/100,0) -> 207.73581
A90: =A89+1 -> 2 | B90: =(VLOOKUP($B$59,'Aging Factor'!$A$145:$G$242,5,1)*SQRT(A90+$F$61-$F$63)*Calibration!$B$49)-((0.32989795*(A90+$F$61-$F$63))-1.302) -> 10.585019 | C90: =A90*$B$50*(VLOOKUP($B$59,'Aging Factor'!$A$145:$G$242,5,1)*($B$71/12500)*('Degradation Model'!$B$26/$B$61)) -> 2.4275606 | D90: =D89+(C89*100/I89) -> 2.5693339 | E90: =((VLOOKUP($B$59,'Aging Factor'!$A$145:$H$242,8,1)-1)*F90*$B$63/7) -> 1.3938735 | F90: =B90+D90 -> 13.154353 | G90: =F90+E90 -> 14.548226 | H90: =G90-G89 -> 4.0895244 | I90: =IF(100-G90<=5,5,100-G90) -> 85.451774 | J90: =IF(281*I90/100>0,281*I90/100,0) -> 240.11948 | K90: =IF(L90/281*100>0,L90/281*100,0) -> 70.550931 | L90: =IF(I90*232/100>0,I90*232/100,0) -> 198.24811
A91: =A90+1 -> 3 | B91: =(VLOOKUP($B$59,'Aging Factor'!$A$145:$G$242,5,1)*SQRT(A91+$F$61-$F$63)*Calibration!$B$49)-((0.32989795*(A91+$F$61-$F$63))-1.302) -> 12.350395 | C91: =A91*$B$50*(VLOOKUP($B$59,'Aging Factor'!$A$145:$G$242,5,1)*($B$71/12500)*('Degradation Model'!$B$26/$B$61)) -> 3.6413409 | D91: =D90+(C89*100/I90) -> 3.9897612 | E91: =((VLOOKUP($B$59,'Aging Factor'!$A$145:$H$242,8,1)-1)*F91*$B$63/7) -> 1.7314504 | F91: =B91+D91 -> 16.340156 | G91: =F91+E91 -> 18.071606 | H91: =G91-G90 -> 3.5233798 | I91: =IF(100-G91<=5,5,100-G91) -> 81.928394 | J91: =IF(281*I91/100>0,281*I91/100,0) -> 230.21879 | K91: =IF(L91/281*100>0,L91/281*100,0) -> 67.641948 | L91: =IF(I91*232/100>0,I91*232/100,0) -> 190.07387
A92: =A91+1 -> 4 | B92: =(VLOOKUP($B$59,'Aging Factor'!$A$145:$G$242,5,1)*SQRT(A92+$F$61-$F$63)*Calibration!$B$49)-((0.32989795*(A92+$F$61-$F$63))-1.302) -> 13.802842 | C92: =A92*$B$50*(VLOOKUP($B$59,'Aging Factor'!$A$145:$G$242,5,1)*($B$71/12500)*('Degradation Model'!$B$26/$B$61)) -> 4.8551212 | D92: =D91+(C89*100/I91) -> 5.4712748 | E92: =((VLOOKUP($B$59,'Aging Factor'!$A$145:$H$242,8,1)-1)*F92*$B$63/7) -> 2.0423415 | F92: =B92+D92 -> 19.274117 | G92: =F92+E92 -> 21.316458 | H92: =G92-G91 -> 3.244852 | I92: =IF(100-G92<=5,5,100-G92) -> 78.683542 | J92: =IF(281*I92/100>0,281*I92/100,0) -> 221.10075 | K92: =IF(L92/281*100>0,L92/281*100,0) -> 64.962924 | L92: =IF(I92*232/100>0,I92*232/100,0) -> 182.54582
A93: =A92+1 -> 5 | B93: =(VLOOKUP($B$59,'Aging Factor'!$A$145:$G$242,5,1)*SQRT(A93+$F$61-$F$63)*Calibration!$B$49)-((0.32989795*(A93+$F$61-$F$63))-1.302) -> 15.051037 | C93: =A93*$B$50*(VLOOKUP($B$59,'Aging Factor'!$A$145:$G$242,5,1)*($B$71/12500)*('Degradation Model'!$B$26/$B$61)) -> 6.0689015 | D93: =D92+(C89*100/I92) -> 7.013885 | E93: =((VLOOKUP($B$59,'Aging Factor'!$A$145:$H$242,8,1)-1)*F93*$B$63/7) -> 2.3380633 | F93: =B93+D93 -> 22.064922 | G93: =F93+E93 -> 24.402985 | H93: =G93-G92 -> 3.0865268 | I93: =IF(100-G93<=5,5,100-G93) -> 75.597015 | J93: =IF(281*I93/100>0,281*I93/100,0) -> 212.42761 | K93: =IF(L93/281*100>0,L93/281*100,0) -> 62.414617 | L93: =IF(I93*232/100>0,I93*232/100,0) -> 175.38507
A94: =A93+1 -> 6 | B94: =(VLOOKUP($B$59,'Aging Factor'!$A$145:$G$242,5,1)*SQRT(A94+$F$61-$F$63)*Calibration!$B$49)-((0.32989795*(A94+$F$61-$F$63))-1.302) -> 16.152355 | C94: =A94*$B$50*(VLOOKUP($B$59,'Aging Factor'!$A$145:$G$242,5,1)*($B$71/12500)*('Degradation Model'!$B$26/$B$61)) -> 7.2826818 | D94: =D93+(C89*100/I93) -> 8.6194779 | E94: =((VLOOKUP($B$59,'Aging Factor'!$A$145:$H$242,8,1)-1)*F94*$B$63/7) -> 2.6248955 | F94: =B94+D94 -> 24.771833 | G94: =F94+E94 -> 27.396729 | H94: =G94-G93 -> 2.9937436 | I94: =IF(100-G94<=5,5,100-G94) -> 72.603271 | J94: =IF(281*I94/100>0,281*I94/100,0) -> 204.01519 | K94: =IF(L94/281*100>0,L94/281*100,0) -> 59.942915 | L94: =IF(I94*232/100>0,I94*232/100,0) -> 168.43959
A95: =A94+1 -> 7 | B95: =(VLOOKUP($B$59,'Aging Factor'!$A$145:$G$242,5,1)*SQRT(A95+$F$61-$F$63)*Calibration!$B$49)-((0.32989795*(A95+$F$61-$F$63))-1.302) -> 17.141478 | C95: =A95*$B$50*(VLOOKUP($B$59,'Aging Factor'!$A$145:$G$242,5,1)*($B$71/12500)*('Degradation Model'!$B$26/$B$61)) -> 8.4964621 | D95: =D94+(C89*100/I94) -> 10.291276 | E95: =((VLOOKUP($B$59,'Aging Factor'!$A$145:$H$242,8,1)-1)*F95*$B$63/7) -> 2.9068545 | F95: =B95+D95 -> 27.432755 | G95: =F95+E95 -> 30.339609 | H95: =G95-G94 -> 2.9428806 | I95: =IF(100-G95<=5,5,100-G95) -> 69.660391 | J95: =IF(281*I95/100>0,281*I95/100,0) -> 195.7457 | K95: =IF(L95/281*100>0,L95/281*100,0) -> 57.513205 | L95: =IF(I95*232/100>0,I95*232/100,0) -> 161.61211
A96: =A95+1 -> 8 | B96: =(VLOOKUP($B$59,'Aging Factor'!$A$145:$G$242,5,1)*SQRT(A96+$F$61-$F$63)*Calibration!$B$49)-((0.32989795*(A96+$F$61-$F$63))-1.302) -> 18.041268 | C96: =A96*$B$50*(VLOOKUP($B$59,'Aging Factor'!$A$145:$G$242,5,1)*($B$71/12500)*('Degradation Model'!$B$26/$B$61)) -> 9.7102424 | D96: =D95+(C89*100/I95) -> 12.033702 | E96: =((VLOOKUP($B$59,'Aging Factor'!$A$145:$H$242,8,1)-1)*F96*$B$63/7) -> 3.1868313 | F96: =B96+D96 -> 30.07497 | G96: =F96+E96 -> 33.261801 | H96: =G96-G95 -> 2.9221919 | I96: =IF(100-G96<=5,5,100-G96) -> 66.738199 | J96: =IF(281*I96/100>0,281*I96/100,0) -> 187.53434 | K96: =IF(L96/281*100>0,L96/281*100,0) -> 55.100577 | L96: =IF(I96*232/100>0,I96*232/100,0) -> 154.83262 | O96: End of Life 70%
A97: =A96+1 -> 9 | B97: =(VLOOKUP($B$59,'Aging Factor'!$A$145:$G$242,5,1)*SQRT(A97+$F$61-$F$63)*Calibration!$B$49)-((0.32989795*(A97+$F$61-$F$63))-1.302) -> 18.867739 | C97: =A97*$B$50*(VLOOKUP($B$59,'Aging Factor'!$A$145:$G$242,5,1)*($B$71/12500)*('Degradation Model'!$B$26/$B$61)) -> 10.924023 | D97: =D96+(C89*100/I96) -> 13.852421 | E97: =((VLOOKUP($B$59,'Aging Factor'!$A$145:$H$242,8,1)-1)*F97*$B$63/7) -> 3.4671232 | F97: =B97+D97 -> 32.720159 | G97: =F97+E97 -> 36.187282 | H97: =G97-G96 -> 2.9254814 | I97: =IF(100-G97<=5,5,100-G97) -> 63.812718 | J97: =IF(281*I97/100>0,281*I97/100,0) -> 179.31374 | K97: =IF(L97/281*100>0,L97/281*100,0) -> 52.685233 | L97: =IF(I97*232/100>0,I97*232/100,0) -> 148.0455
A98: =A97+1 -> 10 | B98: =(VLOOKUP($B$59,'Aging Factor'!$A$145:$G$242,5,1)*SQRT(A98+$F$61-$F$63)*Calibration!$B$49)-((0.32989795*(A98+$F$61-$F$63))-1.302) -> 19.632624 | C98: =A98*$B$50*(VLOOKUP($B$59,'Aging Factor'!$A$145:$G$242,5,1)*($B$71/12500)*('Degradation Model'!$B$26/$B$61)) -> 12.137803 | D98: =D97+(C89*100/I97) -> 15.754518 | E98: =((VLOOKUP($B$59,'Aging Factor'!$A$145:$H$242,8,1)-1)*F98*$B$63/7) -> 3.7497245 | F98: =B98+D98 -> 35.387142 | G98: =F98+E98 -> 39.136867 | H98: =G98-G97 -> 2.9495843 | I98: =IF(100-G98<=5,5,100-G98) -> 60.863133 | J98: =IF(281*I98/100>0,281*I98/100,0) -> 171.0254 | K98: =IF(L98/281*100>0,L98/281*100,0) -> 50.249989 | L98: =IF(I98*232/100>0,I98*232/100,0) -> 141.20247 | O98: Calendar Loss | P98: Corrected Cycling Loss | Q98: Solar Loading Loss
A99: =A98+1 -> 11 | B99: =(VLOOKUP($B$59,'Aging Factor'!$A$145:$G$242,5,1)*SQRT(A99+$F$61-$F$63)*Calibration!$B$49)-((0.32989795*(A99+$F$61-$F$63))-1.302) -> 20.344827 | C99: =A99*$B$50*(VLOOKUP($B$59,'Aging Factor'!$A$145:$G$242,5,1)*($B$71/12500)*('Degradation Model'!$B$26/$B$61)) -> 13.351583 | D99: =D98+(C89*100/I98) -> 17.748797 | E99: =((VLOOKUP($B$59,'Aging Factor'!$A$145:$H$242,8,1)-1)*F99*$B$63/7) -> 4.0365111 | F99: =B99+D99 -> 38.093623 | G99: =F99+E99 -> 42.130134 | H99: =G99-G98 -> 2.9932678 | I99: =IF(100-G99<=5,5,100-G99) -> 57.869866 | J99: =IF(281*I99/100>0,281*I99/100,0) -> 162.61432 | K99: =IF(L99/281*100>0,L99/281*100,0) -> 47.778679 | L99: =IF(I99*232/100>0,I99*232/100,0) -> 134.25809 | N99: Relative Loss | O99: =O100/(SUM($O$100:$Q$100)) -> 0.56375064 | P99: =P100/(SUM($O$100:$Q$100)) -> 0.34043882 | Q99: =Q100/(SUM($O$100:$Q$100)) -> 0.095810544 | AE99: =INDIRECT("B" & (A10+1)) -> Drees
A100: =A99+1 -> 12 | B100: =(VLOOKUP($B$59,'Aging Factor'!$A$145:$G$242,5,1)*SQRT(A100+$F$61-$F$63)*Calibration!$B$49)-((0.32989795*(A100+$F$61-$F$63))-1.302) -> 21.011291 | C100: =A100*$B$50*(VLOOKUP($B$59,'Aging Factor'!$A$145:$G$242,5,1)*($B$71/12500)*('Degradation Model'!$B$26/$B$61)) -> 14.565364 | D100: =D99+(C89*100/I99) -> 19.846227 | E100: =((VLOOKUP($B$59,'Aging Factor'!$A$145:$H$242,8,1)-1)*F100*$B$63/7) -> 4.3293815 | F100: =B100+D100 -> 40.857519 | G100: =F100+E100 -> 45.1869 | H100: =G100-G99 -> 3.0567658 | I100: =IF(100-G100<=5,5,100-G100) -> 54.8131 | J100: =IF(281*I100/100>0,281*I100/100,0) -> 154.02481 | K100: =IF(L100/281*100>0,L100/281*100,0) -> 45.254943 | L100: =IF(I100*232/100>0,I100*232/100,0) -> 127.16639 | N100: Absolute Loss | O100: =VLOOKUP(F77,'End of Life'!A269:I518,2,0)/100 -> 0.16951412 | P100: =VLOOKUP(F77,'End of Life'!A269:I518,4,0)/100 -> 0.10236651 | Q100: =VLOOKUP(F77,'End of Life'!A269:I518,5,0)/100 -> 0.028809262
A101: =A100+1 -> 13 | B101: =(VLOOKUP($B$59,'Aging Factor'!$A$145:$G$242,5,1)*SQRT(A101+$F$61-$F$63)*Calibration!$B$49)-((0.32989795*(A101+$F$61-$F$63))-1.302) -> 21.637559 | C101: =A101*$B$50*(VLOOKUP($B$59,'Aging Factor'!$A$145:$G$242,5,1)*($B$71/12500)*('Degradation Model'!$B$26/$B$61)) -> 15.779144 | D101: =D100+(C89*100/I100) -> 22.060626 | E101: =((VLOOKUP($B$59,'Aging Factor'!$A$145:$H$242,8,1)-1)*F101*$B$63/7) -> 4.6303867 | F101: =B101+D101 -> 43.698185 | G101: =F101+E101 -> 48.328571 | H101: =G101-G100 -> 3.1416711 | I101: =IF(100-G101<=5,5,100-G101) -> 51.671429 | J101: =IF(281*I101/100>0,281*I101/100,0) -> 145.19671 | K101: =IF(L101/281*100>0,L101/281*100,0) -> 42.661108 | L101: =IF(I101*232/100>0,I101*232/100,0) -> 119.87771
A102: =A101+1 -> 14 | B102: =(VLOOKUP($B$59,'Aging Factor'!$A$145:$G$242,5,1)*SQRT(A102+$F$61-$F$63)*Calibration!$B$49)-((0.32989795*(A102+$F$61-$F$63))-1.302) -> 22.228135 | C102: =A102*$B$50*(VLOOKUP($B$59,'Aging Factor'!$A$145:$G$242,5,1)*($B$71/12500)*('Degradation Model'!$B$26/$B$61)) -> 16.992924 | D102: =D101+(C89*100/I101) -> 24.409661 | E102: =((VLOOKUP($B$59,'Aging Factor'!$A$145:$H$242,8,1)-1)*F102*$B$63/7) -> 4.9418765 | F102: =B102+D102 -> 46.637796 | G102: =F102+E102 -> 51.579672 | H102: =G102-G101 -> 3.251101 | I102: =IF(100-G102<=5,5,100-G102) -> 48.420328 | J102: =IF(281*I102/100>0,281*I102/100,0) -> 136.06112 | K102: =IF(L102/281*100>0,L102/281*100,0) -> 39.976925 | L102: =IF(I102*232/100>0,I102*232/100,0) -> 112.33516
A103: =A102+1 -> 15 | B103: =(VLOOKUP($B$59,'Aging Factor'!$A$145:$G$242,5,1)*SQRT(A103+$F$61-$F$63)*Calibration!$B$49)-((0.32989795*(A103+$F$61-$F$63))-1.302) -> 22.78674 | C103: =A103*$B$50*(VLOOKUP($B$59,'Aging Factor'!$A$145:$G$242,5,1)*($B$71/12500)*('Degradation Model'!$B$26/$B$61)) -> 18.206705 | D103: =D102+(C89*100/I102) -> 26.916419 | E103: =((VLOOKUP($B$59,'Aging Factor'!$A$145:$H$242,8,1)-1)*F103*$B$63/7) -> 5.2666912 | F103: =B103+D103 -> 49.703159 | G103: =F103+E103 -> 54.96985 | H103: =G103-G102 -> 3.3901774 | I103: =IF(100-G103<=5,5,100-G103) -> 45.03015 | J103: =IF(281*I103/100>0,281*I103/100,0) -> 126.53472 | K103: =IF(L103/281*100>0,L103/281*100,0) -> 37.177918 | L103: =IF(I103*232/100>0,I103*232/100,0) -> 104.46995
A162: Weatherman
B164: Percent | C164: Percent | D164: Corrected | E164: Solar Loading | F164: Calendar Plus | G164: Percent | H164: Year to Year | I164: Remaining | J164: Full Charge | K164: 80% Charge | L164: 80% Charge
A165: Year | B165: Calendar Loss | C165: Cycling Loss | D165: Cycling Loss | E165: Loss | F165: Cycling Loss | G165: Total Loss | H165: Increment Loss | I165: Capacity | J165: Gids | K165: % Gids | L165: Gids
A167: 1 | B167: =(VLOOKUP(E$5,'Aging Factor'!$A$145:$G$242,5,1)*(SQRT(A167+K$5-L$5)*Calibration!$B$49)-((0.32989795*(A167+K$5-L$5)-1.302))) -> 12.473741 | C167: =A167*$B$50*(VLOOKUP(E$5,'Aging Factor'!$A$145:$G$242,5,1)*(G$5/L$5/12500)*('Degradation Model'!$B$26/F$5)) -> 2.4860482 | D167: =C167 -> 2.4860482 | E167: =((VLOOKUP(E$5,'Aging Factor'!$A$145:$H$242,8,1)-1)*F167*J$5/7) -> 1.697407 | F167: =B167+D167 -> 14.959789 | G167: =F167+E167 -> 16.657196 | H167: =G167 -> 16.657196 | I167: =IF(100-G167<=5,5,100-G167) -> 83.342804 | J167: =IF(281*I167/100>0,281*I167/100,0) -> 234.19328 | K167: =IF(L167/281*100>0,L167/281*100,0) -> 68.809717 | L167: =IF(I167*232/100>0,I167*232/100,0) -> 193.3553
A168: =A167+1 -> 2 | B168: =(VLOOKUP(E$5,'Aging Factor'!$A$145:$G$242,5,1)*(SQRT(A168+K$5-L$5)*Calibration!$B$49)-((0.32989795*(A168+K$5-L$5)-1.302))) -> 16.154846 | C168: =A168*$B$50*(VLOOKUP(E$5,'Aging Factor'!$A$145:$G$242,5,1)*(G$5/L$5/12500)*('Degradation Model'!$B$26/F$5)) -> 4.9720963 | D168: =D167+(C167*100/I167) -> 5.468967 | E168: =((VLOOKUP(E$5,'Aging Factor'!$A$145:$H$242,8,1)-1)*F168*J$5/7) -> 2.453538 | F168: =B168+D168 -> 21.623813 | G168: =F168+E168 -> 24.077351 | H168: =G168-G167 -> 7.4201548 | I168: =IF(100-G168<=5,5,100-G168) -> 75.922649 | J168: =IF(281*I168/100>0,281*I168/100,0) -> 213.34264 | K168: =IF(L168/281*100>0,L168/281*100,0) -> 62.683468 | L168: =IF(I168*232/100>0,I168*232/100,0) -> 176.14055
A169: =A168+1 -> 3 | B169: =(VLOOKUP(E$5,'Aging Factor'!$A$145:$G$242,5,1)*(SQRT(A169+K$5-L$5)*Calibration!$B$49)-((0.32989795*(A169+K$5-L$5)-1.302))) -> 18.997161 | C169: =A169*$B$50*(VLOOKUP(E$5,'Aging Factor'!$A$145:$G$242,5,1)*(G$5/L$5/12500)*('Degradation Model'!$B$26/F$5)) -> 7.4581445 | D169: =D168+(C167*100/I168) -> 8.7434156 | E169: =((VLOOKUP(E$5,'Aging Factor'!$A$145:$H$242,8,1)-1)*F169*J$5/7) -> 3.1475743 | F169: =B169+D169 -> 27.740576 | G169: =F169+E169 -> 30.88815 | H169: =G169-G168 -> 6.8107995 | I169: =IF(100-G169<=5,5,100-G169) -> 69.11185 | J169: =IF(281*I169/100>0,281*I169/100,0) -> 194.2043 | K169: =IF(L169/281*100>0,L169/281*100,0) -> 57.060317 | L169: =IF(I169*232/100>0,I169*232/100,0) -> 160.33949
A170: =A169+1 -> 4 | B170: =(VLOOKUP(E$5,'Aging Factor'!$A$145:$G$242,5,1)*(SQRT(A170+K$5-L$5)*Calibration!$B$49)-((0.32989795*(A170+K$5-L$5)-1.302))) -> 21.37577 | C170: =A170*$B$50*(VLOOKUP(E$5,'Aging Factor'!$A$145:$G$242,5,1)*(G$5/L$5/12500)*('Degradation Model'!$B$26/F$5)) -> 9.9441926 | D170: =D169+(C167*100/I169) -> 12.340553 | E170: =((VLOOKUP(E$5,'Aging Factor'!$A$145:$H$242,8,1)-1)*F170*J$5/7) -> 3.8256102 | F170: =B170+D170 -> 33.716323 | G170: =F170+E170 -> 37.541933 | H170: =G170-G169 -> 6.6537825 | I170: =IF(100-G170<=5,5,100-G170) -> 62.458067 | J170: =IF(281*I170/100>0,281*I170/100,0) -> 175.50717 | K170: =IF(L170/281*100>0,L170/281*100,0) -> 51.566803 | L170: =IF(I170*232/100>0,I170*232/100,0) -> 144.90272
A171: =A170+1 -> 5 | B171: =(VLOOKUP(E$5,'Aging Factor'!$A$145:$G$242,5,1)*(SQRT(A171+K$5-L$5)*Calibration!$B$49)-((0.32989795*(A171+K$5-L$5)-1.302))) -> 23.449031 | C171: =A171*$B$50*(VLOOKUP(E$5,'Aging Factor'!$A$145:$G$242,5,1)*(G$5/L$5/12500)*('Degradation Model'!$B$26/F$5)) -> 12.430241 | D171: =D170+(C167*100/I170) -> 16.320901 | E171: =((VLOOKUP(E$5,'Aging Factor'!$A$145:$H$242,8,1)-1)*F171*J$5/7) -> 4.5124808 | F171: =B171+D171 -> 39.769932 | G171: =F171+E171 -> 44.282413 | H171: =G171-G170 -> 6.7404798 | I171: =IF(100-G171<=5,5,100-G171) -> 55.717587 | J171: =IF(281*I171/100>0,281*I171/100,0) -> 156.56642 | K171: =IF(L171/281*100>0,L171/281*100,0) -> 46.001709 | L171: =IF(I171*232/100>0,I171*232/100,0) -> 129.2648
A172: =A171+1 -> 6 | B172: =(VLOOKUP(E$5,'Aging Factor'!$A$145:$G$242,5,1)*(SQRT(A172+K$5-L$5)*Calibration!$B$49)-((0.32989795*(A172+K$5-L$5)-1.302))) -> 25.301574 | C172: =A172*$B$50*(VLOOKUP(E$5,'Aging Factor'!$A$145:$G$242,5,1)*(G$5/L$5/12500)*('Degradation Model'!$B$26/F$5)) -> 14.916289 | D172: =D171+(C167*100/I171) -> 20.782774 | E172: =((VLOOKUP(E$5,'Aging Factor'!$A$145:$H$242,8,1)-1)*F172*J$5/7) -> 5.2289436 | F172: =B172+D172 -> 46.084348 | G172: =F172+E172 -> 51.313291 | H172: =G172-G171 -> 7.0308784 | I172: =IF(100-G172<=5,5,100-G172) -> 48.686709 | J172: =IF(281*I172/100>0,281*I172/100,0) -> 136.80965 | K172: =IF(L172/281*100>0,L172/281*100,0) -> 40.196856 | L172: =IF(I172*232/100>0,I172*232/100,0) -> 112.95316
...

Sheet Degradation Model
A1: Values from TickTock's graph | I1: Empirically | J1: Aging Factor
I2: Derived | J2: Relative | K2: Calculated
B3: 6 months | C3: 1 year | D3: 2 years | E3: 5 years | F3: 10 years | G3: Miles | I3: Aging Factor | J3: to Normal | K3: Aging Factor
A5: Boston | B5: 94 | C5: 93 | D5: 90 | E5: 84 | G5: 12500 | I5: 0.75 | J5: =I5/$I$6 -> 0.83333333 | K5: 0.74
A6: Normal | C6: 92 | D6: 88 | E6: 80 | F6: 70 | G6: 12500 | I6: 0.9 | J6: =I6/$I$6 -> 1 | K6: 1
A7: Phoenix | B7: 92 | C7: 89 | D7: 85 | E7: 75 | G7: 7500 | I7: 1.35 | J7: =I7/$I$6 -> 1.5 | K7: 1.81
B10: 6 months | C10: 6 months | D10: 6 months | E10: 1 year | F10: 1 year | G10: 1 year | H10: 2 years | I10: 2 years | J10: 2 years | K10: 5 years | L10: 5 years | M10: 5 years | N10: 10 years | O10: 10 years | P10: 10 years
B11: Calendar | C11: Cycling | D11: Total | E11: Calendar | F11: Cycling | G11: Total | H11: Calendar | I11: Cycling | J11: Total | K11: Calendar | L11: Cycling | M11: Total | N11: Calendar | O11: Cycling | P11: Total
A13: Boston | B13: =$C$38*I5-$H$26 -> 4.7963291 | C13: =$I$5*Calibration!$B$50 -> 1.5 | D13: =B13+C13 -> 6.2963291 | E13: =Calibration!$B$49*I5-$I$26 -> 6.115 | F13: =$I$5*Calibration!$B$50 -> 1.5 | G13: =E13+F13 -> 7.615 | H13: =$C$40*I5-$J$26 -> 7.9985552 | I13: =2*F13 -> 3 | J13: =H13+I13 -> 10.998555 | K13: =$C$43*I5-$K$26 -> 11.221652 | L13: =5*F13 -> 7.5 | M13: =K13+L13 -> 18.721652 | N13: =$C$48*I5-$L$26 -> 14.364787 | O13: =10*F13 -> 15 | P13: =N13+O13 -> 29.364787
A14: Normal | B14: =$C$38*I6-$H$26 -> 5.5281846 | C14: =$I$6*Calibration!$B$50 -> 1.8 | D14: =B14+C14 -> 7.3281846 | E14: =Calibration!$B$49*I6-$I$26 -> 7.15 | F14: =$I$6*Calibration!$B$50 -> 1.8 | G14: =E14+F14 -> 8.95 | H14: =$C$40*I6-$J$26 -> 9.4622662 | I14: =2*F14 -> 3.6 | J14: =H14+I14 -> 13.062266 | K14: =$C$43*I6-$K$26 -> 13.535982 | L14: =5*F14 -> 9 | M14: =K14+L14 -> 22.535982 | N14: =$C$48*I6-$L$26 -> 17.637744 | O14: =10*F14 -> 18 | P14: =N14+O14 -> 35.637744
A15: Phoenix | B15: =$C$38*I7-$H$26 -> 7.7237512 | C15: =$I$7*Calibration!$B$50*$G$7/$G$6 -> 1.62 | D15: =B15+C15 -> 9.3437512 | E15: =Calibration!$B$49*I7-$I$26 -> 10.255 | F15: =$I$7*Calibration!$B$50*$G$7/$G$6 -> 1.62 | G15: =E15+F15 -> 11.875 | H15: =$C$40*I7-$J$26 -> 13.853399 | I15: =2*F15 -> 3.24 | J15: =H15+I15 -> 17.093399 | K15: =$C$43*I7-$K$26 -> 20.478973 | L15: =5*F15 -> 8.1 | M15: =K15+L15 -> 28.578973 | N15: =$C$48*I7-$L$26 -> 27.456616 | O15: =10*F15 -> 16.2 | P15: =N15+O15 -> 43.656616
A17: Boston Errors | D17: =D13-(100-B5) -> 0.29632909 | E17: =D17/D13 -> 0.047063787 | G17: =G13-(100-C5) -> 0.615 | H17: =G17/G13 -> 0.080761655 | J17: =J13-(100-D5) -> 0.99855519 | K17: =J17/J13 -> 0.090789669 | M17: =M13-(100-E5) -> 2.7216518 | N17: =M17/M13 -> 0.14537455
A18: Normal Errors | G18: =G14-(100-C6) -> 0.95 | H18: =G18/G14 -> 0.10614525 | J18: =J14-(100-D6) -> 1.0622662 | K18: =J18/J14 -> 0.081323271 | M18: =M14-(100-E6) -> 2.5359821 | N18: =M18/M14 -> 0.11253036 | P18: =P14-(100-F6) -> 5.6377443 | Q18: =P18/P14 -> 0.15819588
A19: Phoenix Errors | D19: =D15-(100-B7) -> 1.3437512 | E19: =D19/D15 -> 0.14381282 | G19: =G15-(100-C7) -> 0.875 | H19: =G19/G15 -> 0.073684211 | J19: =J15-(100-D7) -> 2.0933993 | K19: =J19/J15 -> 0.12246829 | M19: =M15-(100-E7) -> 3.5789732 | N19: =M19/M15 -> 0.12523099
A21: Average Absolute Error | D21: =(D17+D19)/2 -> 0.82004013 | G21: =AVERAGE(G17:G19) -> 0.81333333 | J21: =AVERAGE(J17:J19) -> 1.3847402 | M21: =AVERAGE(M17:M19) -> 2.9455357 | P21: =P18 -> 5.6377443
A22: Years | D22: 0.5 | G22: 1 | J22: 2 | M22: 5 | P22: 10
F24: Years | H24: 0.5 | I24: 1 | J24: 2 | K24: 5 | L24: 10
A26: LA4 Driving Cycle M/Kwh | B26: =100/21.381 -> 4.6770497 | F26: Calendar Correction Factor | H26: =0.5*0.329897-1.302 -> -1.1370515 | I26: -0.94 | J26: -0.68 | K26: 0.35 | L26: 2
F27: (see linear regression below)
C35: Calendar | D35: Additional
A36: Years | B36: SQRT(years) | C36: Loss (Total) | D36: Loss (/year)
A38: 0.5 | B38: =SQRT(A38) -> 0.70710678 | C38: =B38*Calibration!$B$49 -> 4.8790368
A39: 1 | B39: =SQRT(A39) -> 1 | C39: =B39*Calibration!$B$49 -> 6.9
A40: =1+A39 -> 2 | B40: =SQRT(A40) -> 1.4142136 | C40: =B40*Calibration!$B$49 -> 9.7580736 | D40: =C40-C39 -> 2.8580736
A41: =1+A40 -> 3 | B41: =SQRT(A41) -> 1.7320508 | C41: =B41*Calibration!$B$49 -> 11.951151 | D41: =C41-C40 -> 2.193077
A42: =1+A41 -> 4 | B42: =SQRT(A42) -> 2 | C42: =B42*Calibration!$B$49 -> 13.8 | D42: =C42-C41 -> 1.8488494
A43: =1+A42 -> 5 | B43: =SQRT(A43) -> 2.236068 | C43: =B43*Calibration!$B$49 -> 15.428869 | D43: =C43-C42 -> 1.628869
A44: =1+A43 -> 6 | B44: =SQRT(A44) -> 2.4494897 | C44: =B44*Calibration!$B$49 -> 16.901479 | D44: =C44-C43 -> 1.4726102
A45: =1+A44 -> 7 | B45: =SQRT(A45) -> 2.6457513 | C45: =B45*Calibration!$B$49 -> 18.255684 | D45: =C45-C44 -> 1.3542048
A46: =1+A45 -> 8 | B46: =SQRT(A46) -> 2.8284271 | C46: =B46*Calibration!$B$49 -> 19.516147 | D46: =C46-C45 -> 1.2604631
A47: =1+A46 -> 9 | B47: =SQRT(A47) -> 3 | C47: =B47*Calibration!$B$49 -> 20.7 | D47: =C47-C46 -> 1.1838528
A48: =1+A47 -> 10 | B48: =SQRT(A48) -> 3.1622777 | C48: =B48*Calibration!$B$49 -> 21.819716 | D48: =C48-C47 -> 1.1197159
A49: =1+A48 -> 11 | B49: =SQRT(A49) -> 3.3166248 | C49: =B49*Calibration!$B$49 -> 22.884711 | D49: =C49-C48 -> 1.0649952
A50: =1+A49 -> 12 | B50: =SQRT(A50) -> 3.4641016 | C50: =B50*Calibration!$B$49 -> 23.902301 | D50: =C50-C49 -> 1.0175901
A51: =1+A50 -> 13 | B51: =SQRT(A51) -> 3.6055513 | C51: =B51*Calibration!$B$49 -> 24.878304 | D51: =C51-C50 -> 0.97600266
... A53: =1+A52 -> 15 | B53: =SQRT(A53) -> 3.8729833 | C53: =B53*Calibration!$B$49 -> 26.723585 | D53: =C53-C52 -> 0.90614912
A56: Solar loading | C56: Degrees C. | D56: Degrees F. | E56: Aging Factor | F56: % Increase
C57: 1.3 | D57: =1.8*C57 -> 2.34 | E57: =2^(C57/10) -> 1.0942937 | F57: =E57*100-100 -> 9.4293701
C58: 3.1 | D58: =1.8*C58 -> 5.58 | E58: =2^(C58/10) -> 1.2397077 | F58: =E58*100-100 -> 23.97077
D61: Corrected | F61: Predicted | G61: Actual
A62: Model Prediction (Validation) | B62: Calendar | C62: Cycling | D62: Cycling | E62: Total Loss | F62: Capacity | G62: Capacity | H62: Difference
A64: TickTock's Leaf | B64: =I7*SQRT(1.3)*Calibration!B49 -> 10.620734 | C64: =F15*2*1.3-$I$26 -> 5.152 | D64: =C64*B26/B26 -> 5.152 | E64: =B64+D64 -> 15.772734 | F64: =100-E64 -> 84.227266 | G64: 84.7 | H64: =G64-F64 -> 0.47273408

Sheet Aging Factor
B1: Santa Monica, CA | E1: Boston, MA | H1: Fort Lauderdale, FL | K1: Ridgecrest, CA | N1: San Francisco, CA | Q1: Portland, OR | T1: Palm Springs, CA | W1: Nashville, TN | Z1: Ota, Japan | AC1: Dubai, UAE | AF1: Omaha, Nebraska | AI1: Rygge, Norway
D2: Calculated | G2: Calculated | J2: Calculated | M2: Calculated | P2: Calculated | S2: Calculated | V2: Calculated | Y2: Calculated | AB2: Calculated | AE2: Calculated | AH2: Calculated | AK2: Calculated
A3: Temp Band (Median) | B3: Pixels | C3: Percent | D3: Aging Factor | E3: Pixels | F3: Percent | G3: Aging Factor | H3: Pixels | I3: Percent | J3: Aging Factor | K3: Pixels | L3: Percent | M3: Aging Factor | N3: Pixels | O3: Percent | P3: Aging Factor | Q3: Pixels | R3: Percent | S3: Aging Factor | T3: Pixels | U3: Percent | V3: Aging Factor | W3: Pixels | X3: Percent | Y3: Aging Factor | Z3: Pixels | AA3: Percent | AB3: Aging Factor | AC3: Pixels | AD3: Percent | AE3: Aging Factor | AF3: Pixels | AG3: Percent | AH3: Aging Factor | AI3: Pixels | AJ3: Percent | AK3: Aging Factor
A5: Sweltering (105 degrees) | B5: 0 | C5: =+B5/$B$14*100 -> 0 | D5: =((C5*$A$25)+(C6*$A$26)+(C7*$A$27)+(C8*$A$28)+(C9*$A$29)+(C10*$A$30)+(C11*$A$31)+(C12*$A$32))/100 -> 0.75914059 | E5: 0 | F5: =+E5/$E$14*100 -> 0 | G5: =((F5*$A$25)+(F6*$A$26)+(F7*$A$27)+(F8*$A$28)+(F9*$A$29)+(F10*$A$30)+(F11*$A$31)+(F12*$A$32))/100 -> 0.59917001 | H5: 0 | I5: =+H5/$H$14*100 -> 0 | J5: =((I5*$A$25)+(I6*$A$26)+(I7*$A$27)+(I8*$A$28)+(I9*$A$29)+(I10*$A$30)+(I11*$A$31)+(I12*$A$32))/100 -> 1.3686478 | K5: 4376 | L5: =+K5/$K$14*100 -> 4.3868795 | M5: =((L5*$A$25)+(L6*$A$26)+(L7*$A$27)+(L8*$A$28)+(L9*$A$29)+(L10*$A$30)+(L11*$A$31)+(L12*$A$32))/100 -> 1.1156838 | N5: 0 | O5: =+N5/$N$14*100 -> 0 | P5: =((O5*$A$25)+(O6*$A$26)+(O7*$A$27)+(O8*$A$28)+(O9*$A$29)+(O10*$A$30)+(O11*$A$31)+(O12*$A$32))/100 -> 0.61646106 | Q5: 0 | R5: =+Q5/$Q$14*100 -> 0 | S5: =((R5*$A$25)+(R6*$A$26)+(R7*$A$27)+(R8*$A$28)+(R9*$A$29)+(R10*$A$30)+(R11*$A$31)+(R12*$A$32))/100 -> 0.58491857 | T5: 6667 | U5: =+T5/$T$14*100 -> 6.6359438 | V5: =((U5*$A$25)+(U6*$A$26)+(U7*$A$27)+(U8*$A$28)+(U9*$A$29)+(U10*$A$30)+(U11*$A$31)+(U12*$A$32))/100 -> 1.4423793 | W5: 0 | X5: =+W5/$W$14*100 -> 0 | Y5: =((X5*$A$25)+(X6*$A$26)+(X7*$A$27)+(X8*$A$28)+(X9*$A$29)+(X10*$A$30)+(X11*$A$31)+(X12*$A$32))/100 -> 0.82797419 | Z5: 0 | AA5: =+Z5/$Z$14*100 -> 0 | AB5: =((AA5*$A$25)+(AA6*$A$26)+(AA7*$A$27)+(AA8*$A$28)+(AA9*$A$29)+(AA10*$A$30)+(AA11*$A$31)+(AA12*$A$32))/100 -> 0.80151369 | AC5: 6122 | AD5: =+AC5/$AC$14*100 -> 6.1212654 | AE5: =((AD5*$A$25)+(AD6*$A$26)+(AD7*$A$27)+(AD8*$A$28)+(AD9*$A$29)+(AD10*$A$30)+(AD11*$A$31)+(AD12*$A$32))/100 -> 1.768091 | AF5: 0 | AG5: =+AF5/$AF$14*100 -> 0 | AH5: =((AG5*$A$25)+(AG6*$A$26)+(AG7*$A$27)+(AG8*$A$28)+(AG9*$A$29)+(AG10*$A$30)+(AG11*$A$31)+(AG12*$A$32))/100 -> 0.66116865 | AI5: 0 | AJ5: =AI5/$AI$14*100 -> 0 | AK5: =((AJ5*$A$25)+(AJ6*$A$26)+(AJ7*$A$27)+(AJ8*$A$28)+(AJ9*$A$29)+(AJ10*$A$30)+(AJ11*$A$31)+(AJ12*$A$32))/100 -> 0.42011966
A6: Very Hot (92.5 degrees) | B6: 0 | C6: =+B6/$B$14*100 -> 0 | E6: 1320 | F6: =+E6/$E$14*100 -> 1.3157764 | H6: 10351 | I6: =+H6/$H$14*100 -> 10.437632 | K6: 14196 | L6: =+K6/$K$14*100 -> 14.231294 | N6: 0 | O6: =+N6/$N$14*100 -> 0 | Q6: 1046 | R6: =+Q6/$Q$14*100 -> 1.0465023 | T6: 22161 | U6: =+T6/$T$14*100 -> 22.05777 | W6: 5512 | X6: =+W6/$W$14*100 -> 5.5226034 | Z6: 2815 | AA6: =+Z6/$Z$14*100 -> 2.8258229 | AC6: 36817 | AD6: =+AC6/$AC$14*100 -> 36.812582 | AF6: 3774 | AG6: =+AF6/$AF$14*100 -> 3.7680465 | AI6: 0 | AJ6: =AI6/$AI$14*100 -> 0
A7: Hot (80 degrees) | B7: 5356 | C7: =+B7/$B$14*100 -> 5.3502218 | E7: 7500 | F7: =+E7/$E$14*100 -> 7.476002 | H7: =66157-H6 -> 55806 | I7: =+H7/$H$14*100 -> 56.273066 | K7: 14351 | L7: =+K7/$K$14*100 -> 14.386679 | N7: 1745 | O7: =+N7/$N$14*100 -> 1.7429433 | Q7: 4600 | R7: =+Q7/$Q$14*100 -> 4.6022091 | T7: 20033 | U7: =+T7/$T$14*100 -> 19.939682 | W7: 16449 | X7: =+W7/$W$14*100 -> 16.480643 | Z7: 16686 | AA7: =+Z7/$Z$14*100 -> 16.750153 | AC7: 25987 | AD7: =+AC7/$AC$14*100 -> 25.983882 | AF7: 11538 | AG7: =+AF7/$AF$14*100 -> 11.519799 | AI7: 963 | AJ7: =AI7/$AI$14*100 -> 0.95534767
A8: Comfortable (70 degrees) | B8: 29047 | C8: =+B8/$B$14*100 -> 29.015663 | E8: 15710 | F8: =+E8/$E$14*100 -> 15.659732 | H8: 23524 | I8: =+H8/$H$14*100 -> 23.720883 | K8: 15791 | L8: =+K8/$K$14*100 -> 15.830259 | N8: 10115 | O8: =+N8/$N$14*100 -> 10.103078 | Q8: 10785 | R8: =+Q8/$Q$14*100 -> 10.790179 | T8: 19037 | U8: =+T8/$T$14*100 -> 18.948322 | W8: 20603 | X8: =+W8/$W$14*100 -> 20.642634 | Z8: 20958 | AA8: =+Z8/$Z$14*100 -> 21.038578 | AC8: 21719 | AD8: =+AC8/$AC$14*100 -> 21.716394 | AF8: 15212 | AG8: =+AF8/$AF$14*100 -> 15.188003 | AI8: 5411 | AJ8: =AI8/$AI$14*100 -> 5.3680023
A9: Cool (57.5 degrees) | B9: 60457 | C9: =+B9/$B$14*100 -> 60.391777 | E9: 27337 | F9: =+E9/$E$14*100 -> 27.249529 | H9: 8464 | I9: =+H9/$H$14*100 -> 8.5348392 | K9: 26322 | L9: =+K9/$K$14*100 -> 26.387441 | N9: 69333 | O9: =+N9/$N$14*100 -> 69.251283 | Q9: 39742 | R9: =+Q9/$Q$14*100 -> 39.761085 | T9: 25473 | U9: =+T9/$T$14*100 -> 25.354342 | W9: 25253 | X9: =+W9/$W$14*100 -> 25.301579 | Z9: 28886 | AA9: =+Z9/$Z$14*100 -> 28.997059 | AC9: 9367 | AD9: =+AC9/$AC$14*100 -> 9.3658761 | AF9: 21830 | AG9: =+AF9/$AF$14*100 -> 21.795563 | AI9: 29781 | AJ9: =AI9/$AI$14*100 -> 29.54435
A10: Cold (41 degrees) | B10: 5248 | C10: =+B10/$B$14*100 -> 5.2423383 | E10: 33338 | F10: =+E10/$E$14*100 -> 33.231327 | H10: 1025 | I10: =+H10/$H$14*100 -> 1.0335787 | K10: 21261 | L10: =+K10/$K$14*100 -> 21.313858 | N10: 18925 | O10: =+N10/$N$14*100 -> 18.902695 | Q10: 40918 | R10: =+Q10/$Q$14*100 -> 40.93765 | T10: 7097 | U10: =+T10/$T$14*100 -> 7.0639408 | W10: 23936 | X10: =+W10/$W$14*100 -> 23.982046 | Z10: 29697 | AA10: =+Z10/$Z$14*100 -> 29.811177 | AC10: 0 | AD10: =+AC10/$AC$14*100 -> 0 | AF10: 24842 | AG10: =+AF10/$AF$14*100 -> 24.802812 | AI10: 40937 | AJ10: =AI10/$AI$14*100 -> 40.6117
A11: Freezing (23.5 degrees) | B11: 0 | C11: =+B11/$B$14*100 -> 0 | E11: 13767 | F11: =+E11/$E$14*100 -> 13.722949 | H11: 0 | I11: =+H11/$H$14*100 -> 0 | K11: 3455 | L11: =+K11/$K$14*100 -> 3.4635897 | N11: 0 | O11: =+N11/$N$14*100 -> 0 | Q11: 2861 | R11: =+Q11/$Q$14*100 -> 2.8623739 | T11: 0 | U11: =+T11/$T$14*100 -> 0 | W11: 7546 | X11: =+W11/$W$14*100 -> 7.5605162 | Z11: 575 | AA11: =+Z11/$Z$14*100 -> 0.57721072 | AC11: 0 | AD11: =+AC11/$AC$14*100 -> 0 | AF11: 17379 | AG11: =+AF11/$AF$14*100 -> 17.351584 | AI11: 20198 | AJ11: =AI11/$AI$14*100 -> 20.0375
A12: Frigid (10 degrees) | B12: 0 | C12: =+B12/$B$14*100 -> 0 | E12: 1349 | F12: =+E12/$E$14*100 -> 1.3446836 | H12: 0 | I12: =+H12/$H$14*100 -> 0 | L12: =+K12/$K$14*100 -> 0 | N12: 0 | O12: =+N12/$N$14*100 -> 0 | Q12: 0 | R12: =+Q12/$Q$14*100 -> 0 | T12: 0 | U12: =+T12/$T$14*100 -> 0 | W12: 509 | X12: =+W12/$W$14*100 -> 0.50997916 | Z12: 0 | AA12: =+Z12/$Z$14*100 -> 0 | AC12: 0 | AD12: =+AC12/$AC$14*100 -> 0 | AF12: 5583 | AG12: =+AF12/$AF$14*100 -> 5.5741928 | AI12: 3511 | AJ12: =AI12/$AI$14*100 -> 3.4831004
B14: =SUM(B7:B10) -> 100108 | C14: =SUM(C7:C10) -> 100 | E14: =SUM(E6:E12) -> 100321 | F14: =SUM(F6:F12) -> 100 | H14: =SUM(H6:H12) -> 99170 | I14: =SUM(I6:I12) -> 100 | K14: =SUM(K5:K12) -> 99752 | L14: =SUM(L5:L12) -> 100 | N14: =SUM(N5:N12) -> 100118 | O14: =SUM(O5:O12) -> 100 | Q14: =SUM(Q5:Q12) -> 99952 | R14: =SUM(R5:R12) -> 100 | T14: =SUM(T5:T12) -> 100468 | U14: =SUM(U5:U12) -> 100 | W14: =SUM(W5:W12) -> 99808 | X14: =SUM(X5:X12) -> 100 | Z14: =SUM(Z5:Z12) -> 99617 | AA14: =SUM(AA5:AA12) -> 100 | AC14: =SUM(AC5:AC12) -> 100012 | AD14: =SUM(AD5:AD12) -> 100 | AF14: =SUM(AF5:AF12) -> 100158 | AG14: =SUM(AG5:AG12) -> 100 | AI14: =SUM(AI5:AI12) -> 100801 | AJ14: =SUM(AJ5:AJ12) -> 100
A16: Actual pixels | B16: 99301 | E16: 99301 | H16: 98802 | K16: 99301 | N16: 99301 | Q16: 99301 | T16: 99301 | W16: 99301 | Z16: 99301 | AC16: 99301 | AF16: 99301 | AI16: 99301
A18: Percent error total pixels | B18: =((B14/B16)-1) -> 0.0081268064 | E18: =((E14/E16)-1) -> 0.0102718 | H18: =((H14/H16)-1) -> 0.003724621 | K18: =((K14/K16)-1) -> 0.0045417468 | N18: =((N14/N16)-1) -> 0.0082275103 | Q18: =((Q14/Q16)-1) -> 0.0065558252 | T18: =((T14/T16)-1) -> 0.011752148 | W18: =((W14/W16)-1) -> 0.0051056888 | Z18: =((Z14/Z16)-1) -> 0.0031822439 | AC18: =((AC14/AC16)-1) -> 0.0071600487 | AF18: =((AF14/AF16)-1) -> 0.008630326 | AI18: =((AI14/AI16)-1) -> 0.015105588
A21: Temperature Diff Deg C. | B21: 10 | K21: Denver, CO | N21: Chicago, IL | Q21: Memphis, TN | T21: Honolulu, HI | W21: Phoenix, AZ | Z21: Salt Lake City, UT | AC21: Los Angeles Civic Center | AF21: Dallas, TX | AI21: Bakersfield, CA
M22: Calculated | P22: Calculated | S22: Calculated | V22: Calculated | Y22: Calculated | AB22: Calculated | AE22: Calculated | AH22: Calculated | AK22: Calculated
A23: Arrhenius Factors | C23: Temp Band | E23: Solar Loading Phoenix deg C | F23: 3.1 | J23: Temp Band (Median) | K23: Pixels | L23: Percent | M23: Aging Factor | N23: Pixels | O23: Percent | P23: Aging Factor | Q23: Pixels | R23: Percent | S23: Aging Factor | T23: Pixels | U23: Percent | V23: Aging Factor | W23: Pixels | X23: Percent | Y23: Aging Factor | Z23: Pixels | AA23: Percent | AB23: Aging Factor | AC23: Pixels | AD23: Percent | AE23: Aging Factor | AF23: Pixels | AG23: Percent | AH23: Aging Factor | AI23: Pixels | AJ23: Percent | AK23: Aging Factor
E24: Solar Loading Boston deg C | F24: 1.3
A25: =2^((C25-$C$28)*5/9/$B$21) -> 3.8488953 | C25: 105 | E25: Scaling Factor | F25: 0.95 | J25: Sweltering (105 degrees) | K25: 0 | L25: =+K25/$K$34*100 -> 0 | M25: =((L25*$A$25)+(L26*$A$26)+(L27*$A$27)+(L28*$A$28)+(L29*$A$29)+(L30*$A$30)+(L31*$A$31)+(L32*$A$32))/100 -> 0.59322314 | N25: 0 | O25: =+N25/$N$34*100 -> 0 | P25: =((O25*$A$25)+(O26*$A$26)+(O27*$A$27)+(O28*$A$28)+(O29*$A$29)+(O30*$A$30)+(O31*$A$31)+(O32*$A$32))/100 -> 0.63609894 | Q25: 0 | R25: =+Q25/$Q$34*100 -> 0 | S25: =((R25*$A$25)+(R26*$A$26)+(R27*$A$27)+(R28*$A$28)+(R29*$A$29)+(R30*$A$30)+(R31*$A$31)+(R32*$A$32))/100 -> 0.94135819 | T25: 0 | U25: =+T25/$T$34*100 -> 0 | V25: =((U25*$A$25)+(U26*$A$26)+(U27*$A$27)+(U28*$A$28)+(U29*$A$29)+(U30*$A$30)+(U31*$A$31)+(U32*$A$32))/100 -> 1.3619228 | W25: 7998 | X25: =W25/$W$34*100 -> 8.1852792 | Y25: =((X25*$A$25)+(X26*$A$26)+(X27*$A$27)+(X28*$A$28)+(X29*$A$29)+(X30*$A$30)+(X31*$A$31)+(X32*$A$32))/100 -> 1.4739554 | Z25: 0 | AA25: =+Z25/$Z$34*100 -> 0 | AB25: =((AA25*$A$25)+(AA26*$A$26)+(AA27*$A$27)+(AA28*$A$28)+(AA29*$A$29)+(AA30*$A$30)+(AA31*$A$31)+(AA32*$A$32))/100 -> 0.69345121 | AC25: 0 | AD25: =AC25/$AC$34*100 -> 0 | AE25: =((AD25*$A$25)+(AD26*$A$26)+(AD27*$A$27)+(AD28*$A$28)+(AD29*$A$29)+(AD30*$A$30)+(AD31*$A$31)+(AD32*$A$32))/100 -> 0.81422227 | AF25: 585 | AG25: =+AF25/$AF$34*100 -> 0.59258509 | AH25: =((AG25*$A$25)+(AG26*$A$26)+(AG27*$A$27)+(AG28*$A$28)+(AG29*$A$29)+(AG30*$A$30)+(AG31*$A$31)+(AG32*$A$32))/100 -> 1.0753402 | AI25: 1209 | AJ25: =+AI25/$AI$34*100 -> 1.2254952 | AK25: =((AJ25*$A$25)+(AJ26*$A$26)+(AJ27*$A$27)+(AJ28*$A$28)+(AJ29*$A$29)+(AJ30*$A$30)+(AJ31*$A$31)+(AJ32*$A$32))/100 -> 1.000777
A26: =2^((C26-$C$28)*5/9/$B$21) -> 2.3784142 | C26: 92.5 | E26: Maximum Loading | F26: 9 | J26: Very Hot (92.5 degrees) | K26: 2821 | L26: =+K26/$K$34*100 -> 2.8118895 | N26: 2172 | O26: =+N26/$N$34*100 -> 2.1673186 | Q26: 9053 | R26: =+Q26/$Q$34*100 -> 9.0665091 | T26: 0 | U26: 6.34 | W26: 22306 | X26: =W26/$W$34*100 -> 22.828312 | Z26: 6528 | AA26: =+Z26/$Z$34*100 -> 6.4830723 | AC26: 1577 | AD26: =AC26/$AC$34*100 -> 1.5874774 | AF26: 13374 | AG26: =+AF26/$AF$34*100 -> 13.547407 | AI26: 11111 | AJ26: =+AI26/$AI$34*100 -> 11.262595
A27: =2^((C27-$C$28)*5/9/$B$21) -> 1.4697345 | C27: 80 | J27: Hot (80 degrees) | K27: 7789 | L27: =+K27/$K$34*100 -> 7.7638451 | N27: 10891 | O27: =+N27/$N$34*100 -> 10.867526 | Q27: 20778 | R27: =+Q27/$Q$34*100 -> 20.809005 | T27: 6305 | U27: 60.09 | W27: 17765 | X27: =W27/$W$34*100 -> 18.180981 | Z27: 10027 | AA27: =+Z27/$Z$34*100 -> 9.9579911 | AC27: 9519 | AD27: =AC27/$AC$34*100 -> 9.5822428 | AF27: 22272 | AG27: =+AF27/$AF$34*100 -> 22.560778 | AI27: 15745 | AJ27: =+AI27/$AI$34*100 -> 15.959819
A28: =2^((C28-$C$28)*5/9/$B$21) -> 1 | C28: 70 | E28: Phoenix/Seattle Factor Ratio | F28: =$C$43/$C$123 -> 2.6431374 | J28: Comfortable (70 degrees) | K28: 11926 | L28: =+K28/$K$34*100 -> 11.887485 | N28: 16356 | O28: =+N28/$N$34*100 -> 16.320747 | Q28: 19086 | R28: =+Q28/$Q$34*100 -> 19.114481 | T28: =66098-T27 -> 59793 | U28: 31.53 | W28: 15340 | X28: =W28/$W$34*100 -> 15.699198 | Z28: 12343 | AA28: =+Z28/$Z$34*100 -> 12.258052 | AC28: 27094 | AD28: =AC28/$AC$34*100 -> 27.274008 | AF28: 18692 | AG28: =+AF28/$AF$34*100 -> 18.93436 | AI28: 17716 | AJ28: =+AI28/$AI$34*100 -> 17.957711
A29: =2^((C29-$C$28)*5/9/$B$21) -> 0.61794723 | C29: 57.5 | E29: Phoenix/Boston Factor Ratio | F29: =+$C$43/$C$117 -> 2.4599953 | J29: Cool (57.5 degrees) | K29: 25876 | L29: =+K29/$K$34*100 -> 25.792433 | N29: 22490 | O29: =+N29/$N$34*100 -> 22.441526 | Q29: 24142 | R29: =+Q29/$Q$34*100 -> 24.178025 | T29: 31372 | U29: 2.05 | W29: 25836 | X29: =W29/$W$34*100 -> 26.440969 | Z29: 22356 | AA29: =+Z29/$Z$34*100 -> 22.202139 | AC29: 55170 | AD29: =AC29/$AC$34*100 -> 55.536541 | AF29: 23388 | AG29: =+AF29/$AF$34*100 -> 23.691248 | AI29: 32798 | AJ29: =+AI29/$AI$34*100 -> 33.245484
A30: =2^((C30-$C$28)*5/9/$B$21) -> 0.32734614 | C30: 41 | E30: Phoenix/Los Angeles Ratio | F30: =$C$43 -> 1.8102617 | J30: Cold (41 degrees) | K30: 31035 | L30: =+K30/$K$34*100 -> 30.934771 | N30: 28140 | O30: =+N30/$N$34*100 -> 28.079349 | Q30: 21570 | R30: =+Q30/$Q$34*100 -> 21.602187 | T30: 2037 | U30: 0 | W30: 8467 | X30: =W30/$W$34*100 -> 8.6652612 | Z30: 32566 | AA30: =+Z30/$Z$34*100 -> 32.341871 | AC30: 5980 | AD30: =AC30/$AC$34*100 -> 6.0197302 | AF30: 17529 | AG30: =+AF30/$AF$34*100 -> 17.75628 | AI30: 19794 | AJ30: =+AI30/$AI$34*100 -> 20.064062
A31: =2^((C31-$C$28)*5/9/$B$21) -> 0.16685498 | C31: 23.5 | J31: Freezing (23.5 degrees) | K31: 17900 | L31: =+K31/$K$34*100 -> 17.842191 | N31: 16388 | O31: =+N31/$N$34*100 -> 16.352678 | Q31: 5059 | R31: =+Q31/$Q$34*100 -> 5.0665492 | T31: 0 | U31: =+T31/$T$34*100 -> 0 | W31: 0 | X31: =W31/$W$34*100 -> 0 | Z31: 15821 | AA31: =+Z31/$Z$34*100 -> 15.712115 | AC31: 0 | AD31: =AC31/$AC$34*100 -> 0 | AF31: 2880 | AG31: =+AF31/$AF$34*100 -> 2.917342 | AI31: 281 | AJ31: =+AI31/$AI$34*100 -> 0.28483386
A32: =2^((C32-$C$28)*5/9/$B$21) -> 0.099212566 | C32: 10 | E32: LA Civic Center Aging Factor | F32: =AE25 -> 0.81422227 | J32: Frigid (10 degrees) | K32: 2977 | L32: =+K32/$K$34*100 -> 2.9673857 | N32: 3779 | O32: =+N32/$N$34*100 -> 3.770855 | Q32: 163 | R32: =+Q32/$Q$34*100 -> 0.16324323 | T32: 0 | U32: =+T32/$T$34*100 -> 0 | W32: 0 | X32: =W32/$W$34*100 -> 0 | Z32: 1052 | AA32: =+Z32/$Z$34*100 -> 1.0447598 | AC32: 0 | AD32: =AC32/$AC$34*100 -> 0 | AF32: 0 | AG32: =+AF32/$AF$34*100 -> 0 | AI32: 0 | AJ32: =+AI32/$AI$34*100 -> 0
K34: =SUM(K25:K32) -> 100324 | L34: =SUM(L25:L32) -> 100 | N34: =SUM(N25:N32) -> 100216 | O34: =SUM(O25:O32) -> 100 | Q34: =SUM(Q25:Q32) -> 99851 | R34: =SUM(R25:R32) -> 100 | T34: =SUM(T25:T32) -> 99507 | U34: =SUM(U25:U32) -> 100.01 | W34: =SUM(W25:W32) -> 97712 | X34: =SUM(X25:X32) -> 100 | Z34: =SUM(Z25:Z32) -> 100693 | AA34: =SUM(AA25:AA32) -> 100 | AC34: =SUM(AC25:AC32) -> 99340 | AD34: =SUM(AD25:AD32) -> 100 | AF34: =SUM(AF25:AF32) -> 98720 | AG34: =SUM(AG25:AG32) -> 100 | AI34: =SUM(AI25:AI32) -> 98654 | AJ34: =SUM(AJ25:AJ32) -> 100
J36: Actual pixels | K36: 99301 | N36: 99301 | Q36: 99301 | T36: 99301 | W36: 99301 | Z36: 99301 | AC36: 99301 | AF36: 99301 | AI36: 99301
C38: Aging Factor Rel | D38: Aging Factor Adjusted | E38: Aging Factor Unscaled | F38: Solar Loading | G38: Solar Loading | H38: Solar Loading | J38: Percent error total pixels | K38: =((K34/K36)-1) -> 0.010302011 | N38: =((N34/N36)-1) -> 0.0092144087 | Q38: =((Q34/Q36)-1) -> 0.0055387156 | T38: =((T34/T36)-1) -> 0.0020745008 | W38: =((W34/W36)-1) -> -0.016001853 | Z38: =((Z34/Z36)-1) -> 0.014017986 | AC38: =((AC34/AC36)-1) -> 0.00039274529 | AF38: =((AF34/AF36)-1) -> -0.0058508978 | AI38: =((AI34/AI36)-1) -> -0.0065155437
A39: City | B39: Aging Factor | C39: LA Civic Center | D39: to Fit Model | E39: For Temp > LA Civic Ctr | F39: kwh/sq meter | G39: Degrees C. | H39: Aging Factor
A41: =+$AC$1 -> Dubai, UAE | B41: =$AE$5 -> 1.768091 | C41: =B41/$F$32 -> 2.171509 | D41: =$C$41/$C$43*$D$43 -> 1.6193996 | E41: =B41*0.9/$B$86 -> 1.9543581 | F41: 0 | G41: 0 | H41: 1 | K41: Anaheim, CA | N41: San Diego, CA | Q41: Modesto, CA | T41: Santa Clara, CA | W41: Seattle, WA | Z41: Montclair, NJ | AC41: Van Nuys, CA | AF41: Minneapolis, MN | AI41: Houston, TX
A42: =+$K$141 -> San Juan, Puerto Rico | B42: =$M$145 -> 1.5240387 | C42: =B42/$F$32 -> 1.8717723 | D42: =$C$42/$C$43*$D$43 -> 1.3958714 | E42: =B42*0.9/$B$86 -> 1.6845951 | F42: 7.1 | G42: =F42*$F$23/$F$26*$F$25 -> 2.3232778 | H42: =2^(G42/$B$21) -> 1.1747288 | M42: Calculated | P42: Calculated | S42: Calculated | V42: Calculated | Y42: Calculated | AB42: Calculated | AE42: Calculated | AH42: Calculated | AK42: Calculated
A43: =+$W$21 -> Phoenix, AZ | B43: =$Y$25 -> 1.4739554 | C43: =B43/$F$32 -> 1.8102617 | D43: 1.35 | E43: =B43*0.9/$B$86 -> 1.6292355 | F43: 9 | G43: =F43*$F$23/$F$26*$F$25 -> 2.945 | H43: =2^(G43/$B$21) -> 1.2264598 | J43: Temp Band (Median) | K43: Pixels | L43: Percent | M43: Aging Factor | N43: Pixels | O43: Percent | P43: Aging Factor | Q43: Pixels | R43: Percent | S43: Aging Factor | T43: Pixels | U43: Percent | V43: Aging Factor | W43: Pixels | X43: Percent | Y43: Aging Factor | Z43: Pixels | AA43: Percent | AB43: Aging Factor | AC43: Pixels | AD43: Percent | AE43: Aging Factor | AF43: Pixels | AG43: Percent | AH43: Aging Factor | AI43: Pixels | AJ43: Percent | AK43: Aging Factor
A44: =+$K$181 -> Mesa, AZ | B44: =$M$185 -> 1.4488139 | C44: =B44/$F$32 -> 1.7793837 | D44: =$D$86+((C44-$C$86)/($C$43-$C$86)*($D$43-$D$86)) -> 1.3328511 | E44: =B44*0.9/$B$86 -> 1.6014454 | F44: 9 | G44: =F44*$F$23/$F$26*$F$25 -> 2.945 | H44: =2^(G44/$B$21) -> 1.2264598
A45: =+$T$1 -> Palm Springs, CA | B45: =$V$5 -> 1.4423793 | C45: =B45/$F$32 -> 1.771481 | D45: =$D$86+((C45-$C$86)/($C$43-$C$86)*($D$43-$D$86)) -> 1.3284621 | E45: =B45*0.9/$B$86 -> 1.5943329 | F45: 9 | G45: =F45*$F$23/$F$26*$F$25 -> 2.945 | H45: =2^(G45/$B$21) -> 1.2264598 | J45: Sweltering (105 degrees) | K45: 0 | L45: =+K45/$K$54*100 -> 0 | M45: =((L45*$A$25)+(L46*$A$26)+(L47*$A$27)+(L48*$A$28)+(L49*$A$29)+(L50*$A$30)+(L51*$A$31)+(L52*$A$32))/100 -> 0.86449389 | N45: 0 | O45: =+N45/$N$54*100 -> 0 | P45: =((O45*$A$25)+(O46*$A$26)+(O47*$A$27)+(O48*$A$28)+(O49*$A$29)+(O50*$A$30)+(O51*$A$31)+(O52*$A$32))/100 -> 0.78844309 | Q45: 454 | R45: =+Q45/$Q$54*100 -> 0.45809537 | S45: =((R45*$A$25)+(R46*$A$26)+(R47*$A$27)+(R48*$A$28)+(R49*$A$29)+(R50*$A$30)+(R51*$A$31)+(R52*$A$32))/100 -> 0.87734781 | T45: 0 | U45: =+T45/$T$54*100 -> 0 | V45: =((U45*$A$25)+(U46*$A$26)+(U47*$A$27)+(U48*$A$28)+(U49*$A$29)+(U50*$A$30)+(U51*$A$31)+(U52*$A$32))/100 -> 0.73168583 | W45: 0 | X45: =+W45/$W$54*100 -> 0 | Y45: =((X45*$A$25)+(X46*$A$26)+(X47*$A$27)+(X48*$A$28)+(X49*$A$29)+(X50*$A$30)+(X51*$A$31)+(X52*$A$32))/100 -> 0.55765371 | Z45: 0 | AA45: =Z45/$Z$54*100 -> 0 | AB45: =((AA45*$A$25)+(AA46*$A$26)+(AA47*$A$27)+(AA48*$A$28)+(AA49*$A$29)+(AA50*$A$30)+(AA51*$A$31)+(AA52*$A$32))/100 -> 0.65111895 | AC45: 173 | AD45: =+AC45/$AC$54*100 -> 0.17531948 | AE45: =((AD45*$A$25)+(AD46*$A$26)+(AD47*$A$27)+(AD48*$A$28)+(AD49*$A$29)+(AD50*$A$30)+(AD51*$A$31)+(AD52*$A$32))/100 -> 0.89192389 | AF45: 0 | AG45: =AF45/$AF$54*100 -> 0 | AH45: =((AG45*$A$25)+(AG46*$A$26)+(AG47*$A$27)+(AG48*$A$28)+(AG49*$A$29)+(AG50*$A$30)+(AG51*$A$31)+(AG52*$A$32))/100 -> 0.56697667 | AI45: 853 | AJ45: =AI45/$AI$54*100 -> 0.86360507 | AK45: =((AJ45*$A$25)+(AJ46*$A$26)+(AJ47*$A$27)+(AJ48*$A$28)+(AJ49*$A$29)+(AJ50*$A$30)+(AJ51*$A$31)+(AJ52*$A$32))/100 -> 1.19524
A46: =+$H$1 -> Fort Lauderdale, FL | B46: =$J$5 -> 1.3686478 | C46: =B46/$F$32 -> 1.6809265 | D46: =$D$86+((C46-$C$86)/($C$43-$C$86)*($D$43-$D$86)) -> 1.2781703 | E46: =B46*0.9/$B$86 -> 1.5128339 | F46: 6.5 | G46: =F46*$F$23/$F$26*$F$25 -> 2.1269444 | H46: =2^(G46/$B$21) -> 1.1588505 | J46: Very Hot (92.5 degrees) | K46: 2962 | L46: =+K46/$K$54*100 -> 2.9820093 | N46: 0 | O46: =+N46/$N$54*100 -> 0 | Q46: 8421 | R46: =+Q46/$Q$54*100 -> 8.4969628 | T46: 1420 | U46: =+T46/$T$54*100 -> 1.4288014 | W46: 243 | X46: =+W46/$W$54*100 -> 0.24281546 | Z46: 2259 | AA46: =Z46/$Z$54*100 -> 2.2552563 | AC46: 6189 | AD46: =+AC46/$AC$54*100 -> 6.2719783 | AF46: 1626 | AG46: =AF46/$AF$54*100 -> 1.6209103 | AI46: 12931 | AJ46: =AI46/$AI$54*100 -> 13.091767
A47: =+$AI$61 -> Hong Kong Intl Airport | B47: =$AK$65 -> 1.3616634 | C47: =B47/$F$32 -> 1.6723485 | D47: =$D$86+((C47-$C$86)/($C$43-$C$86)*($D$43-$D$86)) -> 1.2734063 | E47: =B47*0.9/$B$86 -> 1.5051136 | F47: 0 | G47: 0 | H47: 1 | J47: Hot (80 degrees) | K47: 12383 | L47: =+K47/$K$54*100 -> 12.466651 | N47: 6057 | O47: =+N47/$N$54*100 -> 6.0571817 | Q47: 11510 | R47: =+Q47/$Q$54*100 -> 11.613828 | T47: 8120 | U47: =+T47/$T$54*100 -> 8.1703292 | W47: 3262 | X47: =+W47/$W$54*100 -> 3.2595228 | Z47: 9979 | AA47: =Z47/$Z$54*100 -> 9.9624623 | AC47: 12205 | AD47: =+AC47/$AC$54*100 -> 12.368637 | AF47: 8854 | AG47: =AF47/$AF$54*100 -> 8.8262855 | AI47: 31831 | AJ47: =AI47/$AI$54*100 -> 32.226744
A48: =+$T$21 -> Honolulu, HI | B48: =$V$25 -> 1.3619228 | C48: =B48/$F$32 -> 1.6726671 | D48: =$D$86+((C48-$C$86)/($C$43-$C$86)*($D$43-$D$86)) -> 1.2735833 | E48: =B48*0.9/$B$86 -> 1.5054004 | F48: 7.7 | G48: =F48*$F$23/$F$26*$F$25 -> 2.5196111 | H48: =2^(G48/$B$21) -> 1.1908247 | J48: Comfortable (70 degrees) | K48: 28726 | L48: =+K48/$K$54*100 -> 28.920054 | N48: 33834 | O48: =+N48/$N$54*100 -> 33.835015 | Q48: 16977 | R48: =+Q48/$Q$54*100 -> 17.130143 | T48: 17518 | U48: =+T48/$T$54*100 -> 17.62658 | W48: 10180 | X48: =+W48/$W$54*100 -> 10.172269 | Z48: 17015 | AA48: =Z48/$Z$54*100 -> 16.986802 | AC48: 22228 | AD48: =+AC48/$AC$54*100 -> 22.526019 | AF48: 14307 | AG48: =AF48/$AF$54*100 -> 14.262217 | AI48: 20733 | AJ48: =AI48/$AI$54*100 -> 20.990767
A49: =+$K$101 -> Las Vegas, NV | B49: =$M$105 -> 1.2231166 | C49: =B49/$F$32 -> 1.50219 | D49: =$D$86+((C49-$C$86)/($C$43-$C$86)*($D$43-$D$86)) -> 1.1789043 | E49: =B49*0.9/$B$86 -> 1.351971 | F49: 9 | G49: =F49*$F$23/$F$26*$F$25 -> 2.945 | H49: =2^(G49/$B$21) -> 1.2264598 | J49: Cool (57.5 degrees) | K49: 47523 | L49: =+K49/$K$54*100 -> 47.844033 | N49: 56539 | O49: =+N49/$N$54*100 -> 56.540696 | Q49: 38377 | R49: =+Q49/$Q$54*100 -> 38.723185 | T49: 55790 | U49: =+T49/$T$54*100 -> 56.135797 | W49: 42554 | X49: =+W49/$W$54*100 -> 42.521684 | Z49: 25437 | AA49: =Z49/$Z$54*100 -> 25.394845 | AC49: 46500 | AD49: =+AC49/$AC$54*100 -> 47.123443 | AF49: 21893 | AG49: =AF49/$AF$54*100 -> 21.824471 | AI49: 20715 | AJ49: =AI49/$AI$54*100 -> 20.972543
A50: =+$AC$101 -> Orlando, FL | B50: =$AE$105 -> 1.2014983 | C50: =B50/$F$32 -> 1.4756392 | D50: =$D$86+((C50-$C$86)/($C$43-$C$86)*($D$43-$D$86)) -> 1.1641587 | E50: =B50*0.9/$B$86 -> 1.3280753 | F50: 6.5 | G50: =F50*$F$23/$F$26*$F$25 -> 2.1269444 | H50: =2^(G50/$B$21) -> 1.1588505 | J50: Cold (41 degrees) | K50: 7735 | L50: =+K50/$K$54*100 -> 7.7872525 | N50: 3567 | O50: =+N50/$N$54*100 -> 3.567107 | Q50: 22848 | R50: =+Q50/$Q$54*100 -> 23.054104 | T50: 16536 | U50: =+T50/$T$54*100 -> 16.638493 | W50: 41404 | X50: =+W50/$W$54*100 -> 41.372557 | Z50: 30738 | AA50: =Z50/$Z$54*100 -> 30.687059 | AC50: 11382 | AD50: =+AC50/$AC$54*100 -> 11.534603 | AF50: 24097 | AG50: =AF50/$AF$54*100 -> 24.021572 | AI50: 10887 | AJ50: =AI50/$AI$54*100 -> 11.022355
A51: =+$AI$41 -> Houston, TX | B51: =$AK$45 -> 1.19524 | C51: =B51/$F$32 -> 1.467953 | D51: =$D$86+((C51-$C$86)/($C$43-$C$86)*($D$43-$D$86)) -> 1.1598899 | E51: =B51*0.9/$B$86 -> 1.3211577 | F51: 6.5 | G51: =F51*$F$23/$F$26*$F$25 -> 2.1269444 | H51: =2^(G51/$B$21) -> 1.1588505 | J51: Freezing (23.5 degrees) | K51: 0 | L51: =+K51/$K$54*100 -> 0 | N51: 0 | O51: =+N51/$N$54*100 -> 0 | Q51: 519 | R51: =+Q51/$Q$54*100 -> 0.52368171 | T51: 0 | U51: =+T51/$T$54*100 -> 0 | W51: 2433 | X51: =+W51/$W$54*100 -> 2.4311523 | Z51: 13642 | AA51: =Z51/$Z$54*100 -> 13.619392 | AC51: 0 | AD51: =+AC51/$AC$54*100 -> 0 | AF51: 19827 | AG51: =AF51/$AF$54*100 -> 19.764938 | AI51: 822 | AJ51: =AI51/$AI$54*100 -> 0.83221966
A52: =$Q$121 -> Tucson, AZ | B52: =$S$125 -> 1.181709 | C52: =B52/$F$32 -> 1.4513346 | D52: =$D$86+((C52-$C$86)/($C$43-$C$86)*($D$43-$D$86)) -> 1.1506605 | E52: =B52*0.9/$B$86 -> 1.3062011 | F52: 9 | G52: =F52*$F$23/$F$26*$F$25 -> 2.945 | H52: =2^(G52/$B$21) -> 1.2264598 | J52: Frigid (10 degrees) | K52: 0 | L52: =+K52/$K$54*100 -> 0 | N52: 0 | O52: =+N52/$N$54*100 -> 0 | Q52: 0 | R52: =+Q52/$Q$54*100 -> 0 | T52: 0 | U52: =+T52/$T$54*100 -> 0 | W52: 0 | X52: =+W52/$W$54*100 -> 0 | Z52: 1096 | AA52: =Z52/$Z$54*100 -> 1.0941837 | AC52: 0 | AD52: =+AC52/$AC$54*100 -> 0 | AF52: 9710 | AG52: =AF52/$AF$54*100 -> 9.679606 | AI52: 0 | AJ52: =AI52/$AI$54*100 -> 0
A53: =+$Q$101 -> New Orleans, LA | B53: =$S$105 -> 1.1568104 | C53: =B53/$F$32 -> 1.420755 | D53: =$D$86+((C53-$C$86)/($C$43-$C$86)*($D$43-$D$86)) -> 1.1336773 | E53: =B53*0.9/$B$86 -> 1.2786795 | F53: 6.5 | G53: =F53*$F$23/$F$26*$F$25 -> 2.1269444 | H53: =2^(G53/$B$21) -> 1.1588505
A54: =+$AF$141 -> Hilo, HI | B54: =$AH$145 -> 1.1569159 | C54: =B54/$F$32 -> 1.4208846 | D54: =$D$86+((C54-$C$86)/($C$43-$C$86)*($D$43-$D$86)) -> 1.1337492 | E54: =B54*0.9/$B$86 -> 1.2787961 | F54: 6 | G54: =F54*$F$23/$F$26*$F$25 -> 1.9633333 | H54: =2^(G54/$B$21) -> 1.1457826 | K54: =SUM(K45:K52) -> 99329 | L54: =SUM(L45:L52) -> 100 | N54: =SUM(N45:N52) -> 99997 | O54: =SUM(O45:O52) -> 100 | Q54: =SUM(Q45:Q52) -> 99106 | R54: =SUM(R45:R52) -> 100 | T54: =SUM(T45:T52) -> 99384 | U54: =SUM(U45:U52) -> 100 | W54: =SUM(W45:W52) -> 100076 | X54: =SUM(X45:X52) -> 100 | Z54: =SUM(Z45:Z52) -> 100166 | AA54: =SUM(AA45:AA52) -> 100 | AC54: =SUM(AC45:AC52) -> 98677 | AD54: =SUM(AD45:AD52) -> 100 | AF54: =SUM(AF45:AF52) -> 100314 | AG54: =SUM(AG45:AG52) -> 100 | AI54: =SUM(AI45:AI52) -> 98772 | AJ54: =SUM(AJ45:AJ52) -> 100
A55: =+$K$1 -> Ridgecrest, CA | B55: =$M$5 -> 1.1156838 | C55: =B55/$F$32 -> 1.3702448 | D55: =$D$86+((C55-$C$86)/($C$43-$C$86)*($D$43-$D$86)) -> 1.1056251 | E55: =B55*0.9/$B$86 -> 1.2332203 | F55: 9 | G55: =F55*$F$23/$F$26*$F$25 -> 2.945 | H55: =2^(G55/$B$21) -> 1.2264598
A56: =+$AF$121 -> San Antonio, TX | B56: =$AH$125 -> 1.1141396 | C56: =B56/$F$32 -> 1.3683482 | D56: =$D$86+((C56-$C$86)/($C$43-$C$86)*($D$43-$D$86)) -> 1.1045718 | E56: =B56*0.9/$B$86 -> 1.2315134 | F56: 6.5 | G56: =F56*$F$23/$F$26*$F$25 -> 2.1269444 | H56: =2^(G56/$B$21) -> 1.1588505 | J56: Actual pixels | K56: 99301 | N56: 99301 | Q56: 99301 | T56: 99301 | W56: 99301 | Z56: 99301 | AC56: 99301 | AF56: 99301 | AI56: 99301
A57: =+$Z$141 -> Jacksonville, FL | B57: =$AB$145 -> 1.1092393 | C57: =B57/$F$32 -> 1.3623298 | D57: =$D$86+((C57-$C$86)/($C$43-$C$86)*($D$43-$D$86)) -> 1.1012293 | E57: =B57*0.9/$B$86 -> 1.2260968 | F57: 6.5 | G57: =F57*$F$23/$F$26*$F$25 -> 2.1269444 | H57: =2^(G57/$B$21) -> 1.1588505
A58: =+$W$121 -> Austin, TX | B58: =$Y$125 -> 1.0973593 | C58: =B58/$F$32 -> 1.3477393 | D58: =$D$86+((C58-$C$86)/($C$43-$C$86)*($D$43-$D$86)) -> 1.0931261 | E58: =B58*0.9/$B$86 -> 1.2129653 | F58: 6.5 | G58: =F58*$F$23/$F$26*$F$25 -> 2.1269444 | H58: =2^(G58/$B$21) -> 1.1588505 | J58: Percent error total pixels | K58: =((K54/K56)-1) -> 0.00028197098 | N58: =((N54/N56)-1) -> 0.0070089929 | Q58: =((Q54/Q56)-1) -> -0.0019637264 | T58: =((T54/T56)-1) -> 0.00083584254 | W58: =((W54/W56)-1) -> 0.0078045538 | Z58: =((Z54/Z56)-1) -> 0.0087108891 | AC58: =((AC54/AC56)-1) -> -0.0062839246 | AF58: =((AF54/AF56)-1) -> 0.010201307 | AI58: =((AI54/AI56)-1) -> -0.0053272374
A59: =+$AF$21 -> Dallas, TX | B59: =$AH$25 -> 1.0753402 | C59: =B59/$F$32 -> 1.3206961 | D59: =$D$86+((C59-$C$86)/($C$43-$C$86)*($D$43-$D$86)) -> 1.078107 | E59: =B59*0.9/$B$86 -> 1.1886265 | F59: 7 | G59: =F59*$F$23/$F$26*$F$25 -> 2.2905556 | H59: =2^(G59/$B$21) -> 1.1720674
A60: =+$AI$181 -> Witchita Falls, TX | B60: =$AK$185 -> 1.0724913 | C60: =B60/$F$32 -> 1.3171972 | D60: =$D$86+((C60-$C$86)/($C$43-$C$86)*($D$43-$D$86)) -> 1.0761637 | E60: =B60*0.9/$B$86 -> 1.1854775 | F60: 7.5 | G60: =F60*$F$23/$F$26*$F$25 -> 2.4541667 | H60: =2^(G60/$B$21) -> 1.1854351
A61: =+$N$181 -> Waxahachie, TX | B61: =$P$185 -> 1.0185489 | C61: =B61/$F$32 -> 1.250947 | D61: =$D$86+((C61-$C$86)/($C$43-$C$86)*($D$43-$D$86)) -> 1.03937 | E61: =B61*0.9/$B$86 -> 1.1258523 | F61: 7 | G61: =F61*$F$23/$F$26*$F$25 -> 2.2905556 | H61: =2^(G61/$B$21) -> 1.1720674 | K61: Winchester, VA | N61: Washington DC | Q61: Vancouver, BC | T61: San Jose, CA | W61: Bellingham, WA | Z61: Kansas City, MO | AC61: Sydney, Australia | AF61: Paris, France | AI61: Hong Kong Intl Airport
A62: =+$AF$181 -> Tyler, TX | B62: =$AH$185 -> 1.0145556 | C62: =B62/$F$32 -> 1.2460425 | D62: =$D$86+((C62-$C$86)/($C$43-$C$86)*($D$43-$D$86)) -> 1.0366461 | E62: =B62*0.9/$B$86 -> 1.1214383 | F62: 6.5 | G62: =F62*$F$23/$F$26*$F$25 -> 2.1269444 | H62: =2^(G62/$B$21) -> 1.1588505 | M62: Calculated | P62: Calculated | S62: Calculated | V62: Calculated | Y62: Calculated | AB62: Calculated | AE62: Calculated | AH62: Calculated | AK62: Calculated
A63: =+$AI$21 -> Bakersfield, CA | B63: =$AK$25 -> 1.000777 | C63: =B63/$F$32 -> 1.2291201 | D63: =$D$86+((C63-$C$86)/($C$43-$C$86)*($D$43-$D$86)) -> 1.0272479 | E63: =B63*0.9/$B$86 -> 1.1062081 | F63: 7.5 | G63: =F63*$F$23/$F$26*$F$25 -> 2.4541667 | H63: =2^(G63/$B$21) -> 1.1854351 | J63: Temp Band (Median) | K63: Pixels | L63: Percent | M63: Aging Factor | N63: Pixels | O63: Percent | P63: Aging Factor | Q63: Pixels | R63: Percent | S63: Aging Factor | T63: Pixels | U63: Percent | V63: Aging Factor | W63: Pixels | X63: Percent | Y63: Aging Factor | Z63: Pixels | AA63: Percent | AB63: Aging Factor | AC63: Pixels | AD63: Percent | AE63: Aging Factor | AF63: Pixels | AG63: Percent | AH63: Aging Factor | AI63: Pixels | AJ63: Percent | AK63: Aging Factor
A64: =+$W$201 -> El Paso, TX | B64: =$Y$205 -> 1.0025348 | C64: =B64/$F$32 -> 1.2312791 | D64: =$D$86+((C64-$C$86)/($C$43-$C$86)*($D$43-$D$86)) -> 1.0284469 | E64: =B64*0.9/$B$86 -> 1.1081512 | F64: 9 | G64: =F64*$F$23/$F$26*$F$25 -> 2.945 | H64: =2^(G64/$B$21) -> 1.2264598
A65: =+$Z$181 -> Sevilla, Spain | B65: =$AB$185 -> 0.96466532 | C65: =B65/$F$32 -> 1.184769 | D65: =$D$86+((C65-$C$86)/($C$43-$C$86)*($D$43-$D$86)) -> 1.0026163 | E65: =B65*0.9/$B$86 -> 1.0662921 | F65: 0 | G65: 0 | H65: 1 | J65: Sweltering (105 degrees) | K65: 0 | L65: =K65/$K$74*100 -> 0 | M65: =((L65*$A$25)+(L66*$A$26)+(L67*$A$27)+(L68*$A$28)+(L69*$A$29)+(L70*$A$30)+(L71*$A$31)+(L72*$A$32))/100 -> 0.71658692 | N65: 0 | O65: =N65/$N$74*100 -> 0 | P65: =((O65*$A$25)+(O66*$A$26)+(O67*$A$27)+(O68*$A$28)+(O69*$A$29)+(O70*$A$30)+(O71*$A$31)+(O72*$A$32))/100 -> 0.78628404 | Q65: 0 | R65: =Q65/$Q$74*100 -> 0 | S65: =((R65*$A$25)+(R66*$A$26)+(R67*$A$27)+(R68*$A$28)+(R69*$A$29)+(R70*$A$30)+(R71*$A$31)+(R72*$A$32))/100 -> 0.50180573 | T65: 0 | U65: =T65/$T$74*100 -> 0 | V65: =((U65*$A$25)+(U66*$A$26)+(U67*$A$27)+(U68*$A$28)+(U69*$A$29)+(U70*$A$30)+(U71*$A$31)+(U72*$A$32))/100 -> 0.73139974 | W65: 0 | X65: =W65/$W$74*100 -> 0 | Y65: =((X65*$A$25)+(X66*$A$26)+(X67*$A$27)+(X68*$A$28)+(X69*$A$29)+(X70*$A$30)+(X71*$A$31)+(X72*$A$32))/100 -> 0.49506183 | Z65: 93 | AA65: =Z65/$Z$74*100 -> 0.09321159 | AB65: =((AA65*$A$25)+(AA66*$A$26)+(AA67*$A$27)+(AA68*$A$28)+(AA69*$A$29)+(AA70*$A$30)+(AA71*$A$31)+(AA72*$A$32))/100 -> 0.78703925 | AC65: 0 | AD65: =AC65/$AC$74*100 -> 0 | AE65: =((AD65*$A$25)+(AD66*$A$26)+(AD67*$A$27)+(AD68*$A$28)+(AD69*$A$29)+(AD70*$A$30)+(AD71*$A$31)+(AD72*$A$32))/100 -> 0.84097486 | AF65: 0 | AG65: =AF65/$AF$74*100 -> 0 | AH65: =((AG65*$A$25)+(AG66*$A$26)+(AG67*$A$27)+(AG68*$A$28)+(AG69*$A$29)+(AG70*$A$30)+(AG71*$A$31)+(AG72*$A$32))/100 -> 0.56325023 | AI65: 0 | AJ65: =AI65/$AI$74*100 -> 0 | AK65: =((AJ65*$A$25)+(AJ66*$A$26)+(AJ67*$A$27)+(AJ68*$A$28)+(AJ69*$A$29)+(AJ70*$A$30)+(AJ71*$A$31)+(AJ72*$A$32))/100 -> 1.3616634
A66: =+$Q$141 -> Jackson, Mississippi | B66: =$S$145 -> 0.95708794 | C66: =B66/$F$32 -> 1.1754627 | D66: =$D$86+((C66-$C$86)/($C$43-$C$86)*($D$43-$D$86)) -> 0.99744781 | E66: =B66*0.9/$B$86 -> 1.0579165 | F66: 6.5 | G66: =F66*$F$23/$F$26*$F$25 -> 2.1269444 | H66: =2^(G66/$B$21) -> 1.1588505 | J66: Very Hot (92.5 degrees) | K66: 4090 | L66: =K66/$K$74*100 -> 4.0773602 | N66: 4690 | O66: =N66/$N$74*100 -> 4.6873751 | Q66: 0 | R66: =Q66/$Q$74*100 -> 0 | T66: 1420 | U66: =T66/$T$74*100 -> 1.428284 | W66: 0 | X66: =W66/$W$74*100 -> 0 | Z66: 6163 | AA66: =Z66/$Z$74*100 -> 6.1770218 | AC66: 782 | AD66: =AC66/$AC$74*100 -> 0.78910192 | AF66: 496 | AG66: =AF66/$AF$74*100 -> 0.49482726 | AI66: 17496 | AJ66: =AI66/$AI$74*100 -> 17.799119
A67: =+$N$201 -> Fresno, CA | B67: =$P$205 -> 0.95450902 | C67: =B67/$F$32 -> 1.1722954 | D67: =$D$86+((C67-$C$86)/($C$43-$C$86)*($D$43-$D$86)) -> 0.99568875 | E67: =B67*0.9/$B$86 -> 1.0550659 | F67: 7.5 | G67: =F67*$F$23/$F$26*$F$25 -> 2.4541667 | H67: =2^(G67/$B$21) -> 1.1854351 | J67: Hot (80 degrees) | K67: 11516 | L67: =K67/$K$74*100 -> 11.480411 | N67: 15933 | O67: =N67/$N$74*100 -> 15.924083 | Q67: 977 | R67: =Q67/$Q$74*100 -> 0.97237151 | T67: 8111 | U67: =T67/$T$74*100 -> 8.1583182 | W67: 1293 | X67: =W67/$W$74*100 -> 1.28658 | Z67: 15382 | AA67: =Z67/$Z$74*100 -> 15.416997 | AC67: 10188 | AD67: =AC67/$AC$74*100 -> 10.280525 | AF67: 3855 | AG67: =AF67/$AF$74*100 -> 3.8458853 | AI67: 40401 | AJ67: =AI67/$AI$74*100 -> 41.100949
A68: =+$Q$21 -> Memphis, TN | B68: =$S$25 -> 0.94135819 | C68: =B68/$F$32 -> 1.156144 | D68: =$D$86+((C68-$C$86)/($C$43-$C$86)*($D$43-$D$86)) -> 0.98671864 | E68: =B68*0.9/$B$86 -> 1.0405296 | F68: 6.5 | G68: =F68*$F$23/$F$26*$F$25 -> 2.1269444 | H68: =2^(G68/$B$21) -> 1.1588505 | J68: Comfortable (70 degrees) | K68: 17521 | L68: =K68/$K$74*100 -> 17.466853 | N68: 18026 | O68: =N68/$N$74*100 -> 18.015911 | Q68: 8516 | R68: =Q68/$Q$74*100 -> 8.4756559 | T68: 17516 | U68: =T68/$T$74*100 -> 17.618185 | W68: 6435 | X68: =W68/$W$74*100 -> 6.4030488 | Z68: 16689 | AA68: =Z68/$Z$74*100 -> 16.72697 | AC68: 36510 | AD68: =AC68/$AC$74*100 -> 36.841574 | AF68: 12092 | AG68: =AF68/$AF$74*100 -> 12.06341 | AI68: 21788 | AJ68: =AI68/$AI$74*100 -> 22.165478
A69: =+$Z$101 -> Palmdale, CA | B69: =$AB$105 -> 0.91341613 | C69: =B69/$F$32 -> 1.1218265 | D69: =$D$86+((C69-$C$86)/($C$43-$C$86)*($D$43-$D$86)) -> 0.96765953 | E69: =B69*0.9/$B$86 -> 1.0096439 | F69: 7.5 | G69: =F69*$F$23/$F$26*$F$25 -> 2.4541667 | H69: =2^(G69/$B$21) -> 1.1854351 | J69: Cool (57.5 degrees) | K69: 26204 | L69: =K69/$K$74*100 -> 26.123019 | N69: 24865 | O69: =N69/$N$74*100 -> 24.851083 | Q69: 39308 | R69: =Q69/$Q$74*100 -> 39.12178 | T69: 55801 | U69: =T69/$T$74*100 -> 56.126534 | W69: 41403 | X69: =W69/$W$74*100 -> 41.197425 | Z69: 22359 | AA69: =Z69/$Z$74*100 -> 22.40987 | AC69: 45077 | AD69: =AC69/$AC$74*100 -> 45.486377 | AF69: 37833 | AG69: =AF69/$AF$74*100 -> 37.743548 | AI69: 17121 | AJ69: =AI69/$AI$74*100 -> 17.417622
A70: =+$AI$121 -> Little Rock, Arkansas | B70: =$AK$125 -> 0.90855083 | C70: =B70/$F$32 -> 1.1158511 | D70: =$D$86+((C70-$C$86)/($C$43-$C$86)*($D$43-$D$86)) -> 0.96434094 | E70: =B70*0.9/$B$86 -> 1.004266 | F70: 6.5 | G70: =F70*$F$23/$F$26*$F$25 -> 2.1269444 | H70: =2^(G70/$B$21) -> 1.1588505 | J70: Cold (41 degrees) | K70: 29292 | L70: =K70/$K$74*100 -> 29.201475 | N70: 28813 | O70: =N70/$N$74*100 -> 28.796874 | Q70: 47089 | R70: =Q70/$Q$74*100 -> 46.865918 | T70: 16538 | U70: =T70/$T$74*100 -> 16.63448 | W70: 45275 | X70: =W70/$W$74*100 -> 45.0502 | Z70: 25153 | AA70: =Z70/$Z$74*100 -> 25.210227 | AC70: 6543 | AD70: =AC70/$AC$74*100 -> 6.6024218 | AF70: 40355 | AG70: =AF70/$AF$74*100 -> 40.259585 | AI70: 1491 | AJ70: =AI70/$AI$74*100 -> 1.5168316
A71: =+$K$121 -> Ontario Intl Airport | B71: =$M$125 -> 0.89832724 | C71: =B71/$F$32 -> 1.1032948 | D71: =$D$86+((C71-$C$86)/($C$43-$C$86)*($D$43-$D$86)) -> 0.95736749 | E71: =B71*0.9/$B$86 -> 0.99296536 | F71: 7.5 | G71: =F71*$F$23/$F$26*$F$25 -> 2.4541667 | H71: =2^(G71/$B$21) -> 1.1854351 | J71: Freezing (23.5 degrees) | K71: 11322 | L71: =K71/$K$74*100 -> 11.28701 | N71: 7547 | O71: =N71/$N$74*100 -> 7.542776 | Q71: 4551 | R71: =Q71/$Q$74*100 -> 4.5294399 | T71: 34 | U71: =T71/$T$74*100 -> 0.03419835 | W71: 6030 | X71: =W71/$W$74*100 -> 6.0000597 | Z71: 11529 | AA71: =Z71/$Z$74*100 -> 11.55523 | AC71: 0 | AD71: =AC71/$AC$74*100 -> 0 | AF71: 5558 | AG71: =AF71/$AF$74*100 -> 5.5448587 | AI71: 0 | AJ71: =AI71/$AI$74*100 -> 0
A72: =+$AC$41 -> Van Nuys, CA | B72: =$AE$45 -> 0.89192389 | C72: =B72/$F$32 -> 1.0954305 | D72: =$D$86+((C72-$C$86)/($C$43-$C$86)*($D$43-$D$86)) -> 0.95299981 | E72: =B72*0.9/$B$86 -> 0.98588743 | F72: 7.5 | G72: =F72*$F$23/$F$26*$F$25 -> 2.4541667 | H72: =2^(G72/$B$21) -> 1.1854351 | J72: Frigid (10 degrees) | K72: 365 | L72: =K72/$K$74*100 -> 0.363872 | N72: 182 | O72: =N72/$N$74*100 -> 0.18189814 | Q72: 35 | R72: =Q72/$Q$74*100 -> 0.034834189 | T72: 0 | U72: =T72/$T$74*100 -> 0 | W72: 63 | X72: =W72/$W$74*100 -> 0.062687191 | Z72: 2405 | AA72: =Z72/$Z$74*100 -> 2.4104718 | AC72: 0 | AD72: =AC72/$AC$74*100 -> 0 | AF72: 48 | AG72: =AF72/$AF$74*100 -> 0.047886509 | AI72: 0 | AJ72: =AI72/$AI$74*100 -> 0
A73: =+$AI$101 -> Riverside, CA | B73: =$AK$105 -> 0.89010292 | C73: =B73/$F$32 -> 1.093194 | D73: =$D$86+((C73-$C$86)/($C$43-$C$86)*($D$43-$D$86)) -> 0.95175773 | E73: =B73*0.9/$B$86 -> 0.98387461 | F73: 9 | G73: =F73*$F$23/$F$26*$F$25 -> 2.945 | H73: =2^(G73/$B$21) -> 1.2264598
A74: =+$Q$181 -> Visalia, CA | B74: =$S$185 -> 0.88748083 | C74: =B74/$F$32 -> 1.0899737 | D74: =$D$86+((C74-$C$86)/($C$43-$C$86)*($D$43-$D$86)) -> 0.94996922 | E74: =B74*0.9/$B$86 -> 0.98097629 | F74: 7.5 | G74: =F74*$F$23/$F$26*$F$25 -> 2.4541667 | H74: =2^(G74/$B$21) -> 1.1854351 | K74: =SUM(K65:K72) -> 100310 | L74: =SUM(L65:L72) -> 100 | N74: =SUM(N65:N72) -> 100056 | O74: =SUM(O65:O72) -> 100 | Q74: =SUM(Q65:Q72) -> 100476 | R74: =SUM(R65:R72) -> 100 | T74: =SUM(T65:T72) -> 99420 | U74: =SUM(U65:U72) -> 100 | W74: =SUM(W65:W72) -> 100499 | X74: =SUM(X65:X72) -> 100 | Z74: =SUM(Z65:Z72) -> 99773 | AA74: =SUM(AA65:AA72) -> 100 | AC74: =SUM(AC65:AC72) -> 99100 | AD74: =SUM(AD65:AD72) -> 100 | AF74: =SUM(AF65:AF72) -> 100237 | AG74: =SUM(AG65:AG72) -> 100 | AI74: =SUM(AI65:AI72) -> 98297 | AJ74: =SUM(AJ65:AJ72) -> 100
A75: =+$AI$161 -> Tulsa, OK | B75: =$AK$165 -> 0.88257695 | C75: =B75/$F$32 -> 1.0839509 | D75: =$D$86+((C75-$C$86)/($C$43-$C$86)*($D$43-$D$86)) -> 0.94662431 | E75: =B75*0.9/$B$86 -> 0.97555579 | F75: 6.5 | G75: =F75*$F$23/$F$26*$F$25 -> 2.1269444 | H75: =2^(G75/$B$21) -> 1.1588505
A76: =+$Q$41 -> Modesto, CA | B76: =$S$45 -> 0.87734781 | C76: =B76/$F$32 -> 1.0775286 | D76: =$D$86+((C76-$C$86)/($C$43-$C$86)*($D$43-$D$86)) -> 0.94305755 | E76: =B76*0.9/$B$86 -> 0.96977577 | F76: 7.5 | G76: =F76*$F$23/$F$26*$F$25 -> 2.4541667 | H76: =2^(G76/$B$21) -> 1.1854351 | J76: Actual pixels | K76: 99301 | N76: 99301 | Q76: 99301 | T76: 99301 | W76: 99301 | Z76: 99301 | AC76: 99301 | AF76: 99301 | AI76: 99301
A77: =+$T$181 -> Burbank, CA | B77: =$V$185 -> 0.86982941 | C77: =B77/$F$32 -> 1.0682948 | D77: =$D$86+((C77-$C$86)/($C$43-$C$86)*($D$43-$D$86)) -> 0.9379293 | E77: =B77*0.9/$B$86 -> 0.96146531 | F77: 7.5 | G77: =F77*$F$23/$F$26*$F$25 -> 2.4541667 | H77: =2^(G77/$B$21) -> 1.1854351
A78: =+$W$81 -> Atlanta, Georgia | B78: =$Y$85 -> 0.86884582 | C78: =B78/$F$32 -> 1.0670868 | D78: =$D$86+((C78-$C$86)/($C$43-$C$86)*($D$43-$D$86)) -> 0.9372584 | E78: =B78*0.9/$B$86 -> 0.9603781 | F78: 6.5 | G78: =F78*$F$23/$F$26*$F$25 -> 2.1269444 | H78: =2^(G78/$B$21) -> 1.1588505 | J78: Percent error total pixels | K78: =((K74/K76)-1) -> 0.010161026 | N78: =((N74/N76)-1) -> 0.007603146 | Q78: =((Q74/Q76)-1) -> 0.011832711 | T78: =((T74/T76)-1) -> 0.0011983767 | W78: =((W74/W76)-1) -> 0.01206433 | Z78: =((Z74/Z76)-1) -> 0.004753225 | AC78: =((AC74/AC76)-1) -> -0.0020241488 | AF78: =((AF74/AF76)-1) -> 0.0094258869 | AI78: =((AI74/AI76)-1) -> -0.010110674
A79: =+$AI$81 -> Oklahoma City, OK | B79: =$AK$85 -> 0.86802829 | C79: =B79/$F$32 -> 1.0660827 | D79: =$D$86+((C79-$C$86)/($C$43-$C$86)*($D$43-$D$86)) -> 0.93670076 | E79: =B79*0.9/$B$86 -> 0.95947444 | F79: 7.5 | G79: =F79*$F$23/$F$26*$F$25 -> 2.4541667 | H79: =2^(G79/$B$21) -> 1.1854351
A80: =+$K$41 -> Anaheim, CA | B80: =$M$45 -> 0.86449389 | C80: =B80/$F$32 -> 1.0617419 | D80: =$D$86+((C80-$C$86)/($C$43-$C$86)*($D$43-$D$86)) -> 0.93428997 | E80: =B80*0.9/$B$86 -> 0.9555677 | F80: 7.5 | G80: =F80*$F$23/$F$26*$F$25 -> 2.4541667 | H80: =2^(G80/$B$21) -> 1.1854351
A81: =+$AC$61 -> Sydney, Australia | B81: =$AE$65 -> 0.84097486 | C81: =B81/$F$32 -> 1.0328566 | D81: =$D$86+((C81-$C$86)/($C$43-$C$86)*($D$43-$D$86)) -> 0.91824778 | E81: =B81*0.9/$B$86 -> 0.92957095 | F81: 0 | G81: 0 | H81: 1 | K81: Melbourne, Australia | N81: London, England | Q81: Madrid, Spain | T81: Charlotte, NC | W81: Atlanta, Georgia | Z81: Juneau, Alaska | AC81: LAX | AF81: Olympia, WA | AI81: Oklahoma City, OK
A82: =+$T$81 -> Charlotte, NC | B82: =$V$85 -> 0.83121576 | C82: =B82/$F$32 -> 1.0208708 | D82: =$D$86+((C82-$C$86)/($C$43-$C$86)*($D$43-$D$86)) -> 0.91159115 | E82: =B82*0.9/$B$86 -> 0.91878373 | F82: 6.5 | G82: =F82*$F$23/$F$26*$F$25 -> 2.1269444 | H82: =2^(G82/$B$21) -> 1.1588505 | M82: Calculated | P82: Calculated | S82: Calculated | V82: Calculated | Y82: Calculated | AB82: Calculated | AE82: Calculated | AH82: Calculated | AK82: Calculated
A83: =+$W$1 -> Nashville, TN | B83: =$Y$5 -> 0.82797419 | C83: =B83/$F$32 -> 1.0168896 | D83: =$D$86+((C83-$C$86)/($C$43-$C$86)*($D$43-$D$86)) -> 0.9093801 | E83: =B83*0.9/$B$86 -> 0.91520067 | F83: 6.5 | G83: =F83*$F$23/$F$26*$F$25 -> 2.1269444 | H83: =2^(G83/$B$21) -> 1.1588505 | J83: Temp Band (Median) | K83: Pixels | L83: Percent | M83: Aging Factor | N83: Pixels | O83: Percent | P83: Aging Factor | Q83: Pixels | R83: Percent | S83: Aging Factor | T83: Pixels | U83: Percent | V83: Aging Factor | W83: Pixels | X83: Percent | Y83: Aging Factor | Z83: Pixels | AA83: Percent | AB83: Aging Factor | AC83: Pixels | AD83: Percent | AE83: Aging Factor | AF83: Pixels | AG83: Percent | AH83: Aging Factor | AI83: Pixels | AJ83: Percent | AK83: Aging Factor
A84: =+$W$161 -> Norfolk, VA | B84: =$Y$165 -> 0.82223333 | C84: =B84/$F$32 -> 1.0098389 | D84: =$D$86+((C84-$C$86)/($C$43-$C$86)*($D$43-$D$86)) -> 0.90546429 | E84: =B84*0.9/$B$86 -> 0.90885501 | F84: 6.5 | G84: =F84*$F$23/$F$26*$F$25 -> 2.1269444 | H84: =2^(G84/$B$21) -> 1.1588505
A85: =+$AF$161 -> Raleigh, NC | B85: =$AH$165 -> 0.814658 | C85: =B85/$F$32 -> 1.0005351 | D85: =$D$86+((C85-$C$86)/($C$43-$C$86)*($D$43-$D$86)) -> 0.90029721 | E85: =B85*0.9/$B$86 -> 0.90048163 | F85: 6.5 | G85: =F85*$F$23/$F$26*$F$25 -> 2.1269444 | H85: =2^(G85/$B$21) -> 1.1588505 | J85: Sweltering (105 degrees) | K85: 0 | L85: =K85/$K$94*100 -> 0 | M85: =((L85*$A$25)+(L86*$A$26)+(L87*$A$27)+(L88*$A$28)+(L89*$A$29)+(L90*$A$30)+(L91*$A$31)+(L92*$A$32))/100 -> 0.65383817 | N85: 0 | O85: =N85/$N$94*100 -> 0 | P85: =((O85*$A$25)+(O86*$A$26)+(O87*$A$27)+(O88*$A$28)+(O89*$A$29)+(O90*$A$30)+(O91*$A$31)+(O92*$A$32))/100 -> 0.55618783 | Q85: 0 | R85: =Q85/$Q$94*100 -> 0 | S85: =((R85*$A$25)+(R86*$A$26)+(R87*$A$27)+(R88*$A$28)+(R89*$A$29)+(R90*$A$30)+(R91*$A$31)+(R92*$A$32))/100 -> 0.74580546 | T85: 0 | U85: =T85/$T$94*100 -> 0 | V85: =((U85*$A$25)+(U86*$A$26)+(U87*$A$27)+(U88*$A$28)+(U89*$A$29)+(U90*$A$30)+(U91*$A$31)+(U92*$A$32))/100 -> 0.83121576 | W85: 0 | X85: =W85/$W$94*100 -> 0 | Y85: =((X85*$A$25)+(X86*$A$26)+(X87*$A$27)+(X88*$A$28)+(X89*$A$29)+(X90*$A$30)+(X91*$A$31)+(X92*$A$32))/100 -> 0.86884582 | Z85: 0 | AA85: =Z85/$Z$94*100 -> 0 | AB85: =((AA85*$A$25)+(AA86*$A$26)+(AA87*$A$27)+(AA88*$A$28)+(AA89*$A$29)+(AA90*$A$30)+(AA91*$A$31)+(AA92*$A$32))/100 -> 0.38183215 | AC85: 0 | AD85: =AC85/$AC$94*100 -> 0 | AE85: =((AD85*$A$25)+(AD86*$A$26)+(AD87*$A$27)+(AD88*$A$28)+(AD89*$A$29)+(AD90*$A$30)+(AD91*$A$31)+(AD92*$A$32))/100 -> 0.74979543 | AF85: 0 | AG85: =AF85/$AF$94*100 -> 0 | AH85: =((AG85*$A$25)+(AG86*$A$26)+(AG87*$A$27)+(AG88*$A$28)+(AG89*$A$29)+(AG90*$A$30)+(AG91*$A$31)+(AG92*$A$32))/100 -> 0.51012153 | AI85: 357 | AJ85: =AI85/$AI$94*100 -> 0.35864258 | AK85: =((AJ85*$A$25)+(AJ86*$A$26)+(AJ87*$A$27)+(AJ88*$A$28)+(AJ89*$A$29)+(AJ90*$A$30)+(AJ91*$A$31)+(AJ92*$A$32))/100 -> 0.86802829
A86: =+$AC$21 -> Los Angeles Civic Center | B86: =$AE$25 -> 0.81422227 | C86: =B86/$F$32 -> 1 | D86: 0.9 | E86: =B86*0.9/$B$86 -> 0.9 | F86: 7.5 | G86: =F86*$F$23/$F$26*$F$25 -> 2.4541667 | H86: =2^(G86/$B$21) -> 1.1854351 | J86: Very Hot (92.5 degrees) | K86: 1558 | L86: =K86/$K$94*100 -> 1.5667582 | N86: 0 | O86: =N86/$N$94*100 -> 0 | Q86: 5915 | R86: =Q86/$Q$94*100 -> 5.9379204 | T86: 4814 | U86: =T86/$T$94*100 -> 4.8279528 | W86: 5055 | X86: =W86/$W$94*100 -> 5.0735183 | Z86: 0 | AA86: =Z86/$Z$94*100 -> 0 | AC86: 0 | AD86: =AC86/$AC$94*100 -> 0 | AF86: 377 | AG86: =AF86/$AF$94*100 -> 0.37624 | AI86: 7873 | AJ86: =AI86/$AI$94*100 -> 7.9092242
A87: =+$Z$1 -> Ota, Japan | B87: =$AB$5 -> 0.80151369 | C87: =B87/$F$32 -> 0.98439176 | D87: =$D$117+((C87-$C$117)/($C$86-$C$117)*($D$86-$D$117)) -> 0.8911357 | E87: =D87 -> 0.8911357 | F87: 0 | G87: 0 | H87: 1 | J87: Hot (80 degrees) | K87: 4780 | L87: =K87/$K$94*100 -> 4.8068704 | N87: 1836 | O87: =N87/$N$94*100 -> 1.8265567 | Q87: 9884 | R87: =Q87/$Q$94*100 -> 9.9223001 | T87: 15782 | U87: =T87/$T$94*100 -> 15.827742 | W87: 17903 | X87: =W87/$W$94*100 -> 17.968585 | Z87: 241 | AA87: =Z87/$Z$94*100 -> 0.23973897 | AC87: 4440 | AD87: =AC87/$AC$94*100 -> 4.4413768 | AF87: 3029 | AG87: =AF87/$AF$94*100 -> 3.0228938 | AI87: 15949 | AJ87: =AI87/$AI$94*100 -> 16.022383
A88: =+$W$181 -> Santa Ana, CA | B88: =$Y$185 -> 0.79263112 | C88: =B88/$F$32 -> 0.97348248 | D88: =$D$117+((C88-$C$117)/($C$86-$C$117)*($D$86-$D$117)) -> 0.88494006 | E88: =D88 -> 0.88494006 | F88: 7.5 | G88: =F88*$F$23/$F$26*$F$25 -> 2.4541667 | H88: =2^(G88/$B$21) -> 1.1854351 | J88: Comfortable (70 degrees) | K88: 12232 | L88: =K88/$K$94*100 -> 12.300761 | N88: 11292 | O88: =N88/$N$94*100 -> 11.233921 | Q88: 14116 | R88: =Q88/$Q$94*100 -> 14.170699 | T88: 22560 | U88: =T88/$T$94*100 -> 22.625387 | W88: 23527 | X88: =W88/$W$94*100 -> 23.613188 | Z88: 2020 | AA88: =Z88/$Z$94*100 -> 2.0094304 | AC88: 27997 | AD88: =AC88/$AC$94*100 -> 28.005682 | AF88: 7413 | AG88: =AF88/$AF$94*100 -> 7.3980559 | AI88: 18636 | AJ88: =AI88/$AI$94*100 -> 18.721746
A89: =+$N$41 -> San Diego, CA | B89: =$P$45 -> 0.78844309 | C89: =B89/$F$32 -> 0.96833889 | D89: =$D$117+((C89-$C$117)/($C$86-$C$117)*($D$86-$D$117)) -> 0.8820189 | E89: =D89 -> 0.8820189 | F89: 7.5 | G89: =F89*$F$23/$F$26*$F$25 -> 2.4541667 | H89: =2^(G89/$B$21) -> 1.1854351 | J89: Cool (57.5 degrees) | K89: 53622 | L89: =K89/$K$94*100 -> 53.923432 | N89: 47023 | O89: =N89/$N$94*100 -> 46.781141 | Q89: 32390 | R89: =Q89/$Q$94*100 -> 32.51551 | T89: 27423 | U89: =T89/$T$94*100 -> 27.502482 | W89: 27409 | X89: =W89/$W$94*100 -> 27.509409 | Z89: 25230 | AA89: =Z89/$Z$94*100 -> 25.097985 | AC89: 63067 | AD89: =AC89/$AC$94*100 -> 63.086557 | AF89: 34748 | AG89: =AF89/$AF$94*100 -> 34.677951 | AI89: 24327 | AJ89: =AI89/$AI$94*100 -> 24.43893
A90: =+$Z$61 -> Kansas City, MO | B90: =$AB$65 -> 0.78703925 | C90: =B90/$F$32 -> 0.96661474 | D90: =$D$117+((C90-$C$117)/($C$86-$C$117)*($D$86-$D$117)) -> 0.88103971 | E90: =D90 -> 0.88103971 | F90: 6.5 | G90: =F90*$F$23/$F$26*$F$25 -> 2.1269444 | H90: =2^(G90/$B$21) -> 1.1588505 | J90: Cold (41 degrees) | K90: 27249 | L90: =K90/$K$94*100 -> 27.402178 | N90: 38151 | O90: =N90/$N$94*100 -> 37.954774 | Q90: 33279 | R90: =Q90/$Q$94*100 -> 33.407955 | T90: 24127 | U90: =T90/$T$94*100 -> 24.196929 | W90: 21676 | X90: =W90/$W$94*100 -> 21.755407 | Z90: 52572 | AA90: =Z90/$Z$94*100 -> 52.296918 | AC90: 4465 | AD90: =AC90/$AC$94*100 -> 4.4663846 | AF90: 48417 | AG90: =AF90/$AF$94*100 -> 48.319395 | AI90: 23875 | AJ90: =AI90/$AI$94*100 -> 23.984851
A91: =+$N$61 -> Washington DC | B91: =$P$65 -> 0.78628404 | C91: =B91/$F$32 -> 0.96568722 | D91: =$D$117+((C91-$C$117)/($C$86-$C$117)*($D$86-$D$117)) -> 0.88051295 | E91: =D91 -> 0.88051295 | F91: 5.5 | G91: =F91*$F$23/$F$26*$F$25 -> 1.7997222 | H91: =2^(G91/$B$21) -> 1.1328621 | J91: Freezing (23.5 degrees) | K91: 0 | L91: =K91/$K$94*100 -> 0 | N91: 2215 | O91: =N91/$N$94*100 -> 2.2036074 | Q91: 4030 | R91: =Q91/$Q$94*100 -> 4.0456161 | T91: 4966 | U91: =T91/$T$94*100 -> 4.9803933 | W91: 3973 | X91: =W91/$W$94*100 -> 3.9875546 | Z91: 17439 | AA91: =Z91/$Z$94*100 -> 17.347751 | AC91: 0 | AD91: =AC91/$AC$94*100 -> 0 | AF91: 6139 | AG91: =AF91/$AF$94*100 -> 6.1266242 | AI91: 7912 | AJ91: =AI91/$AI$94*100 -> 7.9484037
A92: =$T$121 -> Knoxville, TN | B92: =$V$125 -> 0.78610981 | C92: =B92/$F$32 -> 0.96547323 | D92: =$D$117+((C92-$C$117)/($C$86-$C$117)*($D$86-$D$117)) -> 0.88039142 | E92: =D92 -> 0.88039142 | F92: 6.5 | G92: =F92*$F$23/$F$26*$F$25 -> 2.1269444 | H92: =2^(G92/$B$21) -> 1.1588505 | J92: Frigid (10 degrees) | K92: 0 | L92: =K92/$K$94*100 -> 0 | N92: 0 | O92: =N92/$N$94*100 -> 0 | Q92: 0 | R92: =Q92/$Q$94*100 -> 0 | T92: 39 | U92: =T92/$T$94*100 -> 0.039113037 | W92: 92 | X92: =W92/$W$94*100 -> 0.09233703 | Z92: 3024 | AA92: =Z92/$Z$94*100 -> 3.008177 | AC92: 0 | AD92: =AC92/$AC$94*100 -> 0 | AF92: 79 | AG92: =AF92/$AF$94*100 -> 0.078840742 | AI92: 613 | AJ92: =AI92/$AI$94*100 -> 0.61582046
A93: =+$T$201 -> Sacramento, CA | B93: =$V$205 -> 0.78385177 | C93: =B93/$F$32 -> 0.96269998 | D93: =$D$117+((C93-$C$117)/($C$86-$C$117)*($D$86-$D$117)) -> 0.87881642 | E93: =D93 -> 0.87881642 | F93: 7.5 | G93: =F93*$F$23/$F$26*$F$25 -> 2.4541667 | H93: =2^(G93/$B$21) -> 1.1854351
A94: =+$N$161 -> Lisbon, Portugal | B94: =$P$165 -> 0.77364446 | C94: =B94/$F$32 -> 0.95016371 | D94: =$D$117+((C94-$C$117)/($C$86-$C$117)*($D$86-$D$117)) -> 0.87169677 | E94: =D94 -> 0.87169677 | F94: 0 | G94: 0 | H94: 1 | K94: =SUM(K85:K92) -> 99441 | L94: =SUM(L85:L92) -> 100 | N94: =SUM(N85:N92) -> 100517 | O94: =SUM(O85:O92) -> 100 | Q94: =SUM(Q85:Q92) -> 99614 | R94: =SUM(R85:R92) -> 100 | T94: =SUM(T85:T92) -> 99711 | U94: =SUM(U85:U92) -> 100 | W94: =SUM(W85:W92) -> 99635 | X94: =SUM(X85:X92) -> 100 | Z94: =SUM(Z85:Z92) -> 100526 | AA94: =SUM(AA85:AA92) -> 100 | AC94: =SUM(AC85:AC92) -> 99969 | AD94: =SUM(AD85:AD92) -> 100 | AF94: =SUM(AF85:AF92) -> 100202 | AG94: =SUM(AG85:AG92) -> 100 | AI94: =SUM(AI85:AI92) -> 99542 | AJ94: =SUM(AJ85:AJ92) -> 100
A95: =+$N$101 -> Albuquerque, NM | B95: =$P$105 -> 0.76122491 | C95: =B95/$F$32 -> 0.93491045 | D95: =$D$117+((C95-$C$117)/($C$86-$C$117)*($D$86-$D$117)) -> 0.86303408 | E95: =D95 -> 0.86303408 | F95: 9 | G95: =F95*$F$23/$F$26*$F$25 -> 2.945 | H95: =2^(G95/$B$21) -> 1.2264598
A96: =+$B$1 -> Santa Monica, CA | B96: =$D$5 -> 0.75914059 | C96: =B96/$F$32 -> 0.93235056 | D96: =$D$117+((C96-$C$117)/($C$86-$C$117)*($D$86-$D$117)) -> 0.86158026 | E96: =D96 -> 0.86158026 | F96: 7.5 | G96: =F96*$F$23/$F$26*$F$25 -> 2.4541667 | H96: =2^(G96/$B$21) -> 1.1854351 | J96: Actual pixels | K96: 99301 | N96: 99301 | Q96: 99301 | T96: 99301 | W96: 99301 | Z96: 99301 | AC96: 99301 | AF96: 99301 | AI96: 99301
A97: =+$AC$81 -> LAX | B97: =$AE$85 -> 0.74979543 | C97: =B97/$F$32 -> 0.92087316 | D97: =$D$117+((C97-$C$117)/($C$86-$C$117)*($D$86-$D$117)) -> 0.85506197 | E97: =D97 -> 0.85506197 | F97: 7.5 | G97: =F97*$F$23/$F$26*$F$25 -> 2.4541667 | H97: =2^(G97/$B$21) -> 1.1854351
A98: =+$Q$81 -> Madrid, Spain | B98: =$S$85 -> 0.74580546 | C98: =B98/$F$32 -> 0.9159728 | D98: =$D$117+((C98-$C$117)/($C$86-$C$117)*($D$86-$D$117)) -> 0.85227894 | E98: =D98 -> 0.85227894 | F98: 0 | G98: 0 | H98: 1 | J98: Percent error total pixels | K98: =((K94/K96)-1) -> 0.0014098549 | N98: =((N94/N96)-1) -> 0.012245597 | Q98: =((Q94/Q96)-1) -> 0.0031520327 | T98: =((T94/T96)-1) -> 0.0041288607 | W98: =((W94/W96)-1) -> 0.0033635109 | Z98: =((Z94/Z96)-1) -> 0.01233623 | AC98: =((AC94/AC96)-1) -> 0.0067270219 | AF98: =((AF94/AF96)-1) -> 0.0090734232 | AI98: =((AI94/AI96)-1) -> 0.0024269645
A99: =+$T$41 -> Santa Clara, CA | B99: =$V$45 -> 0.73168583 | C99: =B99/$F$32 -> 0.89863155 | D99: =$D$117+((C99-$C$117)/($C$86-$C$117)*($D$86-$D$117)) -> 0.84243043 | E99: =D99 -> 0.84243043 | F99: 7.5 | G99: =F99*$F$23/$F$26*$F$25 -> 2.4541667 | H99: =2^(G99/$B$21) -> 1.1854351
A100: =+$T$61 -> San Jose, CA | B100: =$V$65 -> 0.73139974 | C100: =B100/$F$32 -> 0.89828019 | D100: =$D$117+((C100-$C$117)/($C$86-$C$117)*($D$86-$D$117)) -> 0.84223088 | E100: =D100 -> 0.84223088 | F100: 7.5 | G100: =F100*$F$23/$F$26*$F$25 -> 2.4541667 | H100: =2^(G100/$B$21) -> 1.1854351
A101: =+$K$201 -> Prescott, AZ | B101: =$M$205 -> 0.71799862 | C101: =B101/$F$32 -> 0.8818214 | D101: =$D$117+((C101-$C$117)/($C$86-$C$117)*($D$86-$D$117)) -> 0.83288353 | E101: =D101 -> 0.83288353 | F101: 9 | G101: =F101*$F$23/$F$26*$F$25 -> 2.945 | H101: =2^(G101/$B$21) -> 1.2264598 | K101: Las Vegas, NV | N101: Albuquerque, NM | Q101: New Orleans, LA | T101: Indianapolis, IN | W101: Columbus, OH | Z101: Palmdale, CA | AC101: Orlando, FL | AF101: Toronto, Canada | AI101: Riverside, CA
A102: =+$K$61 -> Winchester, VA | B102: =$M$65 -> 0.71658692 | C102: =B102/$F$32 -> 0.88008759 | D102: =$D$117+((C102-$C$117)/($C$86-$C$117)*($D$86-$D$117)) -> 0.83189886 | E102: =D102 -> 0.83189886 | F102: 6.5 | G102: =F102*$F$23/$F$26*$F$25 -> 2.1269444 | H102: =2^(G102/$B$21) -> 1.1588505 | M102: Calculated | P102: Calculated | S102: Calculated | V102: Calculated | Y102: Calculated | AB102: Calculated | AE102: Calculated | AH102: Calculated | AK102: Calculated
A103: =+$W$141 -> Philadelphia, PA | B103: =$Y$145 -> 0.71254305 | C103: =B103/$F$32 -> 0.87512105 | D103: =$D$117+((C103-$C$117)/($C$86-$C$117)*($D$86-$D$117)) -> 0.82907824 | E103: =D103 -> 0.82907824 | F103: 5.5 | G103: =F103*$F$23/$F$26*$F$25 -> 1.7997222 | H103: =2^(G103/$B$21) -> 1.1328621 | J103: Temp Band (Median) | K103: Pixels | L103: Percent | M103: Aging Factor | N103: Pixels | O103: Percent | P103: Aging Factor | Q103: Pixels | R103: Percent | S103: Aging Factor | T103: Pixels | U103: Percent | V103: Aging Factor | W103: Pixels | X103: Percent | Y103: Aging Factor | Z103: Pixels | AA103: Percent | AB103: Aging Factor | AC103: Pixels | AD103: Percent | AE103: Aging Factor | AF103: Pixels | AG103: Percent | AH103: Aging Factor | AI103: Pixels | AJ103: Percent | AK103: Aging Factor
A104: =+$AC$181 -> Oceanside, CA | B104: =$AE$185 -> 0.69403736 | C104: =B104/$F$32 -> 0.85239299 | D104: =$D$117+((C104-$C$117)/($C$86-$C$117)*($D$86-$D$117)) -> 0.81617044 | E104: =D104 -> 0.81617044 | F104: 7.5 | G104: =F104*$F$23/$F$26*$F$25 -> 2.4541667 | H104: =2^(G104/$B$21) -> 1.1854351
A105: =+$Z$21 -> Salt Lake City, UT | B105: =$AB$25 -> 0.69345121 | C105: =B105/$F$32 -> 0.85167311 | D105: =$D$117+((C105-$C$117)/($C$86-$C$117)*($D$86-$D$117)) -> 0.8157616 | E105: =D105 -> 0.8157616 | F105: 7.5 | G105: =F105*$F$23/$F$26*$F$25 -> 2.4541667 | H105: =2^(G105/$B$21) -> 1.1854351 | J105: Sweltering (105 degrees) | K105: 4650 | L105: =K105/$K$114*100 -> 4.7306096 | M105: =((L105*$A$25)+(L106*$A$26)+(L107*$A$27)+(L108*$A$28)+(L109*$A$29)+(L110*$A$30)+(L111*$A$31)+(L112*$A$32))/100 -> 1.2231166 | N105: 0 | O105: =N105/$N$114*100 -> 0 | P105: =((O105*$A$25)+(O106*$A$26)+(O107*$A$27)+(O108*$A$28)+(O109*$A$29)+(O110*$A$30)+(O111*$A$31)+(O112*$A$32))/100 -> 0.76122491 | Q105: 0 | R105: =Q105/$Q$114*100 -> 0 | S105: =((R105*$A$25)+(R106*$A$26)+(R107*$A$27)+(R108*$A$28)+(R109*$A$29)+(R110*$A$30)+(R111*$A$31)+(R112*$A$32))/100 -> 1.1568104 | T105: 0 | U105: =T105/$T$114*100 -> 0 | V105: =((U105*$A$25)+(U106*$A$26)+(U107*$A$27)+(U108*$A$28)+(U109*$A$29)+(U110*$A$30)+(U111*$A$31)+(U112*$A$32))/100 -> 0.67200686 | W105: 0 | X105: =W105/$W$114*100 -> 0 | Y105: =((X105*$A$25)+(X106*$A$26)+(X107*$A$27)+(X108*$A$28)+(X109*$A$29)+(X110*$A$30)+(X111*$A$31)+(X112*$A$32))/100 -> 0.65695253 | Z105: 774 | AA105: =Z105/$Z$114*100 -> 0.78145508 | AB105: =((AA105*$A$25)+(AA106*$A$26)+(AA107*$A$27)+(AA108*$A$28)+(AA109*$A$29)+(AA110*$A$30)+(AA111*$A$31)+(AA112*$A$32))/100 -> 0.91341613 | AC105: 0 | AD105: =AC105/$AC$114*100 -> 0 | AE105: =((AD105*$A$25)+(AD106*$A$26)+(AD107*$A$27)+(AD108*$A$28)+(AD109*$A$29)+(AD110*$A$30)+(AD111*$A$31)+(AD112*$A$32))/100 -> 1.2014983 | AF105: 0 | AG105: =AF105/$AF$114*100 -> 0 | AH105: =((AG105*$A$25)+(AG106*$A$26)+(AG107*$A$27)+(AG108*$A$28)+(AG109*$A$29)+(AG110*$A$30)+(AG111*$A$31)+(AG112*$A$32))/100 -> 0.51834408 | AI105: 216 | AJ105: =AI105/$AI$114*100 -> 0.21898032 | AK105: =((AJ105*$A$25)+(AJ106*$A$26)+(AJ107*$A$27)+(AJ108*$A$28)+(AJ109*$A$29)+(AJ110*$A$30)+(AJ111*$A$31)+(AJ112*$A$32))/100 -> 0.89010292
A106: =+$T$101 -> Indianapolis, IN | B106: =$V$105 -> 0.67200686 | C106: =B106/$F$32 -> 0.82533589 | D106: =$D$117+((C106-$C$117)/($C$86-$C$117)*($D$86-$D$117)) -> 0.80080406 | E106: =D106 -> 0.80080406 | F106: 5.5 | G106: =F106*$F$23/$F$26*$F$25 -> 1.7997222 | H106: =2^(G106/$B$21) -> 1.1328621 | J106: Very Hot (92.5 degrees) | K106: 17827 | L106: =K106/$K$114*100 -> 18.136038 | N106: 5588 | O106: =N106/$N$114*100 -> 5.5979083 | Q106: 11286 | R106: =Q106/$Q$114*100 -> 11.456938 | T106: 2391 | U106: =T106/$T$114*100 -> 2.3837772 | W106: 2114 | X106: =W106/$W$114*100 -> 2.1082655 | Z106: 10730 | AA106: =Z106/$Z$114*100 -> 10.83335 | AC106: 9746 | AD106: =AC106/$AC$114*100 -> 9.8858853 | AF106: 105 | AG106: =AF106/$AF$114*100 -> 0.1045546 | AI106: 7354 | AJ106: =AI106/$AI$114*100 -> 7.4554689
A107: =+$AF$1 -> Omaha, Nebraska | B107: =$AH$5 -> 0.66116865 | C107: =B107/$F$32 -> 0.81202476 | D107: =$D$117+((C107-$C$117)/($C$86-$C$117)*($D$86-$D$117)) -> 0.79324435 | E107: =D107 -> 0.79324435 | F107: 6.5 | G107: =F107*$F$23/$F$26*$F$25 -> 2.1269444 | H107: =2^(G107/$B$21) -> 1.1588505 | J107: Hot (80 degrees) | K107: 15665 | L107: =K107/$K$114*100 -> 15.936559 | N107: 12573 | O107: =N107/$N$114*100 -> 12.595294 | Q107: 32743 | R107: =Q107/$Q$114*100 -> 33.238925 | T107: 12161 | U107: =T107/$T$114*100 -> 12.124263 | W107: 11220 | X107: =W107/$W$114*100 -> 11.189564 | Z107: 12585 | AA107: =Z107/$Z$114*100 -> 12.706217 | AC107: 36079 | AD107: =AC107/$AC$114*100 -> 36.596845 | AF107: 4083 | AG107: =AF107/$AF$114*100 -> 4.0656802 | AI107: 11722 | AJ107: =AI107/$AI$114*100 -> 11.883738
A108: =+$T$161 -> Porto, Portugal | B108: =$V$165 -> 0.65766132 | C108: =B108/$F$32 -> 0.80771718 | D108: =$D$117+((C108-$C$117)/($C$86-$C$117)*($D$86-$D$117)) -> 0.79079797 | E108: =D108 -> 0.79079797 | F108: 0 | G108: 0 | H108: 1 | J108: Comfortable (70 degrees) | K108: 14079 | L108: =K108/$K$114*100 -> 14.323065 | N108: 17276 | O108: =N108/$N$114*100 -> 17.306633 | Q108: 21472 | R108: =Q108/$Q$114*100 -> 21.797214 | T108: 17604 | U108: =T108/$T$114*100 -> 17.550821 | W108: 17258 | X108: =W108/$W$114*100 -> 17.211186 | Z108: 16005 | AA108: =Z108/$Z$114*100 -> 16.159158 | AC108: 28435 | AD108: =AC108/$AC$114*100 -> 28.84313 | AF108: 15879 | AG108: =AF108/$AF$114*100 -> 15.811642 | AI108: 19788 | AJ108: =AI108/$AI$114*100 -> 20.061031
A109: =+$W$101 -> Columbus, OH | B109: =$Y$105 -> 0.65695253 | C109: =B109/$F$32 -> 0.80684667 | D109: =$D$117+((C109-$C$117)/($C$86-$C$117)*($D$86-$D$117)) -> 0.79030359 | E109: =D109 -> 0.79030359 | F109: 5.5 | G109: =F109*$F$23/$F$26*$F$25 -> 1.7997222 | H109: =2^(G109/$B$21) -> 1.1328621 | J109: Cool (57.5 degrees) | K109: 26832 | L109: =K109/$K$114*100 -> 27.297143 | N109: 25455 | O109: =N109/$N$114*100 -> 25.500135 | Q109: 23164 | R109: =Q109/$Q$114*100 -> 23.514841 | T109: 23891 | U109: =T109/$T$114*100 -> 23.818829 | W109: 24777 | X109: =W109/$W$114*100 -> 24.709789 | Z109: 29702 | AA109: =Z109/$Z$114*100 -> 29.988086 | AC109: 20115 | AD109: =AC109/$AC$114*100 -> 20.403713 | AF109: 24433 | AG109: =AF109/$AF$114*100 -> 24.329357 | AI109: 44611 | AJ109: =AI109/$AI$114*100 -> 45.226533
A110: =+$K$81 -> Melbourne, Australia | B110: =$M$85 -> 0.65383817 | C110: =B110/$F$32 -> 0.80302172 | D110: =$D$117+((C110-$C$117)/($C$86-$C$117)*($D$86-$D$117)) -> 0.78813131 | E110: =D110 -> 0.78813131 | F110: 0 | G110: 0 | H110: 1 | J110: Cold (41 degrees) | K110: 18918 | L110: =K110/$K$114*100 -> 19.245951 | N110: 29477 | O110: =N110/$N$114*100 -> 29.529267 | Q110: 9722 | R110: =Q110/$Q$114*100 -> 9.8692492 | T110: 26669 | U110: =T110/$T$114*100 -> 26.588437 | W110: 27720 | X110: =W110/$W$114*100 -> 27.644806 | Z110: 26384 | AA110: =Z110/$Z$114*100 -> 26.638128 | AC110: 4210 | AD110: =AC110/$AC$114*100 -> 4.2704265 | AF110: 35500 | AG110: =AF110/$AF$114*100 -> 35.349412 | AI110: 14948 | AJ110: =AI110/$AI$114*100 -> 15.154249
...

Sheet End of Life
A1: End of Life Calculation Table for Prediction Tab
D5: Corrected | E5: Solar Loading | F5: Calendar Plus | H5: Remaining
A6: Years | B6: Calendar Loss | C6: Cycling Loss | D6: Cycling Loss | E6: Loss | F6: Cycling Loss | G6: Total Loss | H6: Capacity | I6: Years
A8: =A9+0.1 -> 25 | B8: =(Prediction!$O$9*Calibration!$B$49*SQRT(I8+Prediction!$F$7-Prediction!$F$9))-((0.32989795*(I8+Prediction!$F$7-Prediction!$F$9)-1.302)) -> 27.123171 | C8: =I8*Calibration!$B$50*Prediction!$O$9*Prediction!$B$18/12500*'Degradation Model'!$B$26/Prediction!$B$8 -> 30.145097 | D8: =D9+($C$257*100/H9) -> 100.31531 | E8: =((Prediction!$O$10-1)*F8*Prediction!$B$10/7) -> 13.503751 | F8: =B8+D8 -> 127.43848 | G8: =F8+E8 -> 140.94223 | H8: =IF(100-G8<10,10,100-G8) -> 10 | I8: =I9+0.1 -> 25
A9: =A10+0.1 -> 24.9 | B9: =(Prediction!$O$9*Calibration!$B$49*SQRT(I9+Prediction!$F$7-Prediction!$F$9))-((0.32989795*(I9+Prediction!$F$7-Prediction!$F$9)-1.302)) -> 27.088282 | C9: =I9*Calibration!$B$50*Prediction!$O$9*Prediction!$B$18/12500*'Degradation Model'!$B$26/Prediction!$B$8 -> 30.024516 | D9: =D10+($C$257*100/H10) -> 99.109501 | E9: =((Prediction!$O$10-1)*F9*Prediction!$B$10/7) -> 13.372284 | F9: =B9+D9 -> 126.19778 | G9: =F9+E9 -> 139.57007 | H9: =IF(100-G9<10,10,100-G9) -> 10 | I9: =I10+0.1 -> 24.9
A10: =A11+0.1 -> 24.8 | B10: =(Prediction!$O$9*Calibration!$B$49*SQRT(I10+Prediction!$F$7-Prediction!$F$9))-((0.32989795*(I10+Prediction!$F$7-Prediction!$F$9)-1.302)) -> 27.053258 | C10: =I10*Calibration!$B$50*Prediction!$O$9*Prediction!$B$18/12500*'Degradation Model'!$B$26/Prediction!$B$8 -> 29.903936 | D10: =D11+($C$257*100/H11) -> 97.903698 | E10: =((Prediction!$O$10-1)*F10*Prediction!$B$10/7) -> 13.240802 | F10: =B10+D10 -> 124.95696 | G10: =F10+E10 -> 138.19776 | H10: =IF(100-G10<10,10,100-G10) -> 10 | I10: =I11+0.1 -> 24.8
A11: =A12+0.1 -> 24.7 | B11: =(Prediction!$O$9*Calibration!$B$49*SQRT(I11+Prediction!$F$7-Prediction!$F$9))-((0.32989795*(I11+Prediction!$F$7-Prediction!$F$9)-1.302)) -> 27.018097 | C11: =I11*Calibration!$B$50*Prediction!$O$9*Prediction!$B$18/12500*'Degradation Model'!$B$26/Prediction!$B$8 -> 29.783355 | D11: =D12+($C$257*100/H12) -> 96.697894 | E11: =((Prediction!$O$10-1)*F11*Prediction!$B$10/7) -> 13.109306 | F11: =B11+D11 -> 123.71599 | G11: =F11+E11 -> 136.8253 | H11: =IF(100-G11<10,10,100-G11) -> 10 | I11: =I12+0.1 -> 24.7
A12: =A13+0.1 -> 24.6 | B12: =(Prediction!$O$9*Calibration!$B$49*SQRT(I12+Prediction!$F$7-Prediction!$F$9))-((0.32989795*(I12+Prediction!$F$7-Prediction!$F$9)-1.302)) -> 26.982799 | C12: =I12*Calibration!$B$50*Prediction!$O$9*Prediction!$B$18/12500*'Degradation Model'!$B$26/Prediction!$B$8 -> 29.662775 | D12: =D13+($C$257*100/H13) -> 95.49209 | E12: =((Prediction!$O$10-1)*F12*Prediction!$B$10/7) -> 12.977795 | F12: =B12+D12 -> 122.47489 | G12: =F12+E12 -> 135.45268 | H12: =IF(100-G12<10,10,100-G12) -> 10 | I12: =I13+0.1 -> 24.6
A13: =A14+0.1 -> 24.5 | B13: =(Prediction!$O$9*Calibration!$B$49*SQRT(I13+Prediction!$F$7-Prediction!$F$9))-((0.32989795*(I13+Prediction!$F$7-Prediction!$F$9)-1.302)) -> 26.947363 | C13: =I13*Calibration!$B$50*Prediction!$O$9*Prediction!$B$18/12500*'Degradation Model'!$B$26/Prediction!$B$8 -> 29.542195 | D13: =D14+($C$257*100/H14) -> 94.286286 | E13: =((Prediction!$O$10-1)*F13*Prediction!$B$10/7) -> 12.84627 | F13: =B13+D13 -> 121.23365 | G13: =F13+E13 -> 134.07992 | H13: =IF(100-G13<10,10,100-G13) -> 10 | I13: =I14+0.1 -> 24.5
A14: =A15+0.1 -> 24.4 | B14: =(Prediction!$O$9*Calibration!$B$49*SQRT(I14+Prediction!$F$7-Prediction!$F$9))-((0.32989795*(I14+Prediction!$F$7-Prediction!$F$9)-1.302)) -> 26.911788 | C14: =I14*Calibration!$B$50*Prediction!$O$9*Prediction!$B$18/12500*'Degradation Model'!$B$26/Prediction!$B$8 -> 29.421614 | D14: =D15+($C$257*100/H15) -> 93.080482 | E14: =((Prediction!$O$10-1)*F14*Prediction!$B$10/7) -> 12.71473 | F14: =B14+D14 -> 119.99227 | G14: =F14+E14 -> 132.707 | H14: =IF(100-G14<10,10,100-G14) -> 10 | I14: =I15+0.1 -> 24.4
A15: =A16+0.1 -> 24.3 | B15: =(Prediction!$O$9*Calibration!$B$49*SQRT(I15+Prediction!$F$7-Prediction!$F$9))-((0.32989795*(I15+Prediction!$F$7-Prediction!$F$9)-1.302)) -> 26.876073 | C15: =I15*Calibration!$B$50*Prediction!$O$9*Prediction!$B$18/12500*'Degradation Model'!$B$26/Prediction!$B$8 -> 29.301034 | D15: =D16+($C$257*100/H16) -> 91.874678 | E15: =((Prediction!$O$10-1)*F15*Prediction!$B$10/7) -> 12.583175 | F15: =B15+D15 -> 118.75075 | G15: =F15+E15 -> 131.33393 | H15: =IF(100-G15<10,10,100-G15) -> 10 | I15: =I16+0.1 -> 24.3
A16: =A17+0.1 -> 24.2 | B16: =(Prediction!$O$9*Calibration!$B$49*SQRT(I16+Prediction!$F$7-Prediction!$F$9))-((0.32989795*(I16+Prediction!$F$7-Prediction!$F$9)-1.302)) -> 26.840218 | C16: =I16*Calibration!$B$50*Prediction!$O$9*Prediction!$B$18/12500*'Degradation Model'!$B$26/Prediction!$B$8 -> 29.180454 | D16: =D17+($C$257*100/H17) -> 90.668874 | E16: =((Prediction!$O$10-1)*F16*Prediction!$B$10/7) -> 12.451605 | F16: =B16+D16 -> 117.50909 | G16: =F16+E16 -> 129.9607 | H16: =IF(100-G16<10,10,100-G16) -> 10 | I16: =I17+0.1 -> 24.2
A17: =A18+0.1 -> 24.1 | B17: =(Prediction!$O$9*Calibration!$B$49*SQRT(I17+Prediction!$F$7-Prediction!$F$9))-((0.32989795*(I17+Prediction!$F$7-Prediction!$F$9)-1.302)) -> 26.804221 | C17: =I17*Calibration!$B$50*Prediction!$O$9*Prediction!$B$18/12500*'Degradation Model'!$B$26/Prediction!$B$8 -> 29.059873 | D17: =D18+($C$257*100/H18) -> 89.46307 | E17: =((Prediction!$O$10-1)*F17*Prediction!$B$10/7) -> 12.32002 | F17: =B17+D17 -> 116.26729 | G17: =F17+E17 -> 128.58731 | H17: =IF(100-G17<10,10,100-G17) -> 10 | I17: =I18+0.1 -> 24.1
A18: =A19+0.1 -> 24 | B18: =(Prediction!$O$9*Calibration!$B$49*SQRT(I18+Prediction!$F$7-Prediction!$F$9))-((0.32989795*(I18+Prediction!$F$7-Prediction!$F$9)-1.302)) -> 26.768082 | C18: =I18*Calibration!$B$50*Prediction!$O$9*Prediction!$B$18/12500*'Degradation Model'!$B$26/Prediction!$B$8 -> 28.939293 | D18: =D19+($C$257*100/H19) -> 88.257267 | E18: =((Prediction!$O$10-1)*F18*Prediction!$B$10/7) -> 12.18842 | F18: =B18+D18 -> 115.02535 | G18: =F18+E18 -> 127.21377 | H18: =IF(100-G18<10,10,100-G18) -> 10 | I18: =I19+0.1 -> 24
A19: =A20+0.1 -> 23.9 | B19: =(Prediction!$O$9*Calibration!$B$49*SQRT(I19+Prediction!$F$7-Prediction!$F$9))-((0.32989795*(I19+Prediction!$F$7-Prediction!$F$9)-1.302)) -> 26.7318 | C19: =I19*Calibration!$B$50*Prediction!$O$9*Prediction!$B$18/12500*'Degradation Model'!$B$26/Prediction!$B$8 -> 28.818712 | D19: =D20+($C$257*100/H20) -> 87.051463 | E19: =((Prediction!$O$10-1)*F19*Prediction!$B$10/7) -> 12.056805 | F19: =B19+D19 -> 113.78326 | G19: =F19+E19 -> 125.84007 | H19: =IF(100-G19<10,10,100-G19) -> 10 | I19: =I20+0.1 -> 23.9
... A57: =A58+0.1 -> 20.1 | B57: =(Prediction!$O$9*Calibration!$B$49*SQRT(I57+Prediction!$F$7-Prediction!$F$9))-((0.32989795*(I57+Prediction!$F$7-Prediction!$F$9)-1.302)) -> 25.237163 | C57: =I57*Calibration!$B$50*Prediction!$O$9*Prediction!$B$18/12500*'Degradation Model'!$B$26/Prediction!$B$8 -> 24.236658 | D57: =D58+($C$257*100/H58) -> 46.500914 | E57: =((Prediction!$O$10-1)*F57*Prediction!$B$10/7) -> 7.6015753 | F57: =B57+D57 -> 71.738078 | G57: =F57+E57 -> 79.339653 | H57: =IF(100-G57<10,10,100-G57) -> 20.660347 | I57: =I58+0.1 -> 20.1
A58: 20 | B58: =(Prediction!$O$9*Calibration!$B$49*SQRT(I58+Prediction!$F$7-Prediction!$F$9))-((0.32989795*(I58+Prediction!$F$7-Prediction!$F$9)-1.302)) -> 25.194491 | C58: =I58*Calibration!$B$50*Prediction!$O$9*Prediction!$B$18/12500*'Degradation Model'!$B$26/Prediction!$B$8 -> 24.116077 | D58: =D59+($C$257*100/H59) -> 45.935676 | E58: =((Prediction!$O$10-1)*F58*Prediction!$B$10/7) -> 7.5371594 | F58: =B58+D58 -> 71.130168 | G58: =F58+E58 -> 78.667327 | H58: =IF(100-G58<10,10,100-G58) -> 21.332673 | I58: 20
A59: =A58-0.1 -> 19.9 | B59: =(Prediction!$O$9*Calibration!$B$49*SQRT(I59+Prediction!$F$7-Prediction!$F$9))-((0.32989795*(I59+Prediction!$F$7-Prediction!$F$9)-1.302)) -> 25.151632 | C59: =I59*Calibration!$B$50*Prediction!$O$9*Prediction!$B$18/12500*'Degradation Model'!$B$26/Prediction!$B$8 -> 23.995497 | D59: =D60+($C$257*100/H60) -> 45.38725 | E59: =((Prediction!$O$10-1)*F59*Prediction!$B$10/7) -> 7.474505 | F59: =B59+D59 -> 70.538882 | G59: =F59+E59 -> 78.013387 | H59: =IF(100-G59<10,10,100-G59) -> 21.986613 | I59: =I58-0.1 -> 19.9
A60: =A59-0.1 -> 19.8 | B60: =(Prediction!$O$9*Calibration!$B$49*SQRT(I60+Prediction!$F$7-Prediction!$F$9))-((0.32989795*(I60+Prediction!$F$7-Prediction!$F$9)-1.302)) -> 25.108583 | C60: =I60*Calibration!$B$50*Prediction!$O$9*Prediction!$B$18/12500*'Degradation Model'!$B$26/Prediction!$B$8 -> 23.874917 | D60: =D61+($C$257*100/H61) -> 44.854267 | E60: =((Prediction!$O$10-1)*F60*Prediction!$B$10/7) -> 7.413467 | F60: =B60+D60 -> 69.96285 | G60: =F60+E60 -> 77.376317 | H60: =IF(100-G60<10,10,100-G60) -> 22.623683 | I60: =I59-0.1 -> 19.8
A61: =A60-0.1 -> 19.7 | B61: =(Prediction!$O$9*Calibration!$B$49*SQRT(I61+Prediction!$F$7-Prediction!$F$9))-((0.32989795*(I61+Prediction!$F$7-Prediction!$F$9)-1.302)) -> 25.065343 | C61: =I61*Calibration!$B$50*Prediction!$O$9*Prediction!$B$18/12500*'Degradation Model'!$B$26/Prediction!$B$8 -> 23.754336 | D61: =D62+($C$257*100/H62) -> 44.335535 | E61: =((Prediction!$O$10-1)*F61*Prediction!$B$10/7) -> 7.3539188 | F61: =B61+D61 -> 69.400878 | G61: =F61+E61 -> 76.754797 | H61: =IF(100-G61<10,10,100-G61) -> 23.245203 | I61: =I60-0.1 -> 19.7
A62: =A61-0.1 -> 19.6 | B62: =(Prediction!$O$9*Calibration!$B$49*SQRT(I62+Prediction!$F$7-Prediction!$F$9))-((0.32989795*(I62+Prediction!$F$7-Prediction!$F$9)-1.302)) -> 25.021911 | C62: =I62*Calibration!$B$50*Prediction!$O$9*Prediction!$B$18/12500*'Degradation Model'!$B$26/Prediction!$B$8 -> 23.633756 | D62: =D63+($C$257*100/H63) -> 43.830006 | E62: =((Prediction!$O$10-1)*F62*Prediction!$B$10/7) -> 7.2957493 | F62: =B62+D62 -> 68.851917 | G62: =F62+E62 -> 76.147667 | H62: =IF(100-G62<10,10,100-G62) -> 23.852333 | I62: =I61-0.1 -> 19.6
A63: =A62-0.1 -> 19.5 | B63: =(Prediction!$O$9*Calibration!$B$49*SQRT(I63+Prediction!$F$7-Prediction!$F$9))-((0.32989795*(I63+Prediction!$F$7-Prediction!$F$9)-1.302)) -> 24.978286 | C63: =I63*Calibration!$B$50*Prediction!$O$9*Prediction!$B$18/12500*'Degradation Model'!$B$26/Prediction!$B$8 -> 23.513175 | D63: =D64+($C$257*100/H64) -> 43.336756 | E63: =((Prediction!$O$10-1)*F63*Prediction!$B$10/7) -> 7.2388605 | F63: =B63+D63 -> 68.315042 | G63: =F63+E63 -> 75.553902 | H63: =IF(100-G63<10,10,100-G63) -> 24.446098 | I63: =I62-0.1 -> 19.5
A64: =A63-0.1 -> 19.4 | B64: =(Prediction!$O$9*Calibration!$B$49*SQRT(I64+Prediction!$F$7-Prediction!$F$9))-((0.32989795*(I64+Prediction!$F$7-Prediction!$F$9)-1.302)) -> 24.934465 | C64: =I64*Calibration!$B$50*Prediction!$O$9*Prediction!$B$18/12500*'Degradation Model'!$B$26/Prediction!$B$8 -> 23.392595 | D64: =D65+($C$257*100/H65) -> 42.854963 | E64: =((Prediction!$O$10-1)*F64*Prediction!$B$10/7) -> 7.1831649 | F64: =B64+D64 -> 67.789428 | G64: =F64+E64 -> 74.972593 | H64: =IF(100-G64<10,10,100-G64) -> 25.027407 | I64: =I63-0.1 -> 19.4
A65: =A64-0.1 -> 19.3 | B65: =(Prediction!$O$9*Calibration!$B$49*SQRT(I65+Prediction!$F$7-Prediction!$F$9))-((0.32989795*(I65+Prediction!$F$7-Prediction!$F$9)-1.302)) -> 24.890448 | C65: =I65*Calibration!$B$50*Prediction!$O$9*Prediction!$B$18/12500*'Degradation Model'!$B$26/Prediction!$B$8 -> 23.272015 | D65: =D66+($C$257*100/H66) -> 42.383892 | E65: =((Prediction!$O$10-1)*F65*Prediction!$B$10/7) -> 7.1285846 | F65: =B65+D65 -> 67.274339 | G65: =F65+E65 -> 74.402924 | H65: =IF(100-G65<10,10,100-G65) -> 25.597076 | I65: =I64-0.1 -> 19.3
A66: =A65-0.1 -> 19.2 | B66: =(Prediction!$O$9*Calibration!$B$49*SQRT(I66+Prediction!$F$7-Prediction!$F$9))-((0.32989795*(I66+Prediction!$F$7-Prediction!$F$9)-1.302)) -> 24.846232 | C66: =I66*Calibration!$B$50*Prediction!$O$9*Prediction!$B$18/12500*'Degradation Model'!$B$26/Prediction!$B$8 -> 23.151434 | D66: =D67+($C$257*100/H67) -> 41.922884 | E66: =((Prediction!$O$10-1)*F66*Prediction!$B$10/7) -> 7.0750497 | F66: =B66+D66 -> 66.769116 | G66: =F66+E66 -> 73.844166 | H66: =IF(100-G66<10,10,100-G66) -> 26.155834 | I66: =I65-0.1 -> 19.2
A67: =A66-0.1 -> 19.1 | B67: =(Prediction!$O$9*Calibration!$B$49*SQRT(I67+Prediction!$F$7-Prediction!$F$9))-((0.32989795*(I67+Prediction!$F$7-Prediction!$F$9)-1.302)) -> 24.801817 | C67: =I67*Calibration!$B$50*Prediction!$O$9*Prediction!$B$18/12500*'Degradation Model'!$B$26/Prediction!$B$8 -> 23.030854 | D67: =D68+($C$257*100/H68) -> 41.471345 | E67: =((Prediction!$O$10-1)*F67*Prediction!$B$10/7) -> 7.0224971 | F67: =B67+D67 -> 66.273163 | G67: =F67+E67 -> 73.29566 | H67: =IF(100-G67<10,10,100-G67) -> 26.70434 | I67: =I66-0.1 -> 19.1
A68: =A67-0.1 -> 19 | B68: =(Prediction!$O$9*Calibration!$B$49*SQRT(I68+Prediction!$F$7-Prediction!$F$9))-((0.32989795*(I68+Prediction!$F$7-Prediction!$F$9)-1.302)) -> 24.757201 | C68: =I68*Calibration!$B$50*Prediction!$O$9*Prediction!$B$18/12500*'Degradation Model'!$B$26/Prediction!$B$8 -> 22.910273 | D68: =D69+($C$257*100/H69) -> 41.028738 | E68: =((Prediction!$O$10-1)*F68*Prediction!$B$10/7) -> 6.9708694 | F68: =B68+D68 -> 65.785939 | G68: =F68+E68 -> 72.756809 | H68: =IF(100-G68<10,10,100-G68) -> 27.243191 | I68: =I67-0.1 -> 19
A69: =A68-0.1 -> 18.9 | B69: =(Prediction!$O$9*Calibration!$B$49*SQRT(I69+Prediction!$F$7-Prediction!$F$9))-((0.32989795*(I69+Prediction!$F$7-Prediction!$F$9)-1.302)) -> 24.712382 | C69: =I69*Calibration!$B$50*Prediction!$O$9*Prediction!$B$18/12500*'Degradation Model'!$B$26/Prediction!$B$8 -> 22.789693 | D69: =D70+($C$257*100/H70) -> 40.594573 | E69: =((Prediction!$O$10-1)*F69*Prediction!$B$10/7) -> 6.9201149 | F69: =B69+D69 -> 65.306955 | G69: =F69+E69 -> 72.22707 | H69: =IF(100-G69<10,10,100-G69) -> 27.77293 | I69: =I68-0.1 -> 18.9
A70: =A69-0.1 -> 18.8 | B70: =(Prediction!$O$9*Calibration!$B$49*SQRT(I70+Prediction!$F$7-Prediction!$F$9))-((0.32989795*(I70+Prediction!$F$7-Prediction!$F$9)-1.302)) -> 24.667359 | C70: =I70*Calibration!$B$50*Prediction!$O$9*Prediction!$B$18/12500*'Degradation Model'!$B$26/Prediction!$B$8 -> 22.669113 | D70: =D71+($C$257*100/H71) -> 40.168404 | E70: =((Prediction!$O$10-1)*F70*Prediction!$B$10/7) -> 6.870186 | F70: =B70+D70 -> 64.835763 | G70: =F70+E70 -> 71.705949 | H70: =IF(100-G70<10,10,100-G70) -> 28.294051 | I70: =I69-0.1 -> 18.8
... A256: =A255-0.1 -> 0.2 | B256: =(Prediction!$O$9*Calibration!$B$49*SQRT(I256+Prediction!$F$7-Prediction!$F$9))-((0.32989795*(I256+Prediction!$F$7-Prediction!$F$9)-1.302)) -> 5.2589551 | C256: =I256*Calibration!$B$50*Prediction!$O$9*Prediction!$B$18/12500*'Degradation Model'!$B$26/Prediction!$B$8 -> 0.24116077 | D256: =D257+($C$257*100/H257) -> 0.24791859 | E256: =((Prediction!$O$10-1)*F256*Prediction!$B$10/7) -> 0.58352434 | F256: =B256+D256 -> 5.5068737 | G256: =F256+E256 -> 6.090398 | H256: =IF(100-G256<10,10,100-G256) -> 93.909602 | I256: =I255-0.1 -> 0.2
A257: =A256-0.1 -> 0.1 | B257: =(Prediction!$O$9*Calibration!$B$49*SQRT(I257+Prediction!$F$7-Prediction!$F$9))-((0.32989795*(I257+Prediction!$F$7-Prediction!$F$9)-1.302)) -> 4.6779411 | C257: =I257*Calibration!$B$50*Prediction!$O$9*Prediction!$B$18/12500*'Degradation Model'!$B$26/Prediction!$B$8 -> 0.12058039 | D257: =C257 -> 0.12058039 | E257: =((Prediction!$O$10-1)*F257*Prediction!$B$10/7) -> 0.50846529 | F257: =B257+D257 -> 4.7985215 | G257: =F257+E257 -> 5.3069867 | H257: =IF(100-G257<10,10,100-G257) -> 94.693013 | I257: =I256-0.1 -> 0.1
A262: End of Life Calculation Table for Calibration Tab
D266: Corrected | E266: Solar Loading | F266: Calendar Plus | H266: Remaining
A267: Years | B267: Calendar Loss | C267: Cycling Loss | D267: Cycling Loss | E267: Loss | F267: Cycling Loss | G267: Total Loss | H267: Capacity | I267: Years
A269: =A270+0.1 -> 25 | B269: =(Calibration!$O$63*Calibration!$B$49*SQRT(I269+Calibration!$F$61-Calibration!$F$63))-((0.32989795*(I269+Calibration!$F$61-Calibration!$F$63))-1.302) -> 27.123171 | C269: =I269*Calibration!$B$50*Calibration!$O$63*Calibration!$B$71/12500*'Degradation Model'!$B$26/Calibration!$B$61 -> 30.344508 | D269: =D270+($C$518*100/H270) -> 102.02133 | E269: =((Calibration!$O$64-1)*F269*Calibration!$B$63/7) -> 13.684527 | F269: =B269+D269 -> 129.1445 | G269: =F269+E269 -> 142.82903 | H269: =IF(100-G269<10,10,100-G269) -> 10 | I269: =I270+0.1 -> 25
A270: =A271+0.1 -> 24.9 | B270: =(Calibration!$O$63*Calibration!$B$49*SQRT(I270+Calibration!$F$61-Calibration!$F$63))-((0.32989795*(I270+Calibration!$F$61-Calibration!$F$63))-1.302) -> 27.088282 | C270: =I270*Calibration!$B$50*Calibration!$O$63*Calibration!$B$71/12500*'Degradation Model'!$B$26/Calibration!$B$61 -> 30.22313 | D270: =D271+($C$518*100/H271) -> 100.80755 | E270: =((Calibration!$O$64-1)*F270*Calibration!$B$63/7) -> 13.552215 | F270: =B270+D270 -> 127.89584 | G270: =F270+E270 -> 141.44805 | H270: =IF(100-G270<10,10,100-G270) -> 10 | I270: =I271+0.1 -> 24.9
A271: =A272+0.1 -> 24.8 | B271: =(Calibration!$O$63*Calibration!$B$49*SQRT(I271+Calibration!$F$61-Calibration!$F$63))-((0.32989795*(I271+Calibration!$F$61-Calibration!$F$63))-1.302) -> 27.053258 | C271: =I271*Calibration!$B$50*Calibration!$O$63*Calibration!$B$71/12500*'Degradation Model'!$B$26/Calibration!$B$61 -> 30.101752 | D271: =D272+($C$518*100/H272) -> 99.593773 | E271: =((Calibration!$O$64-1)*F271*Calibration!$B$63/7) -> 13.419888 | F271: =B271+D271 -> 126.64703 | G271: =F271+E271 -> 140.06692 | H271: =IF(100-G271<10,10,100-G271) -> 10 | I271: =I272+0.1 -> 24.8
A272: =A273+0.1 -> 24.7 | B272: =(Calibration!$O$63*Calibration!$B$49*SQRT(I272+Calibration!$F$61-Calibration!$F$63))-((0.32989795*(I272+Calibration!$F$61-Calibration!$F$63))-1.302) -> 27.018097 | C272: =I272*Calibration!$B$50*Calibration!$O$63*Calibration!$B$71/12500*'Degradation Model'!$B$26/Calibration!$B$61 -> 29.980373 | D272: =D273+($C$518*100/H273) -> 98.379992 | E272: =((Calibration!$O$64-1)*F272*Calibration!$B$63/7) -> 13.287546 | F272: =B272+D272 -> 125.39809 | G272: =F272+E272 -> 138.68564 | H272: =IF(100-G272<10,10,100-G272) -> 10 | I272: =I273+0.1 -> 24.7
A273: =A274+0.1 -> 24.6 | B273: =(Calibration!$O$63*Calibration!$B$49*SQRT(I273+Calibration!$F$61-Calibration!$F$63))-((0.32989795*(I273+Calibration!$F$61-Calibration!$F$63))-1.302) -> 26.982799 | C273: =I273*Calibration!$B$50*Calibration!$O$63*Calibration!$B$71/12500*'Degradation Model'!$B$26/Calibration!$B$61 -> 29.858995 | D273: =D274+($C$518*100/H274) -> 97.166212 | E273: =((Calibration!$O$64-1)*F273*Calibration!$B$63/7) -> 13.15519 | F273: =B273+D273 -> 124.14901 | G273: =F273+E273 -> 137.3042 | H273: =IF(100-G273<10,10,100-G273) -> 10 | I273: =I274+0.1 -> 24.6
A274: =A275+0.1 -> 24.5 | B274: =(Calibration!$O$63*Calibration!$B$49*SQRT(I274+Calibration!$F$61-Calibration!$F$63))-((0.32989795*(I274+Calibration!$F$61-Calibration!$F$63))-1.302) -> 26.947363 | C274: =I274*Calibration!$B$50*Calibration!$O$63*Calibration!$B$71/12500*'Degradation Model'!$B$26/Calibration!$B$61 -> 29.737617 | D274: =D275+($C$518*100/H275) -> 95.952432 | E274: =((Calibration!$O$64-1)*F274*Calibration!$B$63/7) -> 13.02282 | F274: =B274+D274 -> 122.89979 | G274: =F274+E274 -> 135.92261 | H274: =IF(100-G274<10,10,100-G274) -> 10 | I274: =I275+0.1 -> 24.5
A275: =A276+0.1 -> 24.4 | B275: =(Calibration!$O$63*Calibration!$B$49*SQRT(I275+Calibration!$F$61-Calibration!$F$63))-((0.32989795*(I275+Calibration!$F$61-Calibration!$F$63))-1.302) -> 26.911788 | C275: =I275*Calibration!$B$50*Calibration!$O$63*Calibration!$B$71/12500*'Degradation Model'!$B$26/Calibration!$B$61 -> 29.616239 | D275: =D276+($C$518*100/H276) -> 94.738652 | E275: =((Calibration!$O$64-1)*F275*Calibration!$B$63/7) -> 12.890434 | F275: =B275+D275 -> 121.65044 | G275: =F275+E275 -> 134.54087 | H275: =IF(100-G275<10,10,100-G275) -> 10 | I275: =I276+0.1 -> 24.4
A276: =A277+0.1 -> 24.3 | B276: =(Calibration!$O$63*Calibration!$B$49*SQRT(I276+Calibration!$F$61-Calibration!$F$63))-((0.32989795*(I276+Calibration!$F$61-Calibration!$F$63))-1.302) -> 26.876073 | C276: =I276*Calibration!$B$50*Calibration!$O$63*Calibration!$B$71/12500*'Degradation Model'!$B$26/Calibration!$B$61 -> 29.494861 | D276: =D277+($C$518*100/H277) -> 93.524871 | E276: =((Calibration!$O$64-1)*F276*Calibration!$B$63/7) -> 12.758034 | F276: =B276+D276 -> 120.40094 | G276: =F276+E276 -> 133.15898 | H276: =IF(100-G276<10,10,100-G276) -> 10 | I276: =I277+0.1 -> 24.3
A277: =A278+0.1 -> 24.2 | B277: =(Calibration!$O$63*Calibration!$B$49*SQRT(I277+Calibration!$F$61-Calibration!$F$63))-((0.32989795*(I277+Calibration!$F$61-Calibration!$F$63))-1.302) -> 26.840218 | C277: =I277*Calibration!$B$50*Calibration!$O$63*Calibration!$B$71/12500*'Degradation Model'!$B$26/Calibration!$B$61 -> 29.373483 | D277: =D278+($C$518*100/H278) -> 92.311091 | E277: =((Calibration!$O$64-1)*F277*Calibration!$B$63/7) -> 12.625619 | F277: =B277+D277 -> 119.15131 | G277: =F277+E277 -> 131.77693 | H277: =IF(100-G277<10,10,100-G277) -> 10 | I277: =I278+0.1 -> 24.2
A278: =A279+0.1 -> 24.1 | B278: =(Calibration!$O$63*Calibration!$B$49*SQRT(I278+Calibration!$F$61-Calibration!$F$63))-((0.32989795*(I278+Calibration!$F$61-Calibration!$F$63))-1.302) -> 26.804221 | C278: =I278*Calibration!$B$50*Calibration!$O$63*Calibration!$B$71/12500*'Degradation Model'!$B$26/Calibration!$B$61 -> 29.252105 | D278: =D279+($C$518*100/H279) -> 91.097311 | E278: =((Calibration!$O$64-1)*F278*Calibration!$B$63/7) -> 12.493189 | F278: =B278+D278 -> 117.90153 | G278: =F278+E278 -> 130.39472 | H278: =IF(100-G278<10,10,100-G278) -> 10 | I278: =I279+0.1 -> 24.1
A279: =A280+0.1 -> 24 | B279: =(Calibration!$O$63*Calibration!$B$49*SQRT(I279+Calibration!$F$61-Calibration!$F$63))-((0.32989795*(I279+Calibration!$F$61-Calibration!$F$63))-1.302) -> 26.768082 | C279: =I279*Calibration!$B$50*Calibration!$O$63*Calibration!$B$71/12500*'Degradation Model'!$B$26/Calibration!$B$61 -> 29.130727 | D279: =D280+($C$518*100/H280) -> 89.88353 | E279: =((Calibration!$O$64-1)*F279*Calibration!$B$63/7) -> 12.360744 | F279: =B279+D279 -> 116.65161 | G279: =F279+E279 -> 129.01236 | H279: =IF(100-G279<10,10,100-G279) -> 10 | I279: =I280+0.1 -> 24
A280: =A281+0.1 -> 23.9 | B280: =(Calibration!$O$63*Calibration!$B$49*SQRT(I280+Calibration!$F$61-Calibration!$F$63))-((0.32989795*(I280+Calibration!$F$61-Calibration!$F$63))-1.302) -> 26.7318 | C280: =I280*Calibration!$B$50*Calibration!$O$63*Calibration!$B$71/12500*'Degradation Model'!$B$26/Calibration!$B$61 -> 29.009349 | D280: =D281+($C$518*100/H281) -> 88.66975 | E280: =((Calibration!$O$64-1)*F280*Calibration!$B$63/7) -> 12.228284 | F280: =B280+D280 -> 115.40155 | G280: =F280+E280 -> 127.62983 | H280: =IF(100-G280<10,10,100-G280) -> 10 | I280: =I281+0.1 -> 23.9
... A318: =A319+0.1 -> 20.1 | B318: =(Calibration!$O$63*Calibration!$B$49*SQRT(I318+Calibration!$F$61-Calibration!$F$63))-((0.32989795*(I318+Calibration!$F$61-Calibration!$F$63))-1.302) -> 25.237163 | C318: =I318*Calibration!$B$50*Calibration!$O$63*Calibration!$B$71/12500*'Degradation Model'!$B$26/Calibration!$B$61 -> 24.396984 | D318: =D319+($C$518*100/H319) -> 47.166596 | E318: =((Calibration!$O$64-1)*F318*Calibration!$B$63/7) -> 7.6721128 | F318: =B318+D318 -> 72.403759 | G318: =F318+E318 -> 80.075872 | H318: =IF(100-G318<10,10,100-G318) -> 19.924128 | I318: =I319+0.1 -> 20.1
A319: 20 | B319: =(Calibration!$O$63*Calibration!$B$49*SQRT(I319+Calibration!$F$61-Calibration!$F$63))-((0.32989795*(I319+Calibration!$F$61-Calibration!$F$63))-1.302) -> 25.194491 | C319: =I319*Calibration!$B$50*Calibration!$O$63*Calibration!$B$71/12500*'Degradation Model'!$B$26/Calibration!$B$61 -> 24.275606 | D319: =D320+($C$518*100/H320) -> 46.578018 | E319: =((Calibration!$O$64-1)*F319*Calibration!$B$63/7) -> 7.6052238 | F319: =B319+D319 -> 71.772509 | G319: =F319+E319 -> 79.377733 | H319: =IF(100-G319<10,10,100-G319) -> 20.622267 | I319: 20
A320: =A319-0.1 -> 19.9 | B320: =(Calibration!$O$63*Calibration!$B$49*SQRT(I320+Calibration!$F$61-Calibration!$F$63))-((0.32989795*(I320+Calibration!$F$61-Calibration!$F$63))-1.302) -> 25.151632 | C320: =I320*Calibration!$B$50*Calibration!$O$63*Calibration!$B$71/12500*'Degradation Model'!$B$26/Calibration!$B$61 -> 24.154228 | D320: =D321+($C$518*100/H321) -> 46.008165 | E320: =((Calibration!$O$64-1)*F320*Calibration!$B$63/7) -> 7.540299 | F320: =B320+D320 -> 71.159797 | G320: =F320+E320 -> 78.700096 | H320: =IF(100-G320<10,10,100-G320) -> 21.299904 | I320: =I319-0.1 -> 19.9
A321: =A320-0.1 -> 19.8 | B321: =(Calibration!$O$63*Calibration!$B$49*SQRT(I321+Calibration!$F$61-Calibration!$F$63))-((0.32989795*(I321+Calibration!$F$61-Calibration!$F$63))-1.302) -> 25.108583 | C321: =I321*Calibration!$B$50*Calibration!$O$63*Calibration!$B$71/12500*'Degradation Model'!$B$26/Calibration!$B$61 -> 24.03285 | D321: =D322+($C$518*100/H322) -> 45.455413 | E321: =((Calibration!$O$64-1)*F321*Calibration!$B$63/7) -> 7.4771662 | F321: =B321+D321 -> 70.563996 | G321: =F321+E321 -> 78.041162 | H321: =IF(100-G321<10,10,100-G321) -> 21.958838 | I321: =I320-0.1 -> 19.8
A322: =A321-0.1 -> 19.7 | B322: =(Calibration!$O$63*Calibration!$B$49*SQRT(I322+Calibration!$F$61-Calibration!$F$63))-((0.32989795*(I322+Calibration!$F$61-Calibration!$F$63))-1.302) -> 25.065343 | C322: =I322*Calibration!$B$50*Calibration!$O$63*Calibration!$B$71/12500*'Degradation Model'!$B$26/Calibration!$B$61 -> 23.911472 | D322: =D323+($C$518*100/H323) -> 44.918357 | E322: =((Calibration!$O$64-1)*F322*Calibration!$B$63/7) -> 7.4156763 | F322: =B322+D322 -> 69.9837 | G322: =F322+E322 -> 77.399376 | H322: =IF(100-G322<10,10,100-G322) -> 22.600624 | I322: =I321-0.1 -> 19.7
A323: =A322-0.1 -> 19.6 | B323: =(Calibration!$O$63*Calibration!$B$49*SQRT(I323+Calibration!$F$61-Calibration!$F$63))-((0.32989795*(I323+Calibration!$F$61-Calibration!$F$63))-1.302) -> 25.021911 | C323: =I323*Calibration!$B$50*Calibration!$O$63*Calibration!$B$71/12500*'Degradation Model'!$B$26/Calibration!$B$61 -> 23.790094 | D323: =D324+($C$518*100/H324) -> 44.395775 | E323: =((Calibration!$O$64-1)*F323*Calibration!$B$63/7) -> 7.3556999 | F323: =B323+D323 -> 69.417686 | G323: =F323+E323 -> 76.773386 | H323: =IF(100-G323<10,10,100-G323) -> 23.226614 | I323: =I322-0.1 -> 19.6
A324: =A323-0.1 -> 19.5 | B324: =(Calibration!$O$63*Calibration!$B$49*SQRT(I324+Calibration!$F$61-Calibration!$F$63))-((0.32989795*(I324+Calibration!$F$61-Calibration!$F$63))-1.302) -> 24.978286 | C324: =I324*Calibration!$B$50*Calibration!$O$63*Calibration!$B$71/12500*'Degradation Model'!$B$26/Calibration!$B$61 -> 23.668716 | D324: =D325+($C$518*100/H325) -> 43.886596 | E324: =((Calibration!$O$64-1)*F324*Calibration!$B$63/7) -> 7.2971231 | F324: =B324+D324 -> 68.864882 | G324: =F324+E324 -> 76.162005 | H324: =IF(100-G324<10,10,100-G324) -> 23.837995 | I324: =I323-0.1 -> 19.5
A325: =A324-0.1 -> 19.4 | B325: =(Calibration!$O$63*Calibration!$B$49*SQRT(I325+Calibration!$F$61-Calibration!$F$63))-((0.32989795*(I325+Calibration!$F$61-Calibration!$F$63))-1.302) -> 24.934465 | C325: =I325*Calibration!$B$50*Calibration!$O$63*Calibration!$B$71/12500*'Degradation Model'!$B$26/Calibration!$B$61 -> 23.547338 | D325: =D326+($C$518*100/H326) -> 43.389874 | E325: =((Calibration!$O$64-1)*F325*Calibration!$B$63/7) -> 7.2398457 | F325: =B325+D325 -> 68.32434 | G325: =F325+E325 -> 75.564185 | H325: =IF(100-G325<10,10,100-G325) -> 24.435815 | I325: =I324-0.1 -> 19.4
A326: =A325-0.1 -> 19.3 | B326: =(Calibration!$O$63*Calibration!$B$49*SQRT(I326+Calibration!$F$61-Calibration!$F$63))-((0.32989795*(I326+Calibration!$F$61-Calibration!$F$63))-1.302) -> 24.890448 | C326: =I326*Calibration!$B$50*Calibration!$O$63*Calibration!$B$71/12500*'Degradation Model'!$B$26/Calibration!$B$61 -> 23.42596 | D326: =D327+($C$518*100/H327) -> 42.90477 | E326: =((Calibration!$O$64-1)*F326*Calibration!$B$63/7) -> 7.1837784 | F326: =B326+D326 -> 67.795218 | G326: =F326+E326 -> 74.978996 | H326: =IF(100-G326<10,10,100-G326) -> 25.021004 | I326: =I325-0.1 -> 19.3
A327: =A326-0.1 -> 19.2 | B327: =(Calibration!$O$63*Calibration!$B$49*SQRT(I327+Calibration!$F$61-Calibration!$F$63))-((0.32989795*(I327+Calibration!$F$61-Calibration!$F$63))-1.302) -> 24.846232 | C327: =I327*Calibration!$B$50*Calibration!$O$63*Calibration!$B$71/12500*'Degradation Model'!$B$26/Calibration!$B$61 -> 23.304582 | D327: =D328+($C$518*100/H328) -> 42.430533 | E327: =((Calibration!$O$64-1)*F327*Calibration!$B$63/7) -> 7.1288417 | F327: =B327+D327 -> 67.276766 | G327: =F327+E327 -> 74.405607 | H327: =IF(100-G327<10,10,100-G327) -> 25.594393 | I327: =I326-0.1 -> 19.2
A328: =A327-0.1 -> 19.1 | B328: =(Calibration!$O$63*Calibration!$B$49*SQRT(I328+Calibration!$F$61-Calibration!$F$63))-((0.32989795*(I328+Calibration!$F$61-Calibration!$F$63))-1.302) -> 24.801817 | C328: =I328*Calibration!$B$50*Calibration!$O$63*Calibration!$B$71/12500*'Degradation Model'!$B$26/Calibration!$B$61 -> 23.183204 | D328: =D329+($C$518*100/H329) -> 41.966492 | E328: =((Calibration!$O$64-1)*F328*Calibration!$B$63/7) -> 7.0749642 | F328: =B328+D328 -> 66.768309 | G328: =F328+E328 -> 73.843273 | H328: =IF(100-G328<10,10,100-G328) -> 26.156727 | I328: =I327-0.1 -> 19.1
A329: =A328-0.1 -> 19 | B329: =(Calibration!$O$63*Calibration!$B$49*SQRT(I329+Calibration!$F$61-Calibration!$F$63))-((0.32989795*(I329+Calibration!$F$61-Calibration!$F$63))-1.302) -> 24.757201 | C329: =I329*Calibration!$B$50*Calibration!$O$63*Calibration!$B$71/12500*'Degradation Model'!$B$26/Calibration!$B$61 -> 23.061826 | D329: =D330+($C$518*100/H330) -> 41.51204 | E329: =((Calibration!$O$64-1)*F329*Calibration!$B$63/7) -> 7.0220815 | F329: =B329+D329 -> 66.269241 | G329: =F329+E329 -> 73.291323 | H329: =IF(100-G329<10,10,100-G329) -> 26.708677 | I329: =I328-0.1 -> 19
A330: =A329-0.1 -> 18.9 | B330: =(Calibration!$O$63*Calibration!$B$49*SQRT(I330+Calibration!$F$61-Calibration!$F$63))-((0.32989795*(I330+Calibration!$F$61-Calibration!$F$63))-1.302) -> 24.712382 | C330: =I330*Calibration!$B$50*Calibration!$O$63*Calibration!$B$71/12500*'Degradation Model'!$B$26/Calibration!$B$61 -> 22.940448 | D330: =D331+($C$518*100/H331) -> 41.06663 | E330: =((Calibration!$O$64-1)*F330*Calibration!$B$63/7) -> 6.9701354 | F330: =B330+D330 -> 65.779012 | G330: =F330+E330 -> 72.749148 | H330: =IF(100-G330<10,10,100-G330) -> 27.250852 | I330: =I329-0.1 -> 18.9
A331: =A330-0.1 -> 18.8 | B331: =(Calibration!$O$63*Calibration!$B$49*SQRT(I331+Calibration!$F$61-Calibration!$F$63))-((0.32989795*(I331+Calibration!$F$61-Calibration!$F$63))-1.302) -> 24.667359 | C331: =I331*Calibration!$B$50*Calibration!$O$63*Calibration!$B$71/12500*'Degradation Model'!$B$26/Calibration!$B$61 -> 22.81907 | D331: =D332+($C$518*100/H332) -> 40.629764 | E331: =((Calibration!$O$64-1)*F331*Calibration!$B$63/7) -> 6.919073 | F331: =B331+D331 -> 65.297123 | G331: =F331+E331 -> 72.216196 | H331: =IF(100-G331<10,10,100-G331) -> 27.783804 | I331: =I330-0.1 -> 18.8
... A517: =A516-0.1 -> 0.2 | B517: =(Calibration!$O$63*Calibration!$B$49*SQRT(I517+Calibration!$F$61-Calibration!$F$63))-((0.32989795*(I517+Calibration!$F$61-Calibration!$F$63))-1.302) -> 5.2589551 | C517: =I517*Calibration!$B$50*Calibration!$O$63*Calibration!$B$71/12500*'Degradation Model'!$B$26/Calibration!$B$61 -> 0.24275606 | D517: =D518+($C$518*100/H518) -> 0.24955978 | E517: =((Calibration!$O$64-1)*F517*Calibration!$B$63/7) -> 0.58369825 | F517: =B517+D517 -> 5.5085148 | G517: =F517+E517 -> 6.0922131 | H517: =IF(100-G517<10,10,100-G517) -> 93.907787 | I517: =I516-0.1 -> 0.2
A518: =A517-0.1 -> 0.1 | B518: =(Calibration!$O$63*Calibration!$B$49*SQRT(I518+Calibration!$F$61-Calibration!$F$63))-((0.32989795*(I518+Calibration!$F$61-Calibration!$F$63))-1.302) -> 4.6779411 | C518: =I518*Calibration!$B$50*Calibration!$O$63*Calibration!$B$71/12500*'Degradation Model'!$B$26/Calibration!$B$61 -> 0.12137803 | D518: =C518 -> 0.12137803 | E518: =((Calibration!$O$64-1)*F518*Calibration!$B$63/7) -> 0.50854981 | F518: =B518+D518 -> 4.7993191 | G518: =F518+E518 -> 5.3078689 | H518: =IF(100-G518<10,10,100-G518) -> 94.692131 | I518: =I517-0.1 -> 0.1

Sheet Validation
F1: Days/week | G1: Hours/Day | I1: Solar Loading | L1: Solar Loading | M1: Calendar Plus | O1: Remaining | P1: Actual | T1: Actual
A2: Owner | B2: City | C2: Years Owned | D2: Total Mileage | E2: Miles/kwh | F2: in Sun | G2: At 100% | H2: Aging Factor | I2: Factor | J2: Calendar Loss | K2: Cycling Loss | L2: Loss | M2: Cycling Loss | N2: Total Loss | O2: Capacity | P2: Capacity | Q2: Method | R2: Difference | S2: Comments | T2: Loss
A4: TickTock (White626) | B4: Phoenix, AZ | C4: =15/12 -> 1.25 | D4: 17300 | E4: 4.44 | F4: 0 | G4: 0 | H4: =VLOOKUP(B4,'Aging Factor'!A145:G242,4,1) -> 1.35 | I4: =VLOOKUP(B4,'Aging Factor'!A145:G242,7,1) -> 2.945 | J4: =(H4*Calibration!$B$49*SQRT(C4))-((0.32989795*C4)-1.302) -> 11.304114 | K4: =C4*Calibration!$B$50*H4*(D4/C4)/12500*'Degradation Model'!$B$26/E4 -> 3.9363062 | L4: =N4-M4 -> 0 | M4: =J4+K4 -> 15.24042 | N4: =M4+((I4-1)*M4*F4/7) -> 15.24042 | O4: =100-N4 -> 84.75958 | P4: 87 | Q4: Nissan Test | R4: =O4-P4 -> -2.2404203 | S4: Arizona Range Test was 87.5% | T4: =100-P4 -> 13
A5: Azdre/Opossum (Red500) | B5: Phoenix, AZ | C5: =17.75/12 -> 1.4791667 | D5: 22500 | E5: 4 | F5: 0 | G5: 0 | H5: =VLOOKUP(B5,'Aging Factor'!A146:G243,4,1) -> 1.35 | I5: =VLOOKUP(B5,'Aging Factor'!A146:G243,7,1) -> 2.945 | J5: =(H5*Calibration!$B$49*SQRT(C5))-((0.32989795*C5)-1.302) -> 12.143022 | K5: =C5*Calibration!$B$50*H5*(D5/C5)/12500*'Degradation Model'!$B$26/E5 -> 5.6826154 | L5: =N5-M5 -> 0 | M5: =J5+K5 -> 17.825637 | N5: =M5+((I5-1)*M5*F5/7) -> 17.825637 | O5: =100-N5 -> 82.174363 | P5: 85 | Q5: Nissan Test | R5: =O5-P5 -> -2.8256371 | S5: Arizona Range Test was 82.5% | T5: =100-P5 -> 15
A6: Leafkabob (White530) | B6: Phoenix, AZ | C6: =16/12 -> 1.3333333 | D6: 12500 | E6: 5.1 | F6: 0 | G6: 0 | H6: =VLOOKUP(B6,'Aging Factor'!A147:G244,4,1) -> 1.35 | I6: =VLOOKUP(B6,'Aging Factor'!A147:G244,7,1) -> 2.945 | J6: =(H6*Calibration!$B$49*SQRT(C6))-((0.32989795*C6)-1.302) -> 11.618172 | K6: =C6*Calibration!$B$50*H6*(D6/C6)/12500*'Degradation Model'!$B$26/E6 -> 2.4760851 | L6: =N6-M6 -> 0 | M6: =J6+K6 -> 14.094257 | N6: =M6+((I6-1)*M6*F6/7) -> 14.094257 | O6: =100-N6 -> 85.905743 | P6: 83 | Q6: Arizona Range Test | R6: =O6-P6 -> 2.9057433 | T6: =100-P6 -> 17
A7: GerryAZ (Silver679) | B7: Phoenix, AZ | C7: =15/12 -> 1.25 | D7: 15000 | E7: 4 | F7: 0 | G7: 0 | H7: =VLOOKUP(B7,'Aging Factor'!A151:G248,4,1) -> 1.35 | I7: =VLOOKUP(B7,'Aging Factor'!A151:G248,7,1) -> 2.945 | J7: =(H7*Calibration!$B$49*SQRT(C7))-((0.32989795*C7)-1.302) -> 11.304114 | K7: =C7*Calibration!$B$50*H7*(D7/C7)/12500*'Degradation Model'!$B$26/E7 -> 3.7884103 | L7: =N7-M7 -> 0 | M7: =J7+K7 -> 15.092524 | N7: =M7+((I7-1)*M7*F7/7) -> 15.092524 | O7: =100-N7 -> 84.907476 | P7: 84.5 | Q7: Arizona Range Test | R7: =O7-P7 -> 0.40747556 | T7: =100-P7 -> 15.5
A8: White272 | B8: Phoenix, AZ | C8: =16/12 -> 1.3333333 | D8: 17500 | E8: 4 | F8: 0 | G8: 0 | H8: =VLOOKUP(B8,'Aging Factor'!A153:G250,4,1) -> 1.35 | I8: =VLOOKUP(B8,'Aging Factor'!A153:G250,7,1) -> 2.945 | J8: =(H8*Calibration!$B$49*SQRT(C8))-((0.32989795*C8)-1.302) -> 11.618172 | K8: =C8*Calibration!$B$50*H8*(D8/C8)/12500*'Degradation Model'!$B$26/E8 -> 4.419812 | L8: =N8-M8 -> 0 | M8: =J8+K8 -> 16.037984 | N8: =M8+((I8-1)*M8*F8/7) -> 16.037984 | O8: =100-N8 -> 83.962016 | P8: 78.7 | Q8: Arizona Range Test | R8: =O8-P8 -> 5.2620164 | T8: =100-P8 -> 21.3
A9: Blue744 (WiltingLeaf) | B9: Phoenix, AZ | C9: =15.5/12 -> 1.2916667 | D9: 22400 | E9: 4 | F9: 0 | G9: 0 | H9: =VLOOKUP(B9,'Aging Factor'!A154:G251,4,1) -> 1.35 | I9: =VLOOKUP(B9,'Aging Factor'!A154:G251,7,1) -> 2.945 | J9: =(H9*Calibration!$B$49*SQRT(C9))-((0.32989795*C9)-1.302) -> 11.46252 | K9: =C9*Calibration!$B$50*H9*(D9/C9)/12500*'Degradation Model'!$B$26/E9 -> 5.6573593 | L9: =N9-M9 -> 0 | M9: =J9+K9 -> 17.11988 | N9: =M9+((I9-1)*M9*F9/7) -> 17.11988 | O9: =100-N9 -> 82.88012 | P9: 80.1 | Q9: Arizona Range Test | R9: =O9-P9 -> 2.7801203 | T9: =100-P9 -> 19.9
A10: Red429 | B10: Phoenix, AZ | C10: =16/12 -> 1.3333333 | D10: 11500 | E10: 4 | F10: 0 | G10: 0 | H10: =VLOOKUP(B10,'Aging Factor'!A156:G253,4,1) -> 1.35 | I10: =VLOOKUP(B10,'Aging Factor'!A156:G253,7,1) -> 2.945 | J10: =(H10*Calibration!$B$49*SQRT(C10))-((0.32989795*C10)-1.302) -> 11.618172 | K10: =C10*Calibration!$B$50*H10*(D10/C10)/12500*'Degradation Model'!$B$26/E10 -> 2.9044479 | L10: =N10-M10 -> 0 | M10: =J10+K10 -> 14.522619 | N10: =M10+((I10-1)*M10*F10/7) -> 14.522619 | O10: =100-N10 -> 85.477381 | P10: 84.5 | Q10: Arizona Range Test | R10: =O10-P10 -> 0.97738054 | T10: =100-P10 -> 15.5
A11: Blue917 | B11: Phoenix, AZ | C11: =14/12 -> 1.1666667 | D11: 13900 | E11: 4 | F11: 0 | G11: 0 | H11: =VLOOKUP(B11,'Aging Factor'!A157:G254,4,1) -> 1.35 | I11: =VLOOKUP(B11,'Aging Factor'!A157:G254,7,1) -> 2.945 | J11: =(H11*Calibration!$B$49*SQRT(C11))-((0.32989795*C11)-1.302) -> 10.978469 | K11: =C11*Calibration!$B$50*H11*(D11/C11)/12500*'Degradation Model'!$B$26/E11 -> 3.5105935 | L11: =N11-M11 -> 0 | M11: =J11+K11 -> 14.489063 | N11: =M11+((I11-1)*M11*F11/7) -> 14.489063 | O11: =100-N11 -> 85.510937 | P11: 86.3 | Q11: Arizona Range Test | R11: =O11-P11 -> -0.78906251 | T11: =100-P11 -> 13.7
A12: Blue534 | B12: Phoenix, AZ | C12: =15/12 -> 1.25 | D12: 16000 | E12: 4 | F12: 0 | G12: 0 | H12: =VLOOKUP(B12,'Aging Factor'!A158:G255,4,1) -> 1.35 | I12: =VLOOKUP(B12,'Aging Factor'!A158:G255,7,1) -> 2.945 | J12: =(H12*Calibration!$B$49*SQRT(C12))-((0.32989795*C12)-1.302) -> 11.304114 | K12: =C12*Calibration!$B$50*H12*(D12/C12)/12500*'Degradation Model'!$B$26/E12 -> 4.040971 | L12: =N12-M12 -> 0 | M12: =J12+K12 -> 15.345085 | N12: =M12+((I12-1)*M12*F12/7) -> 15.345085 | O12: =100-N12 -> 84.654915 | P12: 90.1 | Q12: Arizona Range Test | R12: =O12-P12 -> -5.4450851 | T12: =100-P12 -> 9.9
A13: Blue842 | B13: Phoenix, AZ | C13: 0.25 | D13: 2500 | E13: 4 | F13: 0 | G13: 0 | H13: =VLOOKUP(B13,'Aging Factor'!A159:G256,4,1) -> 1.35 | I13: =VLOOKUP(B13,'Aging Factor'!A159:G256,7,1) -> 2.945 | J13: =(H13*Calibration!$B$49*SQRT(C13))-((0.32989795*C13)-1.302) -> 5.8770255 | K13: =C13*Calibration!$B$50*H13*(D13/C13)/12500*'Degradation Model'!$B$26/E13 -> 0.63140171 | L13: =N13-M13 -> 0 | M13: =J13+K13 -> 6.5084272 | N13: =M13+((I13-1)*M13*F13/7) -> 6.5084272 | O13: =100-N13 -> 93.491573 | P13: 94.7 | Q13: Arizona Range Test | R13: =O13-P13 -> -1.2084272 | T13: =100-P13 -> 5.3
A14: RedXXX | B14: Phoenix, AZ | C14: =1/12 -> 0.083333333 | D14: 100 | E14: 4 | F14: 0 | G14: 0 | H14: =VLOOKUP(B14,'Aging Factor'!A160:G257,4,1) -> 1.35 | I14: =VLOOKUP(B14,'Aging Factor'!A160:G257,7,1) -> 2.945 | J14: =(H14*Calibration!$B$49*SQRT(C14))-((0.32989795*C14)-1.302) -> 3.9635174 | K14: =C14*Calibration!$B$50*H14*(D14/C14)/12500*'Degradation Model'!$B$26/E14 -> 0.025256068 | L14: =N14-M14 -> 0 | M14: =J14+K14 -> 3.9887735 | N14: =M14+((I14-1)*M14*F14/7) -> 3.9887735 | O14: =100-N14 -> 96.011227 | P14: 100 | Q14: Arizona Range Test | R14: =O14-P14 -> -3.9887735 | T14: 0.3
A15: Blue494 | B15: Phoenix, AZ | C15: =15/12 -> 1.25 | D15: 29000 | E15: 4 | F15: 0 | G15: 0 | H15: =VLOOKUP(B15,'Aging Factor'!A160:G257,4,1) -> 1.35 | I15: =VLOOKUP(B15,'Aging Factor'!A160:G257,7,1) -> 2.945 | J15: =(H15*Calibration!$B$49*SQRT(C15))-((0.32989795*C15)-1.302) -> 11.304114 | K15: =C15*Calibration!$B$50*H15*(D15/C15)/12500*'Degradation Model'!$B$26/E15 -> 7.3242599 | L15: =N15-M15 -> 0 | M15: =J15+K15 -> 18.628374 | N15: =M15+((I15-1)*M15*F15/7) -> 18.628374 | O15: =100-N15 -> 81.371626 | P15: 70.6 | Q15: Arizona Range Test | R15: =O15-P15 -> 10.771626 | S15: Parked in sun with west facing door charging | T15: =100-P15 -> 29.4
A16: Tony Williams (Black782) | B16: San Diego, CA | C16: =3.5/12 -> 0.29166667 | D16: 7000 | E16: 4.2 | F16: =25/70 -> 0.35714286 | G16: 0 | H16: =VLOOKUP(B16,'Aging Factor'!A149:G246,4,1) -> 0.8820189 | I16: =VLOOKUP(B16,'Aging Factor'!A149:G246,7,1) -> 2.4541667 | J16: =(H16*Calibration!$B$49*SQRT(C16))-((0.32989795*C16)-1.302) -> 4.4925578 | K16: =C16*Calibration!$B$50*H16*(D16/C16)/12500*'Degradation Model'!$B$26/E16 -> 1.1000657 | L16: =N16-M16 -> 0.41492891 | M16: =J16+K16 -> 5.5926235 | N16: =M16+((I16-1)*M16*F16/7) -> 6.0075524 | O16: =100-N16 -> 93.992448 | P16: 91.2 | Q16: Arizona Range Test | R16: =O16-P16 -> 2.7924476 | S16: Multiple QC? | T16: =100-P16 -> 8.8
A17: Stoaty | B17: Santa Monica, CA | C17: =15/12 -> 1.25 | D17: 10700 | E17: 5.7 | F17: 4 | G17: 0 | H17: =VLOOKUP(B17,'Aging Factor'!A150:G247,4,1) -> 0.86158026 | I17: =VLOOKUP(B17,'Aging Factor'!A150:G247,7,1) -> 2.4541667 | J17: =(H17*Calibration!$B$49*SQRT(C17))-((0.32989795*C17)-1.302) -> 7.5362321 | K17: =C17*Calibration!$B$50*H17*(D17/C17)/12500*'Degradation Model'!$B$26/E17 -> 1.21031 | L17: =N17-M17 -> 7.26796 | M17: =J17+K17 -> 8.7465421 | N17: =M17+((I17-1)*M17*F17/7) -> 16.014502 | O17: =100-N17 -> 83.985498 | P17: 88.5 | Q17: Range test to LBW | R17: =O17-P17 -> -4.514502 | S17: Extrapolated to 106 miles out of 119.7 | T17: =100-P17 -> 11.5
A18: TaylorSFGuy | B18: Seattle, WA | C18: =17.5/12 -> 1.4583333 | D18: 56000 | E18: 4 | F18: 0 | G18: 0 | H18: =VLOOKUP(B18,'Aging Factor'!A148:G245,4,1) -> 0.71790831 | I18: =VLOOKUP(B18,'Aging Factor'!A148:G245,7,1) -> 1.4725 | J18: =(H18*Calibration!$B$49*SQRT(C18))-((0.32989795*C18)-1.302) -> 6.8028997 | K18: =C18*Calibration!$B$50*H18*(D18/C18)/12500*'Degradation Model'!$B$26/E18 -> 7.521232 | L18: =N18-M18 -> 0 | M18: =J18+K18 -> 14.324132 | N18: =M18+((I18-1)*M18*F18/7) -> 14.324132 | O18: =100-N18 -> 85.675868 | P18: 88.2 | Q18: Gid Meter/Estimate | R18: =O18-P18 -> -2.5241318 | T18: =100-P18 -> 11.8
A19: TaylorSFGuy | B19: Seattle, WA | C19: =28/12 -> 2.3333333 | D19: 91000 | E19: 4 | F19: 0 | G19: 0 | H19: =VLOOKUP(B19,'Aging Factor'!A149:G246,4,1) -> 0.71790831 | I19: =VLOOKUP(B19,'Aging Factor'!A149:G246,7,1) -> 1.4725 | J19: =(H19*Calibration!$B$49*SQRT(C19))-((0.32989795*C19)-1.302) -> 8.0989372 | K19: =C19*Calibration!$B$50*H19*(D19/C19)/12500*'Degradation Model'!$B$26/E19 -> 12.222002 | L19: =N19-M19 -> 0 | M19: =J19+K19 -> 20.320939 | N19: =M19+((I19-1)*M19*F19/7) -> 20.320939 | O19: =100-N19 -> 79.679061 | P19: =214/281*100 -> 76.156584 | Q19: Gid Meter/Estimate | R19: =O19-P19 -> 3.5224771
Q22: Mean | R22: =AVERAGE(R4:R14) -> -0.37860633
Q23: Standard Deviation | R23: =_xlfn.STDEV.S(R4:R14) -> #NAME?
Q26: Absolute value of Diff | R26: =ABS(R4) -> 2.2404203
R27: =ABS(R5) -> 2.8256371
R28: =ABS(R6) -> 2.9057433
R29: =ABS(R7) -> 0.40747556
R30: =ABS(R8) -> 5.2620164
R31: =ABS(R9) -> 2.7801203
R32: =ABS(R10) -> 0.97738054
R33: =ABS(R11) -> 0.78906251
R34: =ABS(R12) -> 5.4450851
R35: =ABS(R13) -> 1.2084272
R36: =ABS(R14) -> 3.9887735
Q38: Mean | R38: =AVERAGE(R26:R36) -> 2.620922
Q39: Standard Deviation | R39: =_xlfn.STDEV.S(R26:R36) -> #NAME?
