Workbook

Sheet Prediction
J1: Version 1.00 | K1: Stoaty Marmot
E2: Fractional Year / Total Miles Prediction
Q3: =VLOOKUP(F13,'End of Life'!H8:I257,2,1) -> #N/A
I4: Corrected | J4: Solar Loading | K4: Calendar Plus | L4: Predicted | M4: Remaining | N4: Full Charge | O4: 80% Charge | P4: 80% Charge
G5: Calendar Loss | H5: Cycling Loss | I5: Cycling Loss | J5: Loss | K5: Cycling Loss | L5: Total Loss | M5: % Capacity | N5: Gids | O5: % Gids | P5: Gids
A6: City | B6: Van Nuys, CA
E7: Battery Age (years) | F7: =(B16-B12)/365 -> 2.5123288 | G7: =($O$9*Calibration!$B$49*SQRT(F7))-((0.32989795*F7)-1.302) -> 11.255568 | H7: =Calibration!$B$50*$O$9*($F$11/12500)*('Degradation Model'!$B$26/$B$8) -> 2.8377685 | I7: =IF(F9<1,H7,(VLOOKUP(INT(F9)+1,$A$42:$L$56,4,1)-VLOOKUP(INT(F9),$A$42:$L$56,4,1))*(F9-INT(F9))+VLOOKUP(INT(F9),$A$42:$L$56,4,1)) -> 3.0509219 | J7: =(($O$10-1)*K7*$B$10/7) -> 1.5159573 | K7: =G7+I7 -> 14.30649 | L7: =K7+J7 -> 15.822448 | M7: =100-L7 -> 84.177552 | N7: =281*M7/100 -> 236.53892 | O7: =P7/281*100 -> 69.498904 | P7: =M7*232/100 -> 195.29192
A8: Miles/kwh | B8: 5.6
E9: Years in Service | F9: =(B16-B14)/365 -> 2.3534247 | N9: Prediction Tab Aging Factor | O9: =VLOOKUP(Prediction!B6,'Aging Factor'!A145:G242,5,1) -> 0.98588743
A10: Days/week in Sun | B10: 4 | H10: Note: fractional years will be less | K10: Actual Loss | L10: =(B22-B20)/B22*100 -> 15.230189 | N10: Prediction Tab Solar Loading | O10: =VLOOKUP(Prediction!B6,'Aging Factor'!A145:H242,8,1) -> 1.1854351
E11: Total Mileage | F11: 21540 | H11: Accurate due to seasonal effects
A12: Manufacture Date | B12: 40648 | H12: on aging factors | K12: Actual Minus | L12: =L10-L7 -> -0.59225899 | O12: Fractional Year
K13: Predicted
A14: Date of Delivery | B14: 40706
F15: End of Life | G15: Service Years | H15: Miles at | I15: Qualify for | K15: Actual Percent | L15: =L10/L7*100 -> 96.256843 | O15: Calendar Loss | P15: Corrected Cycling Loss | Q15: Solar Loading Loss
A16: Date of Reading | B16: 41565 | E16: End of Life Percent | F16: Years | G16: Remaining | H16: End of Life | I16: Warranty? | K16: of Predicted | N16: Relative Loss | O16: =O17/(SUM($O$17:$Q$17)) -> 0.71136708 | P16: =P17/(SUM($O$17:$Q$17)) -> 0.19282237 | Q16: =Q17/(SUM($O$17:$Q$17)) -> 0.095810544
N17: Absolute Loss | O17: =G7/100 -> 0.11255568 | P17: =I7/100 -> 0.030509219 | Q17: =J7/100 -> 0.015159573
A18: Annual Mileage | B18: =F11/((B16-B14)/365) -> 9152.6193 | E18: 90 | F18: =IF($L$7>100-E18,$F$9,VLOOKUP(E18,'End of Life'!$H$8:$I$257,2,1)) -> 2.3534247 | G18: =F18-$F$9 -> 0 | H18: =F18*$B$18 -> 21540
E19: 85 | F19: =IF($L$7>100-E19,$F$9,VLOOKUP(E19,'End of Life'!$H$8:$I$257,2,1)) -> 2.3534247 | G19: =F19-$F$9 -> 0 | H19: =F19*$B$18 -> 21540
A20: Actual Capacity (AH) | B20: 56.16 | E20: 80 | F20: =IF($L$7>100-E20,$F$9,VLOOKUP(E20,'End of Life'!$H$8:$I$257,2,1)) -> 3.6 | G20: =F20-$F$9 -> 1.2465753 | H20: =F20*$B$18 -> 32949.43
E21: 75 | F21: =IF($L$7>100-E21,$F$9,VLOOKUP(E21,'End of Life'!$H$8:$I$257,2,1)) -> 5.2 | G21: =F21-$F$9 -> 2.8465753 | H21: =F21*$B$18 -> 47593.62
A22: Capacity When New | B22: 66.25 | E22: 70 | F22: =IF($L$7>100-E22,$F$9,VLOOKUP(E22,'End of Life'!$H$8:$I$257,2,1)) -> 6.9 | G22: =F22-$F$9 -> 4.5465753 | H22: =F22*$B$18 -> 63153.073 | I22: =IF(AND(F22<=5,H22<60000),"Yes","No") -> No
E23: 65 | F23: =IF($L$7>100-E23,$F$9,VLOOKUP(E23,'End of Life'!$H$8:$I$257,2,1)) -> 8.5 | G23: =F23-$F$9 -> 6.1465753 | H23: =F23*$B$18 -> 77797.264 | I23: =IF(AND(F23<=5,H23<60000),"Yes","No") -> No
E24: 60 | F24: =IF($L$7>100-E24,$F$9,VLOOKUP(E24,'End of Life'!$H$8:$I$257,2,1)) -> 10.2 | G24: =F24-$F$9 -> 7.8465753 | H24: =F24*$B$18 -> 93356.717
E25: 55 | F25: =IF($L$7>100-E25,$F$9,VLOOKUP(E25,'End of Life'!$H$8:$I$257,2,1)) -> 11.8 | G25: =F25-$F$9 -> 9.4465753 | H25: =F25*$B$18 -> 108000.91
E26: 50 | F26: =IF($L$7>100-E26,$F$9,VLOOKUP(E26,'End of Life'!$H$8:$I$257,2,1)) -> 13.4 | G26: =F26-$F$9 -> 11.046575 | H26: =F26*$B$18 -> 122645.1
E29: Remaining | F29: Actual | G29: Predicted | H29: Actual – Predicted
E30: Capacity | F30: % Gids | G30: % Gids | H30: % Gids
E32: Full Charge | F32: =237/281*100 -> 84.341637 | G32: =M7 -> 84.177552 | H32: =+F32-M7 -> 0.16408468
E34: 80% Charge | F34: =197/281*100 -> 70.106762 | G34: =O7 -> 69.498904 | H34: =+F34-O7 -> 0.60785715
A37: Yearly Prediction
B39: Percent | C39: Percent | D39: Corrected | E39: Solar Loading | F39: Calendar Plus | G39: Percent | H39: Year to Year | I39: Remaining | J39: Full Charge | K39: 80% Charge | L39: 80% Charge
A40: Year | B40: Calendar Loss | C40: Cycling Loss | D40: Cycling Loss | E40: Loss | F40: Cycling Loss | G40: Total Loss | H40: Increment Loss | I40: Capacity | J40: Gids | K40: % Gids | L40: Gids
A42: 1 | B42: =($O$9*SQRT(A42+$F$7-$F$9)*Calibration!$B$49)-((0.32989795*(A42+$F$7-$F$9))-1.302) -> 8.2428677 | C42: =A42*Calibration!$B$50*$O$9*($B$18/12500)*('Degradation Model'!$B$26/$B$8) -> 1.2058039 | D42: =C42 -> 1.2058039 | E42: =(($O$10-1)*F42*$B$10/7) -> 1.0012087 | F42: =B42+D42 -> 9.4486716 | G42: =F42+E42 -> 10.44988 | H42: =G42 -> 10.44988 | I42: =IF(100-G42<5,5,100-G42) -> 89.55012 | J42: =IF(281*I42/100>0,281*I42/100,0) -> 251.63584 | K42: =IF(L42/281*100>0,L42/281*100,0) -> 73.934618 | L42: =IF(I42*232/100>0,I42*232/100,0) -> 207.75628
A43: =A42+1 -> 2 | B43: =($O$9*SQRT(A43+$F$7-$F$9)*Calibration!$B$49)-((0.32989795*(A43+$F$7-$F$9))-1.302) -> 10.585019 | C43: =A43*Calibration!$B$50*$O$9*($B$18/12500)*('Degradation Model'!$B$26/$B$8) -> 2.4116077 | D43: =D42+($C$42*100/I42) -> 2.5523167 | E43: =(($O$10-1)*F43*$B$10/7) -> 1.3920703 | F43: =B43+D43 -> 13.137336 | G43: =F43+E43 -> 14.529406 | H43: =G43-G42 -> 4.0795257 | I43: =IF(100-G43<5,5,100-G43) -> 85.470594 | J43: =IF(281*I43/100>0,281*I43/100,0) -> 240.17237 | K43: =IF(L43/281*100>0,L43/281*100,0) -> 70.566469 | L43: =IF(I43*232/100>0,I43*232/100,0) -> 198.29178 | O43: End of Life 70%
A44: =A43+1 -> 3 | B44: =($O$9*SQRT(A44+$F$7-$F$9)*Calibration!$B$49)-((0.32989795*(A44+$F$7-$F$9))-1.302) -> 12.350395 | C44: =A44*Calibration!$B$50*$O$9*($B$18/12500)*('Degradation Model'!$B$26/$B$8) -> 3.6174116 | D44: =D43+($C$42*100/I43) -> 3.9630988 | E44: =(($O$10-1)*F44*$B$10/7) -> 1.7286252 | F44: =B44+D44 -> 16.313493 | G44: =F44+E44 -> 18.042119 | H44: =G44-G43 -> 3.5127127 | I44: =IF(100-G44<5,5,100-G44) -> 81.957881 | J44: =IF(281*I44/100>0,281*I44/100,0) -> 230.30165 | K44: =IF(L44/281*100>0,L44/281*100,0) -> 67.666294 | L44: =IF(I44*232/100>0,I44*232/100,0) -> 190.14228
A45: =A44+1 -> 4 | B45: =($O$9*SQRT(A45+$F$7-$F$9)*Calibration!$B$49)-((0.32989795*(A45+$F$7-$F$9))-1.302) -> 13.802842 | C45: =A45*Calibration!$B$50*$O$9*($B$18/12500)*('Degradation Model'!$B$26/$B$8) -> 4.8232155 | D45: =D44+($C$42*100/I44) -> 5.4343471 | E45: =(($O$10-1)*F45*$B$10/7) -> 2.0384285 | F45: =B45+D45 -> 19.237189 | G45: =F45+E45 -> 21.275617 | H45: =G45-G44 -> 3.2334988 | I45: =IF(100-G45<5,5,100-G45) -> 78.724383 | J45: =IF(281*I45/100>0,281*I45/100,0) -> 221.21551 | K45: =IF(L45/281*100>0,L45/281*100,0) -> 64.996643 | L45: =IF(I45*232/100>0,I45*232/100,0) -> 182.64057 | O45: Calendar Loss | P45: Corrected Cycling Loss | Q45: Solar Loading Loss
A46: =A45+1 -> 5 | B46: =($O$9*SQRT(A46+$F$7-$F$9)*Calibration!$B$49)-((0.32989795*(A46+$F$7-$F$9))-1.302) -> 15.051037 | C46: =A46*Calibration!$B$50*$O$9*($B$18/12500)*('Degradation Model'!$B$26/$B$8) -> 6.0290193 | D46: =D45+($C$42*100/I45) -> 6.9660248 | E46: =(($O$10-1)*F46*$B$10/7) -> 2.3329919 | F46: =B46+D46 -> 22.017062 | G46: =F46+E46 -> 24.350053 | H46: =G46-G45 -> 3.074436 | I46: =IF(100-G46<5,5,100-G46) -> 75.649947 | J46: =IF(281*I46/100>0,281*I46/100,0) -> 212.57635 | K46: =IF(L46/281*100>0,L46/281*100,0) -> 62.458319 | L46: =IF(I46*232/100>0,I46*232/100,0) -> 175.50788 | N46: Relative Loss | O46: =O47/(SUM($O$47:$Q$47)) -> 0.5628823 | P46: =P47/(SUM($O$47:$Q$47)) -> 0.34130716 | Q46: =Q47/(SUM($O$47:$Q$47)) -> 0.095810544
A47: =A46+1 -> 6 | B47: =($O$9*SQRT(A47+$F$7-$F$9)*Calibration!$B$49)-((0.32989795*(A47+$F$7-$F$9))-1.302) -> 16.152355 | C47: =A47*Calibration!$B$50*$O$9*($B$18/12500)*('Degradation Model'!$B$26/$B$8) -> 7.2348232 | D47: =D46+($C$42*100/I46) -> 8.5599504 | E47: =(($O$10-1)*F47*$B$10/7) -> 2.6185878 | F47: =B47+D47 -> 24.712306 | G47: =F47+E47 -> 27.330893 | H47: =G47-G46 -> 2.98084 | I47: =IF(100-G47<5,5,100-G47) -> 72.669107 | J47: =IF(281*I47/100>0,281*I47/100,0) -> 204.20019 | K47: =IF(L47/281*100>0,L47/281*100,0) -> 59.99727 | L47: =IF(I47*232/100>0,I47*232/100,0) -> 168.59233 | N47: Absolute Loss | O47: =VLOOKUP($F$22,'End of Life'!$A$8:$I$257,2,0)/100 -> 0.17046898 | P47: =VLOOKUP($F$22,'End of Life'!$A$8:$I$257,4,0)/100 -> 0.10336492 | Q47: =VLOOKUP($F$22,'End of Life'!$A$8:$I$257,5,0)/100 -> 0.029016237
A48: =A47+1 -> 7 | B48: =($O$9*SQRT(A48+$F$7-$F$9)*Calibration!$B$49)-((0.32989795*(A48+$F$7-$F$9))-1.302) -> 17.141478 | C48: =A48*Calibration!$B$50*$O$9*($B$18/12500)*('Degradation Model'!$B$26/$B$8) -> 8.4406271 | D48: =D47+($C$42*100/I47) -> 10.219258 | E48: =(($O$10-1)*F48*$B$10/7) -> 2.8992232 | F48: =B48+D48 -> 27.360736 | G48: =F48+E48 -> 30.259959 | H48: =G48-G47 -> 2.929066 | I48: =IF(100-G48<5,5,100-G48) -> 69.740041 | J48: =IF(281*I48/100>0,281*I48/100,0) -> 195.96951 | K48: =IF(L48/281*100>0,L48/281*100,0) -> 57.578966 | L48: =IF(I48*232/100>0,I48*232/100,0) -> 161.79689
...

Sheet Calibration
T1: Corrected | AC1: Corrected | AE1: Actual Loss
H2: Capacity | I2: Date of | J2: Days/week | K2: Battery Age | L2: Years in | N2: Solar Loading | Q2: Corrected | R2: Solar Loading | S2: Calendar Plus | T2: Remaining | U2: Full Charge | V2: 80% Charge | W2: 80% Charge | X2: End of Life | Y2: Miles at | Z2: Service Years | AA2: Qualify for | AB2: Predicted | AC2: Predicted | AD2: Actual | AE2: Minus Corrected | AF2: Actual Loss | AG2: Correction | AH2: Actual Loss % of
A3: Row Number | B3: Owner | C3: Manufacture Date | D3: Delivery Date | E3: City | F3: Miles/kwh | G3: Total Mileage | H3: AH | I3: Reading | J3: in Sun | K3: Years | L3: Service | M3: Aging Factor | N3: Factor | O3: Calendar Loss | P3: Cycling Loss | Q3: Cycling Loss | R3: Loss | S3: Cycling Loss | T3: % Capacity | U3: Gids | V3: % Gids | W3: Gids | X3: Years | Y3: End of Life | Z3: Remaining | AA3: Warranty? | AB3: Total Loss | AC3: Total Loss | AD3: Loss | AE3: Predicted Loss | AF3: Minus Predicted | AG3: Difference | AH3: Corrected Loss | AI3: Comments
A5: 1 | B5: Weatherman | C5: 41014 | D5: 41098 | E5: Fort Lauderdale, FL | F5: 4 | G5: 10300 | H5: 55.46 | I5: 41526 | J5: 5 | K5: =(I5-C5)/365 -> 1.4027397 | L5: =(I5-D5)/365 -> 1.1726027 | M5: =VLOOKUP(E5,'Aging Factor'!$A$145:$H$242,5,1) -> 1.5128339 | N5: =VLOOKUP(E5,'Aging Factor'!$A$145:$H$242,8,1) -> 1.1588505 | O5: =(M5*$B$49*SQRT(K5))-((0.32989795*K5)-1.302) -> 13.202382 | P5: =$B$50*M5*(G5/12500)*('Degradation Model'!$B$26/F5) -> 2.9151469 | Q5: =IF(L5<1,P5,(VLOOKUP(INT(L5)+1,A$167:L$181,4,1)-VLOOKUP(INT(L5),A$167:L$181,4,1))*(L5-INT(L5))+VLOOKUP(INT(L5),A$167:L$181,4,1)) -> 3.0009081 | R5: =((N5-1)*(O5+Q5)*J5/7) -> 1.8385003 | S5: =O5+P5 -> 16.117529 | T5: =(1-AC5)*100 -> 81.95821 | U5: =281*T5/100 -> 230.30257 | V5: =W5/281*100 -> 67.666565 | W5: =T5*232/100 -> 190.14305 | X5: 2.9 | Y5: =G5/((I5-D5)/365)*X5 -> 25473.248 | Z5: =X5-L5 -> 1.7273973 | AA5: =IF(AND(X5<=5,Y5<60000),"Yes","No") -> Yes | AB5: =(S5+R5)/100 -> 0.17956029 | AC5: =(O5+Q5+R5)/100 -> 0.1804179 | AD5: =($B$75-H5)/$B$75 -> 0.16286792 | AE5: =AD5-AC5 -> -0.017549976 | AF5: =AD5-AB5 -> -0.016692364 | AG5: =AE5-AF5 -> -0.00085761233 | AH5: =AD5/AC5 -> 0.90272597
A6: =1+A5 -> 2 | B6: TomT | C6: 40558 | D6: 40603 | E6: Van Nuys, CA | F6: 4.4 | G6: 37512 | H6: 52.47 | I6: 41527 | J6: 5 | K6: =(I6-C6)/365 -> 2.6547945 | L6: =(I6-D6)/365 -> 2.5315068 | M6: =VLOOKUP(E6,'Aging Factor'!$A$145:$H$242,5,1) -> 0.98588743 | N6: =VLOOKUP(E6,'Aging Factor'!$A$145:$H$242,8,1) -> 1.1854351 | O6: =(M6*$B$49*SQRT(K6))-((0.32989795*K6)-1.302) -> 11.51007 | P6: =$B$50*M6*(G6/12500)*('Degradation Model'!$B$26/F6) -> 6.2898001 | Q6: =IF(L6<1,P6,(VLOOKUP(INT(L6)+1,A$189:L$203,4,1)-VLOOKUP(INT(L6),A$189:L$203,4,1))*(L6-INT(L6))+VLOOKUP(INT(L6),A$189:L$203,4,1)) -> 6.9179704 | R6: =((N6-1)*(O6+Q6)*J6/7) -> 2.440861 | S6: =O6+P6 -> 17.79987 | T6: =(1-AC6)*100 -> 79.131098 | U6: =281*T6/100 -> 222.35839 | V6: =W6/281*100 -> 65.332437 | W6: =T6*232/100 -> 183.58415 | X6: 4.2 | Y6: =G6/((I6-D6)/365)*X6 -> 62235.818 | Z6: =X6-L6 -> 1.6684932 | AA6: =IF(AND(X6<=5,Y6<60000),"Yes","No") -> No | AB6: =(S6+R6)/100 -> 0.20240731 | AC6: =(O6+Q6+R6)/100 -> 0.20868902 | AD6: =($B$75-H6)/$B$75 -> 0.208 | AE6: =AD6-AC6 -> -0.00068901724 | AF6: =AD6-AB6 -> 0.0055926863 | AG6: =AE6-AF6 -> -0.0062817036 | AH6: =AD6/AC6 -> 0.99669835
A7: =1+A6 -> 3 | B7: Drees | C7: 40648 | D7: 40701 | E7: San Diego, CA | F7: 4.5 | G7: 21926 | H7: 55.53 | I7: 41527 | J7: 5 | K7: =(I7-C7)/365 -> 2.4082192 | L7: =(I7-D7)/365 -> 2.2630137 | M7: =VLOOKUP(E7,'Aging Factor'!$A$145:$H$242,5,1) -> 0.8820189 | N7: =VLOOKUP(E7,'Aging Factor'!$A$145:$H$242,8,1) -> 1.1854351 | O7: =(M7*$B$49*SQRT(K7))-((0.32989795*K7)-1.302) -> 9.9519468 | P7: =$B$50*M7*(G7/12500)*('Degradation Model'!$B$26/F7) -> 3.2160053 | Q7: =IF(L7<1,P7,(VLOOKUP(INT(L7)+1,A$211:L$225,4,1)-VLOOKUP(INT(L7),A$211:L$225,4,1))*(L7-INT(L7))+VLOOKUP(INT(L7),A$211:L$225,4,1)) -> 3.4361438 | R7: =((N7-1)*(O7+Q7)*J7/7) -> 1.7733013 | S7: =O7+P7 -> 13.167952 | T7: =(1-AC7)*100 -> 84.838608 | U7: =281*T7/100 -> 238.39649 | V7: =W7/281*100 -> 70.044687 | W7: =T7*232/100 -> 196.82557 | X7: 6.7 | Y7: =G7/((I7-D7)/365)*X7 -> 64915.294 | Z7: =X7-L7 -> 4.4369863 | AA7: =IF(AND(X7<=5,Y7<60000),"Yes","No") -> No | AB7: =(S7+R7)/100 -> 0.14941253 | AC7: =(O7+Q7+R7)/100 -> 0.15161392 | AD7: =($B$75-H7)/$B$75 -> 0.16181132 | AE7: =AD7-AC7 -> 0.010197403 | AF7: =AD7-AB7 -> 0.012398788 | AG7: =AE7-AF7 -> -0.0022013847 | AH7: =AD7/AC7 -> 1.067259
A8: =1+A7 -> 4 | B8: DaveinOlyWA | C8: 40497 | D8: 40561 | E8: Olympia, WA | F8: 4.6 | G8: 39849 | H8: 57.75 | I8: 41527 | J8: 5 | K8: =(I8-C8)/365 -> 2.8219178 | L8: =(I8-D8)/365 -> 2.6465753 | M8: =VLOOKUP(E8,'Aging Factor'!$A$145:$H$242,5,1) -> 0.68116641 | N8: =VLOOKUP(E8,'Aging Factor'!$A$145:$H$242,8,1) -> 1.1074565 | O8: =(M8*$B$49*SQRT(K8))-((0.32989795*K8)-1.302) -> 8.2664616 | P8: =$B$50*M8*(G8/12500)*('Degradation Model'!$B$26/F8) -> 4.4157531 | Q8: =IF(L8<1,P8,(VLOOKUP(INT(L8)+1,A$233:L$247,4,1)-VLOOKUP(INT(L8),A$233:L$247,4,1))*(L8-INT(L8))+VLOOKUP(INT(L8),A$233:L$247,4,1)) -> 4.7111281 | R8: =((N8-1)*(O8+Q8)*J8/7) -> 0.99609003 | S8: =O8+P8 -> 12.682215 | T8: =(1-AC8)*100 -> 86.02632 | U8: =281*T8/100 -> 241.73396 | V8: =W8/281*100 -> 71.025289 | W8: =T8*232/100 -> 199.58106 | X8: 7.9 | Y8: =G8/((I8-D8)/365)*X8 -> 118948.85 | Z8: =X8-L8 -> 5.2534247 | AA8: =IF(AND(X8<=5,Y8<60000),"Yes","No") -> No | AB8: =(S8+R8)/100 -> 0.13678305 | AC8: =(O8+Q8+R8)/100 -> 0.1397368 | AD8: =($B$75-H8)/$B$75 -> 0.12830189 | AE8: =AD8-AC8 -> -0.01143491 | AF8: =AD8-AB8 -> -0.0084811604 | AG8: =AE8-AF8 -> -0.0029537493 | AH8: =AD8/AC8 -> 0.91816823
A9: =1+A8 -> 5 | B9: jhm614 | C9: 40589 | D9: 40632 | E9: Dallas, TX | F9: 4.1 | G9: 46600 | H9: 45.65 | I9: 41526 | J9: 5.75 | K9: =(I9-C9)/365 -> 2.5671233 | L9: =(I9-D9)/365 -> 2.4493151 | M9: =VLOOKUP(E9,'Aging Factor'!$A$145:$H$242,5,1) -> 1.1886265 | N9: =VLOOKUP(E9,'Aging Factor'!$A$145:$H$242,8,1) -> 1.1720674 | O9: =(M9*$B$49*SQRT(K9))-((0.32989795*K9)-1.302) -> 13.595792 | P9: =$B$50*M9*(G9/12500)*('Degradation Model'!$B$26/F9) -> 10.109727 | Q9: =IF(L9<1,P9,(VLOOKUP(INT(L9)+1,A$255:L$269,4,1)-VLOOKUP(INT(L9),A$255:L$269,4,1))*(L9-INT(L9))+VLOOKUP(INT(L9),A$255:L$269,4,1)) -> 11.482224 | R9: =((N9-1)*(O9+Q9)*J9/7) -> 3.5445542 | S9: =O9+P9 -> 23.70552 | T9: =(1-AC9)*100 -> 71.37743 | U9: =281*T9/100 -> 200.57058 | V9: =W9/281*100 -> 58.930832 | W9: =T9*232/100 -> 165.59564 | X9: 2.5 | Y9: =G9/((I9-D9)/365)*X9 -> 47564.318 | Z9: =X9-L9 -> 0.050684932 | AA9: =IF(AND(X9<=5,Y9<60000),"Yes","No") -> Yes | AB9: =(S9+R9)/100 -> 0.27250074 | AC9: =(O9+Q9+R9)/100 -> 0.2862257 | AD9: =($B$75-H9)/$B$75 -> 0.3109434 | AE9: =AD9-AC9 -> 0.024717694 | AF9: =AD9-AB9 -> 0.038442659 | AG9: =AE9-AF9 -> -0.013724965 | AH9: =AD9/AC9 -> 1.0863574
A10: =1+A9 -> 6 | B10: Vegastar | C10: 40678 | D10: 40739 | E10: Lisbon, Portugal | F10: 4 | G10: 35000 | H10: 55.69 | I10: 41528 | J10: 1 | K10: =(I10-C10)/365 -> 2.3287671 | L10: =(I10-D10)/365 -> 2.1616438 | M10: =VLOOKUP(E10,'Aging Factor'!$A$145:$H$242,5,1) -> 0.87169677 | N10: =VLOOKUP(E10,'Aging Factor'!$A$145:$H$242,8,1) -> 1 | O10: =(M10*$B$49*SQRT(K10))-((0.32989795*K10)-1.302) -> 9.7123681 | P10: =$B$50*M10*(G10/12500)*('Degradation Model'!$B$26/F10) -> 5.7077568 | Q10: =IF(L10<1,P10,(VLOOKUP(INT(L10)+1,A$277:L$291,4,1)-VLOOKUP(INT(L10),A$277:L$291,4,1))*(L10-INT(L10))+VLOOKUP(INT(L10),A$277:L$291,4,1)) -> 6.0783715 | R10: =((N10-1)*(O10+Q10)*J10/7) -> 0 | S10: =O10+P10 -> 15.420125 | T10: =(1-AC10)*100 -> 84.20926 | U10: =281*T10/100 -> 236.62802 | V10: =W10/281*100 -> 69.525083 | W10: =T10*232/100 -> 195.36548 | X10: 5.2 | Y10: =G10/((I10-D10)/365)*X10 -> 84195.184 | Z10: =X10-L10 -> 3.0383562 | AA10: =IF(AND(X10<=5,Y10<60000),"Yes","No") -> No | AB10: =(S10+R10)/100 -> 0.15420125 | AC10: =(O10+Q10+R10)/100 -> 0.1579074 | AD10: =($B$75-H10)/$B$75 -> 0.15939623 | AE10: =AD10-AC10 -> 0.0014888301 | AF10: =AD10-AB10 -> 0.0051949773 | AG10: =AE10-AF10 -> -0.0037061472 | AH10: =AD10/AC10 -> 1.0094285
A11: =1+A10 -> 7 | B11: UkrainianKozak | C11: 40589 | D11: 40672 | E11: Seattle, WA | F11: 4 | G11: 32034 | H11: 57.36 | I11: 41528 | J11: 0 | K11: =(I11-C11)/365 -> 2.5726027 | L11: =(I11-D11)/365 -> 2.3452055 | M11: =VLOOKUP(E11,'Aging Factor'!$A$145:$H$242,5,1) -> 0.71790831 | N11: =VLOOKUP(E11,'Aging Factor'!$A$145:$H$242,8,1) -> 1.1074565 | O11: =(M11*$B$49*SQRT(K11))-((0.32989795*K11)-1.302) -> 8.3984964 | P11: =$B$50*M11*(G11/12500)*('Degradation Model'!$B$26/F11) -> 4.3024133 | Q11: =IF(L11<1,P11,(VLOOKUP(INT(L11)+1,A$299:L$313,4,1)-VLOOKUP(INT(L11),A$299:L$313,4,1))*(L11-INT(L11))+VLOOKUP(INT(L11),A$299:L$313,4,1)) -> 4.5513856 | R11: =((N11-1)*(O11+Q11)*J11/7) -> 0 | S11: =O11+P11 -> 12.70091 | T11: =(1-AC11)*100 -> 87.050118 | U11: =281*T11/100 -> 244.61083 | V11: =W11/281*100 -> 71.87056 | W11: =T11*232/100 -> 201.95627 | X11: 7.8 | Y11: =G11/((I11-D11)/365)*X11 -> 106542.99 | Z11: =X11-L11 -> 5.4547945 | AA11: =IF(AND(X11<=5,Y11<60000),"Yes","No") -> No | AB11: =(S11+R11)/100 -> 0.1270091 | AC11: =(O11+Q11+R11)/100 -> 0.12949882 | AD11: =($B$75-H11)/$B$75 -> 0.13418868 | AE11: =AD11-AC11 -> 0.0046898592 | AF11: =AD11-AB11 -> 0.0071795821 | AG11: =AE11-AF11 -> -0.0024897229 | AH11: =AD11/AC11 -> 1.0362155
A12: =1+A11 -> 8 | B12: rickbecker | C12: 40589 | D12: 40653 | E12: San Diego, CA | F12: 4.2 | G12: 7117 | H12: 57.12 | I12: 41527 | J12: 0 | K12: =(I12-C12)/365 -> 2.569863 | L12: =(I12-D12)/365 -> 2.3945205 | M12: =VLOOKUP(E12,'Aging Factor'!$A$145:$H$242,5,1) -> 0.8820189 | N12: =VLOOKUP(E12,'Aging Factor'!$A$145:$H$242,8,1) -> 1.1854351 | O12: =(M12*$B$49*SQRT(K12))-((0.32989795*K12)-1.302) -> 10.210436 | P12: =$B$50*M12*(G12/12500)*('Degradation Model'!$B$26/F12) -> 1.1184525 | Q12: =IF(L12<1,P12,(VLOOKUP(INT(L12)+1,A$321:L$335,4,1)-VLOOKUP(INT(L12),A$321:L$335,4,1))*(L12-INT(L12))+VLOOKUP(INT(L12),A$321:L$335,4,1)) -> 1.1806546 | R12: =((N12-1)*(O12+Q12)*J12/7) -> 0 | S12: =O12+P12 -> 11.328889 | T12: =(1-AC12)*100 -> 88.608909 | U12: =281*T12/100 -> 248.99104 | V12: =W12/281*100 -> 73.157534 | W12: =T12*232/100 -> 205.57267 | X12: 16.2 | Y12: =G12/((I12-D12)/365)*X12 -> 48149.681 | Z12: =X12-L12 -> 13.805479 | AA12: =IF(AND(X12<=5,Y12<60000),"Yes","No") -> No | AB12: =(S12+R12)/100 -> 0.11328889 | AC12: =(O12+Q12+R12)/100 -> 0.11391091 | AD12: =($B$75-H12)/$B$75 -> 0.13781132 | AE12: =AD12-AC12 -> 0.023900414 | AF12: =AD12-AB12 -> 0.024522435 | AG12: =AE12-AF12 -> -0.00062202129 | AH12: =AD12/AC12 -> 1.2098167
A13: =1+A12 -> 9 | B13: FairwoodRed | C13: 40617 | D13: 40721 | E13: Seattle, WA | F13: 3.9 | G13: 49758 | H13: 54.49 | I13: 41529 | J13: 4.5 | K13: =(I13-C13)/365 -> 2.4986301 | L13: =(I13-D13)/365 -> 2.2136986 | M13: =VLOOKUP(E13,'Aging Factor'!$A$145:$H$242,5,1) -> 0.71790831 | N13: =VLOOKUP(E13,'Aging Factor'!$A$145:$H$242,8,1) -> 1.1074565 | O13: =(M13*$B$49*SQRT(K13))-((0.32989795*K13)-1.302) -> 8.3078386 | P13: =$B$50*M13*(G13/12500)*('Degradation Model'!$B$26/F13) -> 6.8542393 | Q13: =IF(L13<1,P13,(VLOOKUP(INT(L13)+1,A$343:L$357,4,1)-VLOOKUP(INT(L13),A$343:L$357,4,1))*(L13-INT(L13))+VLOOKUP(INT(L13),A$343:L$357,4,1)) -> 7.3301309 | R13: =((N13-1)*(O13+Q13)*J13/7) -> 1.0802578 | S13: =O13+P13 -> 15.162078 | T13: =(1-AC13)*100 -> 83.281773 | U13: =281*T13/100 -> 234.02178 | V13: =W13/281*100 -> 68.759328 | W13: =T13*232/100 -> 193.21371 | X13: 4.7 | Y13: =G13/((I13-D13)/365)*X13 -> 105643.38 | Z13: =X13-L13 -> 2.4863014 | AA13: =IF(AND(X13<=5,Y13<60000),"Yes","No") -> No | AB13: =(S13+R13)/100 -> 0.16242336 | AC13: =(O13+Q13+R13)/100 -> 0.16718227 | AD13: =($B$75-H13)/$B$75 -> 0.17750943 | AE13: =AD13-AC13 -> 0.01032716 | AF13: =AD13-AB13 -> 0.015086077 | AG13: =AE13-AF13 -> -0.0047589165 | AH13: =AD13/AC13 -> 1.0617719
A14: =1+A13 -> 10 | B14: Stoaty | C14: 40648 | D14: 40706 | E14: Van Nuys, CA | F14: 5.6 | G14: 20900 | H14: 56.78 | I14: 41534 | J14: 4 | K14: =(I14-C14)/365 -> 2.4273973 | L14: =(I14-D14)/365 -> 2.2684932 | M14: =VLOOKUP(E14,'Aging Factor'!$A$145:$H$242,5,1) -> 0.98588743 | N14: =VLOOKUP(E14,'Aging Factor'!$A$145:$H$242,8,1) -> 1.1854351 | O14: =(M14*$B$49*SQRT(K14))-((0.32989795*K14)-1.302) -> 11.099766 | P14: =$B$50*M14*(G14/12500)*('Degradation Model'!$B$26/F14) -> 2.7534523 | Q14: =IF(L14<1,P14,(VLOOKUP(INT(L14)+1,A$365:L$379,4,1)-VLOOKUP(INT(L14),A$365:L$379,4,1))*(L14-INT(L14))+VLOOKUP(INT(L14),A$365:L$379,4,1)) -> 2.9507089 | R14: =((N14-1)*(O14+Q14)*J14/7) -> 1.4888292 | S14: =O14+P14 -> 13.853219 | T14: =(1-AC14)*100 -> 84.460696 | U14: =281*T14/100 -> 237.33455 | V14: =W14/281*100 -> 69.732674 | W14: =T14*232/100 -> 195.94881 | X14: 6.8 | Y14: =G14/((I14-D14)/365)*X14 -> 62649.517 | Z14: =X14-L14 -> 4.5315068 | AA14: =IF(AND(X14<=5,Y14<60000),"Yes","No") -> No | AB14: =(S14+R14)/100 -> 0.15342048 | AC14: =(O14+Q14+R14)/100 -> 0.15539304 | AD14: =($B$75-H14)/$B$75 -> 0.1429434 | AE14: =AD14-AC14 -> -0.012449648 | AF14: =AD14-AB14 -> -0.010477082 | AG14: =AE14-AF14 -> -0.0019725661 | AH14: =AD14/AC14 -> 0.91988285
A15: =1+A14 -> 11 | B15: ColumbianRiverGorge | C15: 40678 | D15: 40730 | E15: Pittsburgh, PA | F15: 3.9 | G15: 40402 | H15: 54.6 | I15: 41527 | J15: 5 | K15: =(I15-C15)/365 -> 2.3260274 | L15: =(I15-D15)/365 -> 2.1835616 | M15: =VLOOKUP(E15,'Aging Factor'!$A$145:$H$242,5,1) -> 0.76954202 | N15: =VLOOKUP(E15,'Aging Factor'!$A$145:$H$242,8,1) -> 1.1328621 | O15: =(M15*$B$49*SQRT(K15))-((0.32989795*K15)-1.302) -> 8.6328547 | P15: =$B$50*M15*(G15/12500)*('Degradation Model'!$B$26/F15) -> 5.9657159 | Q15: =IF(L15<1,P15,(VLOOKUP(INT(L15)+1,A$387:L$401,4,1)-VLOOKUP(INT(L15),A$387:L$401,4,1))*(L15-INT(L15))+VLOOKUP(INT(L15),A$387:L$401,4,1)) -> 6.3685513 | R15: =((N15-1)*(O15+Q15)*J15/7) -> 1.4236556 | S15: =O15+P15 -> 14.598571 | T15: =(1-AC15)*100 -> 83.574938 | U15: =281*T15/100 -> 234.84558 | V15: =W15/281*100 -> 69.001373 | W15: =T15*232/100 -> 193.89386 | X15: 4.8 | Y15: =G15/((I15-D15)/365)*X15 -> 88813.43 | Z15: =X15-L15 -> 2.6164384 | AA15: =IF(AND(X15<=5,Y15<60000),"Yes","No") -> No | AB15: =(S15+R15)/100 -> 0.16022226 | AC15: =(O15+Q15+R15)/100 -> 0.16425062 | AD15: =($B$75-H15)/$B$75 -> 0.17584906 | AE15: =AD15-AC15 -> 0.01159844 | AF15: =AD15-AB15 -> 0.015626794 | AG15: =AE15-AF15 -> -0.0040283547 | AH15: =AD15/AC15 -> 1.0706143
A16: =1+A15 -> 12 | B16: 91040 | C16: 40617 | D16: 40669 | E16: Van Nuys, CA | F16: 4.8 | G16: 54725 | H16: 52.13 | I16: 41520 | J16: 2.5 | K16: =(I16-C16)/365 -> 2.4739726 | L16: =(I16-D16)/365 -> 2.3315068 | M16: =VLOOKUP(E16,'Aging Factor'!$A$145:$H$242,5,1) -> 0.98588743 | N16: =VLOOKUP(E16,'Aging Factor'!$A$145:$H$242,8,1) -> 1.1854351 | O16: =(M16*$B$49*SQRT(K16))-((0.32989795*K16)-1.302) -> 11.185597 | P16: =$B$50*M16*(G16/12500)*('Degradation Model'!$B$26/F16) -> 8.4113137 | Q16: =IF(L16<1,P16,(VLOOKUP(INT(L16)+1,A$409:L$423,4,1)-VLOOKUP(INT(L16),A$409:L$423,4,1))*(L16-INT(L16))+VLOOKUP(INT(L16),A$409:L$423,4,1)) -> 9.2204046 | R16: =((N16-1)*(O16+Q16)*J16/7) -> 1.3514246 | S16: =O16+P16 -> 19.596911 | T16: =(1-AC16)*100 -> 78.242574 | U16: =281*T16/100 -> 219.86163 | V16: =W16/281*100 -> 64.598851 | W16: =T16*232/100 -> 181.52277 | X16: 3.5 | Y16: =G16/((I16-D16)/365)*X16 -> 82151.807 | Z16: =X16-L16 -> 1.1684932 | AA16: =IF(AND(X16<=5,Y16<60000),"Yes","No") -> No | AB16: =(S16+R16)/100 -> 0.20948336 | AC16: =(O16+Q16+R16)/100 -> 0.21757426 | AD16: =($B$75-H16)/$B$75 -> 0.21313208 | AE16: =AD16-AC16 -> -0.0044421883 | AF16: =AD16-AB16 -> 0.0036487201 | AG16: =AE16-AF16 -> -0.0080909084 | AH16: =AD16/AC16 -> 0.97958312
A17: =1+A16 -> 13 | B17: JeremyW | C17: 40954 | D17: 41083 | E17: Van Nuys, CA | F17: 3.9 | G17: 18119 | H17: 57.51 | I17: 41532 | J17: 3 | K17: =(I17-C17)/365 -> 1.5835616 | L17: =(I17-D17)/365 -> 1.230137 | M17: =VLOOKUP(E17,'Aging Factor'!$A$145:$H$242,5,1) -> 0.98588743 | N17: =VLOOKUP(E17,'Aging Factor'!$A$145:$H$242,8,1) -> 1.1854351 | O17: =(M17*$B$49*SQRT(K17))-((0.32989795*K17)-1.302) -> 9.3399833 | P17: =$B$50*M17*(G17/12500)*('Degradation Model'!$B$26/F17) -> 3.4275904 | Q17: =IF(L17<1,P17,(VLOOKUP(INT(L17)+1,A$431:L$445,4,1)-VLOOKUP(INT(L17),A$431:L$445,4,1))*(L17-INT(L17))+VLOOKUP(INT(L17),A$431:L$445,4,1)) -> 3.5189801 | R17: =((N17-1)*(O17+Q17)*J17/7) -> 1.0219299 | S17: =O17+P17 -> 12.767574 | T17: =(1-AC17)*100 -> 86.119107 | U17: =281*T17/100 -> 241.99469 | V17: =W17/281*100 -> 71.101896 | W17: =T17*232/100 -> 199.79633 | X17: 4.1 | Y17: =G17/((I17-D17)/365)*X17 -> 60389.941 | Z17: =X17-L17 -> 2.869863 | AA17: =IF(AND(X17<=5,Y17<60000),"Yes","No") -> No | AB17: =(S17+R17)/100 -> 0.13789504 | AC17: =(O17+Q17+R17)/100 -> 0.13880893 | AD17: =($B$75-H17)/$B$75 -> 0.13192453 | AE17: =AD17-AC17 -> -0.0068844046 | AF17: =AD17-AB17 -> -0.0059705072 | AG17: =AE17-AF17 -> -0.00091389747 | AH17: =AD17/AC17 -> 0.95040373
A18: =1+A17 -> 14 | B18: madbrain | C18: 41075 | D18: 41202 | E18: San Jose, CA | F18: 3.5 | G18: 9304 | H18: 61.49 | I18: 41536 | J18: 4 | K18: =(I18-C18)/365 -> 1.2630137 | L18: =(I18-D18)/365 -> 0.91506849 | M18: =VLOOKUP(E18,'Aging Factor'!$A$145:$H$242,5,1) -> 0.84223088 | N18: =VLOOKUP(E18,'Aging Factor'!$A$145:$H$242,8,1) -> 1.1854351 | O18: =(M18*$B$49*SQRT(K18))-((0.32989795*K18)-1.302) -> 7.4164035 | P18: =$B$50*M18*(G18/12500)*('Degradation Model'!$B$26/F18) -> 1.6754242 | Q18: =IF(L18<1,P18,(VLOOKUP(INT(L18)+1,A$453:L$467,4,1)-VLOOKUP(INT(L18),A$453:L$467,4,1))*(L18-INT(L18))+VLOOKUP(INT(L18),A$453:L$467,4,1)) -> 1.6754242 | R18: =((N18-1)*(O18+Q18)*J18/7) -> 0.9633965 | S18: =O18+P18 -> 9.0918277 | T18: =(1-AC18)*100 -> 89.944776 | U18: =281*T18/100 -> 252.74482 | V18: =W18/281*100 -> 74.260455 | W18: =T18*232/100 -> 208.67188 | X18: 6 | Y18: =G18/((I18-D18)/365)*X18 -> 61005.269 | Z18: =X18-L18 -> 5.0849315 | AA18: =IF(AND(X18<=5,Y18<60000),"Yes","No") -> No | AB18: =(S18+R18)/100 -> 0.10055224 | AC18: =(O18+Q18+R18)/100 -> 0.10055224 | AD18: =($B$75-H18)/$B$75 -> 0.071849057 | AE18: =AD18-AC18 -> -0.028703185 | AF18: =AD18-AB18 -> -0.028703185 | AG18: =AE18-AF18 -> 0 | AH18: =AD18/AC18 -> 0.71454455
A19: =1+A18 -> 15 | B19: garygTx | C19: 40678 | D19: 40859 | E19: Dallas, TX | F19: 5.4 | G19: 20004 | H19: 52.22 | I19: 41536 | J19: 7 | K19: =(I19-C19)/365 -> 2.3506849 | L19: =(I19-D19)/365 -> 1.8547945 | M19: =VLOOKUP(E19,'Aging Factor'!$A$145:$H$242,5,1) -> 1.1886265 | N19: =VLOOKUP(E19,'Aging Factor'!$A$145:$H$242,8,1) -> 1.1720674 | O19: =(M19*$B$49*SQRT(K19))-((0.32989795*K19)-1.302) -> 13.101043 | P19: =$B$50*M19*(G19/12500)*('Degradation Model'!$B$26/F19) -> 3.2950383 | Q19: =IF(L19<1,P19,(VLOOKUP(INT(L19)+1,A$475:L$489,4,1)-VLOOKUP(INT(L19),A$475:L$489,4,1))*(L19-INT(L19))+VLOOKUP(INT(L19),A$475:L$489,4,1)) -> 3.5585466 | R19: =((N19-1)*(O19+Q19)*J19/7) -> 2.8665725 | S19: =O19+P19 -> 16.396081 | T19: =(1-AC19)*100 -> 80.473838 | U19: =281*T19/100 -> 226.13149 | V19: =W19/281*100 -> 66.441034 | W19: =T19*232/100 -> 186.69931 | X19: 3.9 | Y19: =G19/((I19-D19)/365)*X19 -> 42061.586 | Z19: =X19-L19 -> 2.0452055 | AA19: =IF(AND(X19<=5,Y19<60000),"Yes","No") -> Yes | AB19: =(S19+R19)/100 -> 0.19262653 | AC19: =(O19+Q19+R19)/100 -> 0.19526162 | AD19: =($B$75-H19)/$B$75 -> 0.21177358 | AE19: =AD19-AC19 -> 0.016511969 | AF19: =AD19-AB19 -> 0.019147051 | AG19: =AE19-AF19 -> -0.0026350826 | AH19: =AD19/AC19 -> 1.0845633
A20: =1+A19 -> 16 | B20: Armand | C20: 40678 | D20: 40782 | E20: San Francisco, CA | F20: 4.2 | G20: 31723 | H20: 56.52 | I20: 41533 | J20: 7 | K20: =(I20-C20)/365 -> 2.3424658 | L20: =(I20-D20)/365 -> 2.0575342 | M20: =VLOOKUP(E20,'Aging Factor'!$A$145:$H$242,5,1) -> 0.76206059 | N20: =VLOOKUP(E20,'Aging Factor'!$A$145:$H$242,8,1) -> 1.1854351 | O20: =(M20*$B$49*SQRT(K20))-((0.32989795*K20)-1.302) -> 8.576989 | P20: =$B$50*M20*(G20/12500)*('Degradation Model'!$B$26/F20) -> 4.307313 | Q20: =IF(L20<1,P20,(VLOOKUP(INT(L20)+1,A$497:L$511,4,1)-VLOOKUP(INT(L20),A$497:L$511,4,1))*(L20-INT(L20))+VLOOKUP(INT(L20),A$497:L$511,4,1)) -> 4.5770268 | R20: =((N20-1)*(O20+Q20)*J20/7) -> 2.4392161 | S20: =O20+P20 -> 12.884302 | T20: =(1-AC20)*100 -> 84.406768 | U20: =281*T20/100 -> 237.18302 | V20: =W20/281*100 -> 69.68815 | W20: =T20*232/100 -> 195.8237 | X20: 5.3 | Y20: =G20/((I20-D20)/365)*X20 -> 81715.238 | Z20: =X20-L20 -> 3.2424658 | AA20: =IF(AND(X20<=5,Y20<60000),"Yes","No") -> No | AB20: =(S20+R20)/100 -> 0.15323518 | AC20: =(O20+Q20+R20)/100 -> 0.15593232 | AD20: =($B$75-H20)/$B$75 -> 0.14686792 | AE20: =AD20-AC20 -> -0.0090643947 | AF20: =AD20-AB20 -> -0.0063672567 | AG20: =AE20-AF20 -> -0.002697138 | AH20: =AD20/AC20 -> 0.94186969
A21: =1+A20 -> 17 | B21: TickTock | C21: 40648 | D21: 40694 | E21: Phoenix, AZ | F21: 4.4 | G21: 31056 | H21: 46.69 | I21: 41533 | J21: 0 | K21: =(I21-C21)/365 -> 2.4246575 | L21: =(I21-D21)/365 -> 2.2986301 | M21: =VLOOKUP(E21,'Aging Factor'!$A$145:$H$242,5,1) -> 1.6292355 | N21: =VLOOKUP(E21,'Aging Factor'!$A$145:$H$242,8,1) -> 1.2264598 | O21: =(M21*$B$49*SQRT(K21))-((0.32989795*K21)-1.302) -> 18.006951 | P21: =$B$50*M21*(G21/12500)*('Degradation Model'!$B$26/F21) -> 8.6053529 | Q21: =IF(L21<1,P21,(VLOOKUP(INT(L21)+1,A$519:L$533,4,1)-VLOOKUP(INT(L21),A$519:L$533,4,1))*(L21-INT(L21))+VLOOKUP(INT(L21),A$519:L$533,4,1)) -> 9.7278176 | R21: =((N21-1)*(O21+Q21)*J21/7) -> 0 | S21: =O21+P21 -> 26.612304 | T21: =(1-AC21)*100 -> 72.265231 | U21: =281*T21/100 -> 203.0653 | V21: =W21/281*100 -> 59.663821 | W21: =T21*232/100 -> 167.65534 | X21: 2.5 | Y21: =G21/((I21-D21)/365)*X21 -> 33776.639 | Z21: =X21-L21 -> 0.20136986 | AA21: =IF(AND(X21<=5,Y21<60000),"Yes","No") -> Yes | AB21: =(S21+R21)/100 -> 0.26612304 | AC21: =(O21+Q21+R21)/100 -> 0.27734769 | AD21: =($B$75-H21)/$B$75 -> 0.29524528 | AE21: =AD21-AC21 -> 0.017897593 | AF21: =AD21-AB21 -> 0.02912224 | AG21: =AE21-AF21 -> -0.011224647 | AH21: =AD21/AC21 -> 1.0645313
A22: =1+A21 -> 18 | B22: KJD | C22: 40862 | D22: 40885 | E22: Salt Lake City, UT | F22: 4.8 | G22: 16092 | H22: 59.37 | I22: 41537 | J22: 0 | K22: =(I22-C22)/365 -> 1.8493151 | L22: =(I22-D22)/365 -> 1.7863014 | M22: =VLOOKUP(E22,'Aging Factor'!$A$145:$H$242,5,1) -> 0.8157616 | N22: =VLOOKUP(E22,'Aging Factor'!$A$145:$H$242,8,1) -> 1.1854351 | O22: =(M22*$B$49*SQRT(K22))-((0.32989795*K22)-1.302) -> 8.3464319 | P22: =$B$50*M22*(G22/12500)*('Degradation Model'!$B$26/F22) -> 2.0465578 | Q22: =IF(L22<1,P22,(VLOOKUP(INT(L22)+1,A$541:L$555,4,1)-VLOOKUP(INT(L22),A$541:L$555,4,1))*(L22-INT(L22))+VLOOKUP(INT(L22),A$541:L$555,4,1)) -> 2.1238347 | R22: =((N22-1)*(O22+Q22)*J22/7) -> 0 | S22: =O22+P22 -> 10.39299 | T22: =(1-AC22)*100 -> 89.529733 | U22: =281*T22/100 -> 251.57855 | V22: =W22/281*100 -> 73.917787 | W22: =T22*232/100 -> 207.70898 | X22: 10.1 | Y22: =G22/((I22-D22)/365)*X22 -> 90986.439 | Z22: =X22-L22 -> 8.3136986 | AA22: =IF(AND(X22<=5,Y22<60000),"Yes","No") -> No | AB22: =(S22+R22)/100 -> 0.1039299 | AC22: =(O22+Q22+R22)/100 -> 0.10470267 | AD22: =($B$75-H22)/$B$75 -> 0.10384906 | AE22: =AD22-AC22 -> -0.00085360925 | AF22: =AD22-AB22 -> -8.0840338e-05 | AG22: =AE22-AF22 -> -0.00077276892 | AH22: =AD22/AC22 -> 0.9918473
A23: =1+A22 -> 19 | B23: uwskier20 | C23: 40617 | D23: 40681 | E23: Seattle, WA | F23: 4.1 | G23: 42300 | H23: 55.96 | I23: 41537 | J23: 1 | K23: =(I23-C23)/365 -> 2.5205479 | L23: =(I23-D23)/365 -> 2.3452055 | M23: =VLOOKUP(E23,'Aging Factor'!$A$145:$H$242,5,1) -> 0.71790831 | N23: =VLOOKUP(E23,'Aging Factor'!$A$145:$H$242,8,1) -> 1.1074565 | O23: =(M23*$B$49*SQRT(K23))-((0.32989795*K23)-1.302) -> 8.3348757 | P23: =$B$50*M23*(G23/12500)*('Degradation Model'!$B$26/F23) -> 5.5426501 | Q23: =IF(L23<1,P23,(VLOOKUP(INT(L23)+1,A$563:L$577,4,1)-VLOOKUP(INT(L23),A$563:L$577,4,1))*(L23-INT(L23))+VLOOKUP(INT(L23),A$563:L$577,4,1)) -> 5.8925109 | R23: =((N23-1)*(O23+Q23)*J23/7) -> 0.21840354 | S23: =O23+P23 -> 13.877526 | T23: =(1-AC23)*100 -> 85.55421 | U23: =281*T23/100 -> 240.40733 | V23: =W23/281*100 -> 70.635504 | W23: =T23*232/100 -> 198.48577 | X23: 6.2 | Y23: =G23/((I23-D23)/365)*X23 -> 111828.15 | Z23: =X23-L23 -> 3.8547945 | AA23: =IF(AND(X23<=5,Y23<60000),"Yes","No") -> No | AB23: =(S23+R23)/100 -> 0.14095929 | AC23: =(O23+Q23+R23)/100 -> 0.1444579 | AD23: =($B$75-H23)/$B$75 -> 0.15532075 | AE23: =AD23-AC23 -> 0.010862854 | AF23: =AD23-AB23 -> 0.014361462 | AG23: =AE23-AF23 -> -0.0034986077 | AH23: =AD23/AC23 -> 1.0751974
A24: =1+A23 -> 20 | B24: ttweed | C24: 40617 | D24: 40634 | E24: San Diego, CA | F24: 4.3 | G24: 35499 | H24: 52.99 | I24: 41529 | J24: 7 | K24: =(I24-C24)/365 -> 2.4986301 | L24: =(I24-D24)/365 -> 2.4520548 | M24: =VLOOKUP(E24,'Aging Factor'!$A$145:$H$242,5,1) -> 0.8820189 | N24: =VLOOKUP(E24,'Aging Factor'!$A$145:$H$242,8,1) -> 1.1854351 | O24: =(M24*$B$49*SQRT(K24))-((0.32989795*K24)-1.302) -> 10.097771 | P24: =$B$50*M24*(G24/12500)*('Degradation Model'!$B$26/F24) -> 5.449009 | Q24: =IF(L24<1,P24,(VLOOKUP(INT(L24)+1,A$585:L$599,4,1)-VLOOKUP(INT(L24),A$585:L$599,4,1))*(L24-INT(L24))+VLOOKUP(INT(L24),A$585:L$599,4,1)) -> 5.9287157 | R24: =((N24-1)*(O24+Q24)*J24/7) -> 2.971873 | S24: =O24+P24 -> 15.54678 | T24: =(1-AC24)*100 -> 81.00164 | U24: =281*T24/100 -> 227.61461 | V24: =W24/281*100 -> 66.876799 | W24: =T24*232/100 -> 187.92381 | X24: 4.6 | Y24: =G24/((I24-D24)/365)*X24 -> 66595.331 | Z24: =X24-L24 -> 2.1479452 | AA24: =IF(AND(X24<=5,Y24<60000),"Yes","No") -> No | AB24: =(S24+R24)/100 -> 0.18518653 | AC24: =(O24+Q24+R24)/100 -> 0.1899836 | AD24: =($B$75-H24)/$B$75 -> 0.20015094 | AE24: =AD24-AC24 -> 0.010167345 | AF24: =AD24-AB24 -> 0.014964412 | AG24: =AE24-AF24 -> -0.004797067 | AH24: =AD24/AC24 -> 1.053517
A25: =1+A24 -> 21 | B25: Devin | C25: 40678 | D25: 40710 | E25: Van Nuys, CA | F25: 4.4 | G25: 26328 | H25: 56.09 | I25: 41534 | J25: 5 | K25: =(I25-C25)/365 -> 2.3452055 | L25: =(I25-D25)/365 -> 2.2575342 | M25: =VLOOKUP(E25,'Aging Factor'!$A$145:$H$242,5,1) -> 0.98588743 | N25: =VLOOKUP(E25,'Aging Factor'!$A$145:$H$242,8,1) -> 1.1854351 | O25: =(M25*$B$49*SQRT(K25))-((0.32989795*K25)-1.302) -> 10.945902 | P25: =$B$50*M25*(G25/12500)*('Degradation Model'!$B$26/F25) -> 4.4145302 | Q25: =IF(L25<1,P25,(VLOOKUP(INT(L25)+1,A$607:L$621,4,1)-VLOOKUP(INT(L25),A$607:L$621,4,1))*(L25-INT(L25))+VLOOKUP(INT(L25),A$607:L$621,4,1)) -> 4.7638469 | R25: =((N25-1)*(O25+Q25)*J25/7) -> 2.0808134 | S25: =O25+P25 -> 15.360432 | T25: =(1-AC25)*100 -> 82.209438 | U25: =281*T25/100 -> 231.00852 | V25: =W25/281*100 -> 67.873984 | W25: =T25*232/100 -> 190.7259 | X25: 4.9 | Y25: =G25/((I25-D25)/365)*X25 -> 57145.18 | Z25: =X25-L25 -> 2.6424658 | AA25: =IF(AND(X25<=5,Y25<60000),"Yes","No") -> Yes | AB25: =(S25+R25)/100 -> 0.17441246 | AC25: =(O25+Q25+R25)/100 -> 0.17790562 | AD25: =($B$75-H25)/$B$75 -> 0.15335849 | AE25: =AD25-AC25 -> -0.024547133 | AF25: =AD25-AB25 -> -0.021053967 | AG25: =AE25-AF25 -> -0.0034931667 | AH25: =AD25/AC25 -> 0.8620216
A26: =1+A25 -> 22 | B26: vrwl | C26: 40770 | D26: 41075 | E26: Dallas, TX | F26: 4.5 | G26: 7772 | H26: 56.36 | I26: 41536 | J26: 2 | K26: =(I26-C26)/365 -> 2.0986301 | L26: =(I26-D26)/365 -> 1.2630137 | M26: =VLOOKUP(E26,'Aging Factor'!$A$145:$H$242,5,1) -> 1.1886265 | N26: =VLOOKUP(E26,'Aging Factor'!$A$145:$H$242,8,1) -> 1.1720674 | O26: =(M26*$B$49*SQRT(K26))-((0.32989795*K26)-1.302) -> 12.490925 | P26: =$B$50*M26*(G26/12500)*('Degradation Model'!$B$26/F26) -> 1.536235 | Q26: =IF(L26<1,P26,(VLOOKUP(INT(L26)+1,A$629:L$643,4,1)-VLOOKUP(INT(L26),A$629:L$643,4,1))*(L26-INT(L26))+VLOOKUP(INT(L26),A$629:L$649,4,1)) -> 1.5868696 | R26: =((N26-1)*(O26+Q26)*J26/7) -> 0.69209422 | S26: =O26+P26 -> 14.02716 | T26: =(1-AC26)*100 -> 85.230111 | U26: =281*T26/100 -> 239.49661 | V26: =W26/281*100 -> 70.367921 | W26: =T26*232/100 -> 197.73386 | X26: 5.7 | Y26: =G26/((I26-D26)/365)*X26 -> 35075.154 | Z26: =X26-L26 -> 4.4369863 | AA26: =IF(AND(X26<=5,Y26<60000),"Yes","No") -> No | AB26: =(S26+R26)/100 -> 0.14719254 | AC26: =(O26+Q26+R26)/100 -> 0.14769889 | AD26: =($B$75-H26)/$B$75 -> 0.14928302 | AE26: =AD26-AC26 -> 0.00158413 | AF26: =AD26-AB26 -> 0.0020904757 | AG26: =AE26-AF26 -> -0.00050634568 | AH26: =AD26/AC26 -> 1.0107254
A27: =1+A26 -> 23
A28: =1+A27 -> 24 | W28: Mean | X28: =AVERAGE(X5:X25) -> 5.752381 | Y28: =AVERAGE(Y5:Y25) -> 71561.3 | AD28: Mean | AE28: =AVERAGE(AE5:AE26) -> 0.0012420557 | AF28: =AVERAGE(AF5:AF26) -> 0.0049796362 | AG28: =AVERAGE(AG5:AG26) -> -0.0037375806 | AH28: =AVERAGE(AH5:AH26) -> 1.0003519
A29: =1+A28 -> 25 | W29: Standard Dev | X29: =_xlfn.STDEV.S(X5:X26) -> #NAME? | Y29: =_xlfn.STDEV.S(Y5:Y26) -> #NAME? | AD29: Standard Dev | AE29: =_xlfn.STDEV.S(AE5:AE26) -> #NAME? | AF29: =_xlfn.STDEV.S(AF5:AF26) -> #NAME? | AG29: =_xlfn.STDEV.S(AG5:AG26) -> #NAME? | AH29: =_xlfn.STDEV.S(AH5:AH26) -> #NAME?
A30: =1+A29 -> 26 | B30: No P3227 update | W30: Median | X30: =MEDIAN(X5:X26) -> 5.05 | Y30: =MEDIAN(Y5:Y26) -> 63782.406 | AD30: Median | AE30: =MEDIAN(AE5:AE26) -> 0.00153648 | AF30: =MEDIAN(AF5:AF26) -> 0.0053938318 | AG30: =MEDIAN(AG5:AG26) -> -0.0028254437 | AH30: =MEDIAN(AH5:AH26) -> 1.010077
A31: =1+A30 -> 27
A32: =1+A31 -> 28 | B32: mwalsh | C32: 40497 | D32: 40548 | E32: Van Nuys, CA | F32: 4.9 | G32: 33700 | H32: 52.54 | I32: 41512 | J32: 7 | K32: =(I32-C32)/365 -> 2.7808219 | L32: =(I32-D32)/365 -> 2.6410959 | M32: =VLOOKUP(E32,'Aging Factor'!$A$145:$H$242,5,1) -> 0.98588743 | N32: =VLOOKUP(E32,'Aging Factor'!$A$145:$H$242,8,1) -> 1.1854351 | O32: =(M32*$B$49*SQRT(K32))-((0.32989795*K32)-1.302) -> 11.728529 | P32: =K32*$B$50*M32*(G32/K32)/12500*'Degradation Model'!$B$26/F32 -> 5.074031 | Q32: =P32-(100*AG32) -> 5.6956871 | R32: =((N32-1)*S32*J32/7) -> 3.1157842 | S32: =O32+P32 -> 16.80256 | T32: =(1-AC32)*100 -> 79.46 | U32: =281*T32/100 -> 223.2826 | V32: =W32/281*100 -> 65.603986 | W32: =T32*232/100 -> 184.3472 | X32: 4.6 | Y32: =G32/((I32-D32)/365)*X32 -> 58695.332 | Z32: =X32-L32 -> 1.9589041 | AA32: =IF(AND(X32<=5,Y32<60000),"Yes","No") -> Yes | AB32: =(S32+R32)/100 -> 0.19918344 | AC32: 0.2054 | AD32: =($B$75-H32)/$B$75 -> 0.2069434 | AE32: =AD32-AC32 -> 0.0015433962 | AF32: =AD32-AB32 -> 0.0077599567 | AG32: =AE32-AF32 -> -0.0062165605 | AH32: =AD32/AC32 -> 1.0075141
A33: =1+A32 -> 29 | B33: kolmstead | C33: 40497 | D33: 40558 | E33: Ridgecrest, CA | F33: 5.2 | G33: 23660 | H33: 49 | I33: 41527 | J33: 4.5 | K33: =(I33-C33)/365 -> 2.8219178 | L33: =(I33-D33)/365 -> 2.6547945 | M33: =VLOOKUP(E33,'Aging Factor'!$A$145:$H$242,5,1) -> 1.2332203 | N33: =VLOOKUP(E33,'Aging Factor'!$A$145:$H$242,8,1) -> 1.2264598 | O33: =(M33*$B$49*SQRT(K33))-((0.32989795*K33)-1.302) -> 14.665324 | P33: =K33*$B$50*M33*(G33/K33)/12500*'Degradation Model'!$B$26/F33 -> 4.1989821 | Q33: =P33-(100*AG33) -> 4.7583858 | R33: =((N33-1)*S33*J33/7) -> 2.7462907 | S33: =O33+P33 -> 18.864306 | T33: =(1-AC33)*100 -> 77.83 | U33: =281*T33/100 -> 218.7023 | V33: =W33/281*100 -> 64.258221 | W33: =T33*232/100 -> 180.5656 | X33: 4.3 | Y33: =G33/((I33-D33)/365)*X33 -> 38322.363 | Z33: =X33-L33 -> 1.6452055 | AA33: =IF(AND(X33<=5,Y33<60000),"Yes","No") -> Yes | AB33: =(S33+R33)/100 -> 0.21610596 | AC33: 0.2217 | AD33: =($B$75-H33)/$B$75 -> 0.26037736 | AE33: =AD33-AC33 -> 0.038677358 | AF33: =AD33-AB33 -> 0.044271395 | AG33: =AE33-AF33 -> -0.0055940364 | AH33: =AD33/AC33 -> 1.1744581
A34: =1+A33 -> 30 | B34: SJFlyer | C34: 40617 | D34: 40663 | E34: San Jose, CA | F34: 4.2 | G34: 36563 | H34: 54.22 | I34: 41536 | J34: 5 | K34: =(I34-C34)/365 -> 2.5178082 | L34: =(I34-D34)/365 -> 2.3917808 | M34: =VLOOKUP(E34,'Aging Factor'!$A$145:$H$242,5,1) -> 0.84223088 | N34: =VLOOKUP(E34,'Aging Factor'!$A$145:$H$242,8,1) -> 1.1854351 | O34: =(M34*$B$49*SQRT(K34))-((0.32989795*K34)-1.302) -> 9.6926679 | P34: =K34*$B$50*M34*(G34/K34)/12500*'Degradation Model'!$B$26/F34 -> 5.4867562 | Q34: =P34-(100*AG34) -> 5.9867622 | R34: =((N34-1)*S34*J34/7) -> 2.0105699 | S34: =O34+P34 -> 15.179424 | T34: =(1-AC34)*100 -> 82.31 | U34: =281*T34/100 -> 231.2911 | V34: =W34/281*100 -> 67.957011 | W34: =T34*232/100 -> 190.9592 | X34: 5 | Y34: =G34/((I34-D34)/365)*X34 -> 76434.679 | Z34: =X34-L34 -> 2.6082192 | AA34: =IF(AND(X34<=5,Y34<60000),"Yes","No") -> No | AB34: =(S34+R34)/100 -> 0.17189994 | AC34: 0.1769 | AD34: =($B$75-H34)/$B$75 -> 0.18158491 | AE34: =AD34-AC34 -> 0.0046849057 | AF34: =AD34-AB34 -> 0.0096849656 | AG34: =AE34-AF34 -> -0.0050000599 | AH34: =AD34/AC34 -> 1.0264834
A35: =1+A34 -> 31 | B35: ecoobsessive | C35: 40617 | D35: 40683 | E35: San Antonio, TX | F35: 4.7 | G35: 24543 | H35: 49.35 | I35: 41537 | J35: 5 | K35: =(I35-C35)/365 -> 2.5205479 | L35: =(I35-D35)/365 -> 2.339726 | M35: =VLOOKUP(E35,'Aging Factor'!$A$145:$H$242,5,1) -> 1.2315134 | N35: =VLOOKUP(E35,'Aging Factor'!$A$145:$H$242,8,1) -> 1.1588505 | O35: =(M35*$B$49*SQRT(K35))-((0.32989795*K35)-1.302) -> 13.961214 | P35: =K35*$B$50*M35*(G35/K35)/12500*'Degradation Model'!$B$26/F35 -> 4.8123909 | Q35: =P35-(100*AG35) -> 5.3586454 | R35: =((N35-1)*S35*J35/7) -> 2.1301402 | S35: =O35+P35 -> 18.773605 | T35: =(1-AC35)*100 -> 78.55 | U35: =281*T35/100 -> 220.7255 | V35: =W35/281*100 -> 64.852669 | W35: =T35*232/100 -> 182.236 | X35: 3.9 | Y35: =G35/((I35-D35)/365)*X35 -> 40909.79 | Z35: =X35-L35 -> 1.560274 | AA35: =IF(AND(X35<=5,Y35<60000),"Yes","No") -> Yes | AB35: =(S35+R35)/100 -> 0.20903745 | AC35: 0.2145 | AD35: =($B$75-H35)/$B$75 -> 0.25509434 | AE35: =AD35-AC35 -> 0.04059434 | AF35: =AD35-AB35 -> 0.046056885 | AG35: =AE35-AF35 -> -0.0054625456 | AH35: =AD35/AC35 -> 1.189251
A36: =1+A35 -> 32 | B36: palmermd | C36: 40589 | D36: 40632 | E36: Sacramento, CA | F36: 4.2 | G36: 18770 | H36: 57.45 | I36: 41537 | J36: 1 | K36: =(I36-C36)/365 -> 2.5972603 | L36: =(I36-D36)/365 -> 2.4794521 | M36: =VLOOKUP(E36,'Aging Factor'!$A$145:$H$242,5,1) -> 0.87881642 | N36: =VLOOKUP(E36,'Aging Factor'!$A$145:$H$242,8,1) -> 1.1854351 | O36: =(M36*$B$49*SQRT(K36))-((0.32989795*K36)-1.302) -> 10.217654 | P36: =K36*$B$50*M36*(G36/K36)/12500*'Degradation Model'!$B$26/F36 -> 2.9390374 | Q36: =P36-(100*AG36) -> 3.133816 | R36: =((N36-1)*S36*J36/7) -> 0.34853031 | S36: =O36+P36 -> 13.156691 | T36: =(1-AC36)*100 -> 86.3 | U36: =281*T36/100 -> 242.503 | V36: =W36/281*100 -> 71.251246 | W36: =T36*232/100 -> 200.216 | X36: 8.8 | Y36: =G36/((I36-D36)/365)*X36 -> 66617.945 | Z36: =X36-L36 -> 6.3205479 | AA36: =IF(AND(X36<=5,Y36<60000),"Yes","No") -> No | AB36: =(S36+R36)/100 -> 0.13505221 | AC36: 0.137 | AD36: =($B$75-H36)/$B$75 -> 0.13283019 | AE36: =AD36-AC36 -> -0.0041698113 | AF36: =AD36-AB36 -> -0.0022220255 | AG36: =AE36-AF36 -> -0.0019477858 | AH36: =AD36/AC36 -> 0.96956342
A37: =1+A36 -> 33 | B37: WetEV | C37: 40983 | D37: 41034 | E37: Seattle, WA | F37: 4.3 | G37: 15600 | H37: 62.78 | I37: 41531 | J37: 0.5 | K37: =(I37-C37)/365 -> 1.5013699 | L37: =(I37-D37)/365 -> 1.3616438 | M37: =VLOOKUP(E37,'Aging Factor'!$A$145:$H$242,5,1) -> 0.71790831 | N37: =VLOOKUP(E37,'Aging Factor'!$A$145:$H$242,8,1) -> 1.1074565 | O37: =(M37*$B$49*SQRT(K37))-((0.32989795*K37)-1.302) -> 6.876327 | P37: =K37*$B$50*M37*(G37/K37)/12500*'Degradation Model'!$B$26/F37 -> 1.9490236 | Q37: =P37-(100*AG37) -> 1.9959343 | R37: =((N37-1)*S37*J37/7) -> 0.067738648 | S37: =O37+P37 -> 8.8253506 | T37: =(1-AC37)*100 -> 91.06 | U37: =281*T37/100 -> 255.8786 | V37: =W37/281*100 -> 75.18121 | W37: =T37*232/100 -> 211.2592 | X37: 9.4 | Y37: =G37/((I37-D37)/365)*X37 -> 107693.36 | Z37: =X37-L37 -> 8.0383562 | AA37: =IF(AND(X37<=5,Y37<60000),"Yes","No") -> No | AB37: =(S37+R37)/100 -> 0.088930892 | AC37: 0.0894 | AD37: =($B$75-H37)/$B$75 -> 0.052377358 | AE37: =AD37-AC37 -> -0.037022642 | AF37: =AD37-AB37 -> -0.036553534 | AG37: =AE37-AF37 -> -0.00046910764 | AH37: =AD37/AC37 -> 0.58587649
A38: =1+A37 -> 34 | B38: tivollix | C38: 40709 | D38: 41136 | E38: Montreal, Canada | F38: 4.5 | G38: 8761 | H38: 58 | I38: 41528 | J38: 3.5 | K38: =(I38-C38)/365 -> 2.2438356 | L38: =(I38-D38)/365 -> 1.0739726 | M38: =VLOOKUP(E38,'Aging Factor'!$A$145:$H$242,5,1) -> 0.6806271 | N38: =VLOOKUP(E38,'Aging Factor'!$A$145:$H$242,8,1) -> 1 | O38: =(M38*$B$49*SQRT(K38))-((0.32989795*K38)-1.302) -> 7.5965971 | P38: =$B$50*M38*(G38/12500)*('Degradation Model'!$B$26/F38) -> 0.99161336 | Q38: =P38-(100*AG38) -> 1.7534029 | R38: =((N38-1)*S38*J38/7) -> 0 | S38: =O38+P38 -> 8.5882105 | T38: =(1-AC38)*100 -> 90.65 | U38: =281*T38/100 -> 254.7265 | V38: =W38/281*100 -> 74.842705 | W38: =T38*232/100 -> 210.308 | X38: 13.6 | Y38: =G38/((I38-D38)/365)*X38 -> 110942.87 | Z38: =X38-L38 -> 12.526027 | AA38: =IF(AND(X38<=5,Y38<60000),"Yes","No") -> No | AB38: =(S38+R38)/100 -> 0.085882105 | AC38: 0.0935 | AD38: =($B$75-H38)/$B$75 -> 0.1245283 | AE38: =AD38-AC38 -> 0.031028302 | AF38: =AD38-AB38 -> 0.038646197 | AG38: =AE38-AF38 -> -0.0076178955 | AH38: =AD38/AC38 -> 1.3318535 | AI38: Spent 14 months in California
A39: =1+A38 -> 35
A40: =1+A39 -> 36 | B40: 2013 Model
A41: =1+A40 -> 37
...

Sheet Degradation Model
A1: Values from TickTock's graph | I1: Empirically | J1: Aging Factor
I2: Derived | J2: Relative | K2: Calculated
B3: 6 months | C3: 1 year | D3: 2 years | E3: 5 years | F3: 10 years | G3: Miles | I3: Aging Factor | J3: to Normal | K3: Aging Factor
A5: Boston | B5: 94 | C5: 93 | D5: 90 | E5: 84 | G5: 12500 | I5: 0.75 | J5: =I5/$I$6 -> 0.83333333 | K5: 0.74
A6: Normal | C6: 92 | D6: 88 | E6: 80 | F6: 70 | G6: 12500 | I6: 0.9 | J6: =I6/$I$6 -> 1 | K6: 1
A7: Phoenix | B7: 92 | C7: 89 | D7: 85 | E7: 75 | G7: 7500 | I7: 1.35 | J7: =I7/$I$6 -> 1.5 | K7: 1.81
B10: 6 months | C10: 6 months | D10: 6 months | E10: 1 year | F10: 1 year | G10: 1 year | H10: 2 years | I10: 2 years | J10: 2 years | K10: 5 years | L10: 5 years | M10: 5 years | N10: 10 years | O10: 10 years | P10: 10 years
B11: Calendar | C11: Cycling | D11: Total | E11: Calendar | F11: Cycling | G11: Total | H11: Calendar | I11: Cycling | J11: Total | K11: Calendar | L11: Cycling | M11: Total | N11: Calendar | O11: Cycling | P11: Total
A13: Boston | B13: =$C$38*I5-$H$26 -> 4.7963291 | C13: =$I$5*Calibration!$B$50 -> 1.5 | D13: =B13+C13 -> 6.2963291 | E13: =Calibration!$B$49*I5-$I$26 -> 6.115 | F13: =$I$5*Calibration!$B$50 -> 1.5 | G13: =E13+F13 -> 7.615 | H13: =$C$40*I5-$J$26 -> 7.9985552 | I13: =2*F13 -> 3 | J13: =H13+I13 -> 10.998555 | K13: =$C$43*I5-$K$26 -> 11.221652 | L13: =5*F13 -> 7.5 | M13: =K13+L13 -> 18.721652 | N13: =$C$48*I5-$L$26 -> 14.364787 | O13: =10*F13 -> 15 | P13: =N13+O13 -> 29.364787
A14: Normal | B14: =$C$38*I6-$H$26 -> 5.5281846 | C14: =$I$6*Calibration!$B$50 -> 1.8 | D14: =B14+C14 -> 7.3281846 | E14: =Calibration!$B$49*I6-$I$26 -> 7.15 | F14: =$I$6*Calibration!$B$50 -> 1.8 | G14: =E14+F14 -> 8.95 | H14: =$C$40*I6-$J$26 -> 9.4622662 | I14: =2*F14 -> 3.6 | J14: =H14+I14 -> 13.062266 | K14: =$C$43*I6-$K$26 -> 13.535982 | L14: =5*F14 -> 9 | M14: =K14+L14 -> 22.535982 | N14: =$C$48*I6-$L$26 -> 17.637744 | O14: =10*F14 -> 18 | P14: =N14+O14 -> 35.637744
A15: Phoenix | B15: =$C$38*I7-$H$26 -> 7.7237512 | C15: =$I$7*Calibration!$B$50*$G$7/$G$6 -> 1.62 | D15: =B15+C15 -> 9.3437512 | E15: =Calibration!$B$49*I7-$I$26 -> 10.255 | F15: =$I$7*Calibration!$B$50*$G$7/$G$6 -> 1.62 | G15: =E15+F15 -> 11.875 | H15: =$C$40*I7-$J$26 -> 13.853399 | I15: =2*F15 -> 3.24 | J15: =H15+I15 -> 17.093399 | K15: =$C$43*I7-$K$26 -> 20.478973 | L15: =5*F15 -> 8.1 | M15: =K15+L15 -> 28.578973 | N15: =$C$48*I7-$L$26 -> 27.456616 | O15: =10*F15 -> 16.2 | P15: =N15+O15 -> 43.656616
A17: Boston Errors | D17: =D13-(100-B5) -> 0.29632909 | E17: =D17/D13 -> 0.047063787 | G17: =G13-(100-C5) -> 0.615 | H17: =G17/G13 -> 0.080761655 | J17: =J13-(100-D5) -> 0.99855519 | K17: =J17/J13 -> 0.090789669 | M17: =M13-(100-E5) -> 2.7216518 | N17: =M17/M13 -> 0.14537455
A18: Normal Errors | G18: =G14-(100-C6) -> 0.95 | H18: =G18/G14 -> 0.10614525 | J18: =J14-(100-D6) -> 1.0622662 | K18: =J18/J14 -> 0.081323271 | M18: =M14-(100-E6) -> 2.5359821 | N18: =M18/M14 -> 0.11253036 | P18: =P14-(100-F6) -> 5.6377443 | Q18: =P18/P14 -> 0.15819588
A19: Phoenix Errors | D19: =D15-(100-B7) -> 1.3437512 | E19: =D19/D15 -> 0.14381282 | G19: =G15-(100-C7) -> 0.875 | H19: =G19/G15 -> 0.073684211 | J19: =J15-(100-D7) -> 2.0933993 | K19: =J19/J15 -> 0.12246829 | M19: =M15-(100-E7) -> 3.5789732 | N19: =M19/M15 -> 0.12523099
A21: Average Absolute Error | D21: =(D17+D19)/2 -> 0.82004013 | G21: =AVERAGE(G17:G19) -> 0.81333333 | J21: =AVERAGE(J17:J19) -> 1.3847402 | M21: =AVERAGE(M17:M19) -> 2.9455357 | P21: =P18 -> 5.6377443
A22: Years | D22: 0.5 | G22: 1 | J22: 2 | M22: 5 | P22: 10
F24: Years | H24: 0.5 | I24: 1 | J24: 2 | K24: 5 | L24: 10
A26: LA4 Driving Cycle M/Kwh | B26: =100/21.381 -> 4.6770497 | F26: Calendar Correction Factor | H26: =0.5*0.329897-1.302 -> -1.1370515 | I26: -0.94 | J26: -0.68 | K26: 0.35 | L26: 2
F27: (see linear regression below)
C35: Calendar | D35: Additional
A36: Years | B36: SQRT(years) | C36: Loss (Total) | D36: Loss (/year)
A38: 0.5 | B38: =SQRT(A38) -> 0.70710678 | C38: =B38*Calibration!$B$49 -> 4.8790368
A39: 1 | B39: =SQRT(A39) -> 1 | C39: =B39*Calibration!$B$49 -> 6.9
A40: =1+A39 -> 2 | B40: =SQRT(A40) -> 1.4142136 | C40: =B40*Calibration!$B$49 -> 9.7580736 | D40: =C40-C39 -> 2.8580736
A41: =1+A40 -> 3 | B41: =SQRT(A41) -> 1.7320508 | C41: =B41*Calibration!$B$49 -> 11.951151 | D41: =C41-C40 -> 2.193077
A42: =1+A41 -> 4 | B42: =SQRT(A42) -> 2 | C42: =B42*Calibration!$B$49 -> 13.8 | D42: =C42-C41 -> 1.8488494
A43: =1+A42 -> 5 | B43: =SQRT(A43) -> 2.236068 | C43: =B43*Calibration!$B$49 -> 15.428869 | D43: =C43-C42 -> 1.628869
A44: =1+A43 -> 6 | B44: =SQRT(A44) -> 2.4494897 | C44: =B44*Calibration!$B$49 -> 16.901479 | D44: =C44-C43 -> 1.4726102
A45: =1+A44 -> 7 | B45: =SQRT(A45) -> 2.6457513 | C45: =B45*Calibration!$B$49 -> 18.255684 | D45: =C45-C44 -> 1.3542048
A46: =1+A45 -> 8 | B46: =SQRT(A46) -> 2.8284271 | C46: =B46*Calibration!$B$49 -> 19.516147 | D46: =C46-C45 -> 1.2604631
A47: =1+A46 -> 9 | B47: =SQRT(A47) -> 3 | C47: =B47*Calibration!$B$49 -> 20.7 | D47: =C47-C46 -> 1.1838528
A48: =1+A47 -> 10 | B48: =SQRT(A48) -> 3.1622777 | C48: =B48*Calibration!$B$49 -> 21.819716 | D48: =C48-C47 -> 1.1197159
A49: =1+A48 -> 11 | B49: =SQRT(A49) -> 3.3166248 | C49: =B49*Calibration!$B$49 -> 22.884711 | D49: =C49-C48 -> 1.0649952
A50: =1+A49 -> 12 | B50: =SQRT(A50) -> 3.4641016 | C50: =B50*Calibration!$B$49 -> 23.902301 | D50: =C50-C49 -> 1.0175901
A51: =1+A50 -> 13 | B51: =SQRT(A51) -> 3.6055513 | C51: =B51*Calibration!$B$49 -> 24.878304 | D51: =C51-C50 -> 0.97600266
... A53: =1+A52 -> 15 | B53: =SQRT(A53) -> 3.8729833 | C53: =B53*Calibration!$B$49 -> 26.723585 | D53: =C53-C52 -> 0.90614912
A56: Solar loading | C56: Degrees C. | D56: Degrees F. | E56: Aging Factor | F56: % Increase
C57: 1.3 | D57: =1.8*C57 -> 2.34 | E57: =2^(C57/10) -> 1.0942937 | F57: =E57*100-100 -> 9.4293701
C58: 3.1 | D58: =1.8*C58 -> 5.58 | E58: =2^(C58/10) -> 1.2397077 | F58: =E58*100-100 -> 23.97077
D61: Corrected | F61: Predicted | G61: Actual
...

Sheet Aging Factor
B1: Santa Monica, CA | E1: Boston, MA | H1: Fort Lauderdale, FL | K1: Ridgecrest, CA | N1: San Francisco, CA | Q1: Portland, OR | T1: Palm Springs, CA | W1: Nashville, TN | Z1: Ota, Japan | AC1: Dubai, UAE | AF1: Omaha, Nebraska | AI1: Rygge, Norway
D2: Calculated | G2: Calculated | J2: Calculated | M2: Calculated | P2: Calculated | S2: Calculated | V2: Calculated | Y2: Calculated | AB2: Calculated | AE2: Calculated | AH2: Calculated | AK2: Calculated
A3: Temp Band (Median) | B3: Pixels | C3: Percent | D3: Aging Factor | E3: Pixels | F3: Percent | G3: Aging Factor | H3: Pixels | I3: Percent | J3: Aging Factor | K3: Pixels | L3: Percent | M3: Aging Factor | N3: Pixels | O3: Percent | P3: Aging Factor | Q3: Pixels | R3: Percent | S3: Aging Factor | T3: Pixels | U3: Percent | V3: Aging Factor | W3: Pixels | X3: Percent | Y3: Aging Factor | Z3: Pixels | AA3: Percent | AB3: Aging Factor | AC3: Pixels | AD3: Percent | AE3: Aging Factor | AF3: Pixels | AG3: Percent | AH3: Aging Factor | AI3: Pixels | AJ3: Percent | AK3: Aging Factor
A5: Sweltering (105 degrees) | B5: 0 | C5: =+B5/$B$14*100 -> 0 | D5: =((C5*$A$25)+(C6*$A$26)+(C7*$A$27)+(C8*$A$28)+(C9*$A$29)+(C10*$A$30)+(C11*$A$31)+(C12*$A$32))/100 -> 0.75914059 | E5: 0 | F5: =+E5/$E$14*100 -> 0 | G5: =((F5*$A$25)+(F6*$A$26)+(F7*$A$27)+(F8*$A$28)+(F9*$A$29)+(F10*$A$30)+(F11*$A$31)+(F12*$A$32))/100 -> 0.59917001 | H5: 0 | I5: =+H5/$H$14*100 -> 0 | J5: =((I5*$A$25)+(I6*$A$26)+(I7*$A$27)+(I8*$A$28)+(I9*$A$29)+(I10*$A$30)+(I11*$A$31)+(I12*$A$32))/100 -> 1.3686478 | K5: 4376 | L5: =+K5/$K$14*100 -> 4.3868795 | M5: =((L5*$A$25)+(L6*$A$26)+(L7*$A$27)+(L8*$A$28)+(L9*$A$29)+(L10*$A$30)+(L11*$A$31)+(L12*$A$32))/100 -> 1.1156838 | N5: 0 | O5: =+N5/$N$14*100 -> 0 | P5: =((O5*$A$25)+(O6*$A$26)+(O7*$A$27)+(O8*$A$28)+(O9*$A$29)+(O10*$A$30)+(O11*$A$31)+(O12*$A$32))/100 -> 0.61646106 | Q5: 0 | R5: =+Q5/$Q$14*100 -> 0 | S5: =((R5*$A$25)+(R6*$A$26)+(R7*$A$27)+(R8*$A$28)+(R9*$A$29)+(R10*$A$30)+(R11*$A$31)+(R12*$A$32))/100 -> 0.58491857 | T5: 6667 | U5: =+T5/$T$14*100 -> 6.6359438 | V5: =((U5*$A$25)+(U6*$A$26)+(U7*$A$27)+(U8*$A$28)+(U9*$A$29)+(U10*$A$30)+(U11*$A$31)+(U12*$A$32))/100 -> 1.4423793 | W5: 0 | X5: =+W5/$W$14*100 -> 0 | Y5: =((X5*$A$25)+(X6*$A$26)+(X7*$A$27)+(X8*$A$28)+(X9*$A$29)+(X10*$A$30)+(X11*$A$31)+(X12*$A$32))/100 -> 0.82797419 | Z5: 0 | AA5: =+Z5/$Z$14*100 -> 0 | AB5: =((AA5*$A$25)+(AA6*$A$26)+(AA7*$A$27)+(AA8*$A$28)+(AA9*$A$29)+(AA10*$A$30)+(AA11*$A$31)+(AA12*$A$32))/100 -> 0.80151369 | AC5: 6122 | AD5: =+AC5/$AC$14*100 -> 6.1212654 | AE5: =((AD5*$A$25)+(AD6*$A$26)+(AD7*$A$27)+(AD8*$A$28)+(AD9*$A$29)+(AD10*$A$30)+(AD11*$A$31)+(AD12*$A$32))/100 -> 1.768091 | AF5: 0 | AG5: =+AF5/$AF$14*100 -> 0 | AH5: =((AG5*$A$25)+(AG6*$A$26)+(AG7*$A$27)+(AG8*$A$28)+(AG9*$A$29)+(AG10*$A$30)+(AG11*$A$31)+(AG12*$A$32))/100 -> 0.66116865 | AI5: 0 | AJ5: =AI5/$AI$14*100 -> 0 | AK5: =((AJ5*$A$25)+(AJ6*$A$26)+(AJ7*$A$27)+(AJ8*$A$28)+(AJ9*$A$29)+(AJ10*$A$30)+(AJ11*$A$31)+(AJ12*$A$32))/100 -> 0.42011966
A6: Very Hot (92.5 degrees) | B6: 0 | C6: =+B6/$B$14*100 -> 0 | E6: 1320 | F6: =+E6/$E$14*100 -> 1.3157764 | H6: 10351 | I6: =+H6/$H$14*100 -> 10.437632 | K6: 14196 | L6: =+K6/$K$14*100 -> 14.231294 | N6: 0 | O6: =+N6/$N$14*100 -> 0 | Q6: 1046 | R6: =+Q6/$Q$14*100 -> 1.0465023 | T6: 22161 | U6: =+T6/$T$14*100 -> 22.05777 | W6: 5512 | X6: =+W6/$W$14*100 -> 5.5226034 | Z6: 2815 | AA6: =+Z6/$Z$14*100 -> 2.8258229 | AC6: 36817 | AD6: =+AC6/$AC$14*100 -> 36.812582 | AF6: 3774 | AG6: =+AF6/$AF$14*100 -> 3.7680465 | AI6: 0 | AJ6: =AI6/$AI$14*100 -> 0
A7: Hot (80 degrees) | B7: 5356 | C7: =+B7/$B$14*100 -> 5.3502218 | E7: 7500 | F7: =+E7/$E$14*100 -> 7.476002 | H7: =66157-H6 -> 55806 | I7: =+H7/$H$14*100 -> 56.273066 | K7: 14351 | L7: =+K7/$K$14*100 -> 14.386679 | N7: 1745 | O7: =+N7/$N$14*100 -> 1.7429433 | Q7: 4600 | R7: =+Q7/$Q$14*100 -> 4.6022091 | T7: 20033 | U7: =+T7/$T$14*100 -> 19.939682 | W7: 16449 | X7: =+W7/$W$14*100 -> 16.480643 | Z7: 16686 | AA7: =+Z7/$Z$14*100 -> 16.750153 | AC7: 25987 | AD7: =+AC7/$AC$14*100 -> 25.983882 | AF7: 11538 | AG7: =+AF7/$AF$14*100 -> 11.519799 | AI7: 963 | AJ7: =AI7/$AI$14*100 -> 0.95534767
A8: Comfortable (70 degrees) | B8: 29047 | C8: =+B8/$B$14*100 -> 29.015663 | E8: 15710 | F8: =+E8/$E$14*100 -> 15.659732 | H8: 23524 | I8: =+H8/$H$14*100 -> 23.720883 | K8: 15791 | L8: =+K8/$K$14*100 -> 15.830259 | N8: 10115 | O8: =+N8/$N$14*100 -> 10.103078 | Q8: 10785 | R8: =+Q8/$Q$14*100 -> 10.790179 | T8: 19037 | U8: =+T8/$T$14*100 -> 18.948322 | W8: 20603 | X8: =+W8/$W$14*100 -> 20.642634 | Z8: 20958 | AA8: =+Z8/$Z$14*100 -> 21.038578 | AC8: 21719 | AD8: =+AC8/$AC$14*100 -> 21.716394 | AF8: 15212 | AG8: =+AF8/$AF$14*100 -> 15.188003 | AI8: 5411 | AJ8: =AI8/$AI$14*100 -> 5.3680023
A9: Cool (57.5 degrees) | B9: 60457 | C9: =+B9/$B$14*100 -> 60.391777 | E9: 27337 | F9: =+E9/$E$14*100 -> 27.249529 | H9: 8464 | I9: =+H9/$H$14*100 -> 8.5348392 | K9: 26322 | L9: =+K9/$K$14*100 -> 26.387441 | N9: 69333 | O9: =+N9/$N$14*100 -> 69.251283 | Q9: 39742 | R9: =+Q9/$Q$14*100 -> 39.761085 | T9: 25473 | U9: =+T9/$T$14*100 -> 25.354342 | W9: 25253 | X9: =+W9/$W$14*100 -> 25.301579 | Z9: 28886 | AA9: =+Z9/$Z$14*100 -> 28.997059 | AC9: 9367 | AD9: =+AC9/$AC$14*100 -> 9.3658761 | AF9: 21830 | AG9: =+AF9/$AF$14*100 -> 21.795563 | AI9: 29781 | AJ9: =AI9/$AI$14*100 -> 29.54435
A10: Cold (41 degrees) | B10: 5248 | C10: =+B10/$B$14*100 -> 5.2423383 | E10: 33338 | F10: =+E10/$E$14*100 -> 33.231327 | H10: 1025 | I10: =+H10/$H$14*100 -> 1.0335787 | K10: 21261 | L10: =+K10/$K$14*100 -> 21.313858 | N10: 18925 | O10: =+N10/$N$14*100 -> 18.902695 | Q10: 40918 | R10: =+Q10/$Q$14*100 -> 40.93765 | T10: 7097 | U10: =+T10/$T$14*100 -> 7.0639408 | W10: 23936 | X10: =+W10/$W$14*100 -> 23.982046 | Z10: 29697 | AA10: =+Z10/$Z$14*100 -> 29.811177 | AC10: 0 | AD10: =+AC10/$AC$14*100 -> 0 | AF10: 24842 | AG10: =+AF10/$AF$14*100 -> 24.802812 | AI10: 40937 | AJ10: =AI10/$AI$14*100 -> 40.6117
A11: Freezing (23.5 degrees) | B11: 0 | C11: =+B11/$B$14*100 -> 0 | E11: 13767 | F11: =+E11/$E$14*100 -> 13.722949 | H11: 0 | I11: =+H11/$H$14*100 -> 0 | K11: 3455 | L11: =+K11/$K$14*100 -> 3.4635897 | N11: 0 | O11: =+N11/$N$14*100 -> 0 | Q11: 2861 | R11: =+Q11/$Q$14*100 -> 2.8623739 | T11: 0 | U11: =+T11/$T$14*100 -> 0 | W11: 7546 | X11: =+W11/$W$14*100 -> 7.5605162 | Z11: 575 | AA11: =+Z11/$Z$14*100 -> 0.57721072 | AC11: 0 | AD11: =+AC11/$AC$14*100 -> 0 | AF11: 17379 | AG11: =+AF11/$AF$14*100 -> 17.351584 | AI11: 20198 | AJ11: =AI11/$AI$14*100 -> 20.0375
A12: Frigid (10 degrees) | B12: 0 | C12: =+B12/$B$14*100 -> 0 | E12: 1349 | F12: =+E12/$E$14*100 -> 1.3446836 | H12: 0 | I12: =+H12/$H$14*100 -> 0 | L12: =+K12/$K$14*100 -> 0 | N12: 0 | O12: =+N12/$N$14*100 -> 0 | Q12: 0 | R12: =+Q12/$Q$14*100 -> 0 | T12: 0 | U12: =+T12/$T$14*100 -> 0 | W12: 509 | X12: =+W12/$W$14*100 -> 0.50997916 | Z12: 0 | AA12: =+Z12/$Z$14*100 -> 0 | AC12: 0 | AD12: =+AC12/$AC$14*100 -> 0 | AF12: 5583 | AG12: =+AF12/$AF$14*100 -> 5.5741928 | AI12: 3511 | AJ12: =AI12/$AI$14*100 -> 3.4831004
B14: =SUM(B7:B10) -> 100108 | C14: =SUM(C7:C10) -> 100 | E14: =SUM(E6:E12) -> 100321 | F14: =SUM(F6:F12) -> 100 | H14: =SUM(H6:H12) -> 99170 | I14: =SUM(I6:I12) -> 100 | K14: =SUM(K5:K12) -> 99752 | L14: =SUM(L5:L12) -> 100 | N14: =SUM(N5:N12) -> 100118 | O14: =SUM(O5:O12) -> 100 | Q14: =SUM(Q5:Q12) -> 99952 | R14: =SUM(R5:R12) -> 100 | T14: =SUM(T5:T12) -> 100468 | U14: =SUM(U5:U12) -> 100 | W14: =SUM(W5:W12) -> 99808 | X14: =SUM(X5:X12) -> 100 | Z14: =SUM(Z5:Z12) -> 99617 | AA14: =SUM(AA5:AA12) -> 100 | AC14: =SUM(AC5:AC12) -> 100012 | AD14: =SUM(AD5:AD12) -> 100 | AF14: =SUM(AF5:AF12) -> 100158 | AG14: =SUM(AG5:AG12) -> 100 | AI14: =SUM(AI5:AI12) -> 100801 | AJ14: =SUM(AJ5:AJ12) -> 100
A16: Actual pixels | B16: 99301 | E16: 99301 | H16: 98802 | K16: 99301 | N16: 99301 | Q16: 99301 | T16: 99301 | W16: 99301 | Z16: 99301 | AC16: 99301 | AF16: 99301 | AI16: 99301
